BEGIN:VCALENDAR
VERSION:2.0
PRODID:-//Greater Raritan - ECPv6.15.20//NONSGML v1.0//EN
CALSCALE:GREGORIAN
METHOD:PUBLISH
X-WR-CALNAME:Greater Raritan
X-ORIGINAL-URL:https://thegrwdb.org
X-WR-CALDESC:Events for Greater Raritan
REFRESH-INTERVAL;VALUE=DURATION:PT1H
X-Robots-Tag:noindex
X-PUBLISHED-TTL:PT1H
BEGIN:VTIMEZONE
TZID:America/New_York
BEGIN:DAYLIGHT
TZOFFSETFROM:-0500
TZOFFSETTO:-0400
TZNAME:EDT
DTSTART:20230312T070000
END:DAYLIGHT
BEGIN:STANDARD
TZOFFSETFROM:-0400
TZOFFSETTO:-0500
TZNAME:EST
DTSTART:20231105T060000
END:STANDARD
BEGIN:DAYLIGHT
TZOFFSETFROM:-0500
TZOFFSETTO:-0400
TZNAME:EDT
DTSTART:20240310T070000
END:DAYLIGHT
BEGIN:STANDARD
TZOFFSETFROM:-0400
TZOFFSETTO:-0500
TZNAME:EST
DTSTART:20241103T060000
END:STANDARD
BEGIN:DAYLIGHT
TZOFFSETFROM:-0500
TZOFFSETTO:-0400
TZNAME:EDT
DTSTART:20250309T070000
END:DAYLIGHT
BEGIN:STANDARD
TZOFFSETFROM:-0400
TZOFFSETTO:-0500
TZNAME:EST
DTSTART:20251102T060000
END:STANDARD
END:VTIMEZONE
BEGIN:VEVENT
DTSTART;TZID=America/New_York:20240130T090000
DTEND;TZID=America/New_York:20240130T130000
DTSTAMP:20260425T083001
CREATED:20240117T030014Z
LAST-MODIFIED:20240117T030014Z
UID:3270-1706605200-1706619600@thegrwdb.org
SUMMARY:New Jersey Department of Health 2024 Job Fair
DESCRIPTION:The New Jersey Department of Health 2024 Job Fair will be conducted from 9 a.m. to 1 p.m. Tuesday\, January 30\, at the National Guard Armory\, 151 Eggert Crossing Road\, Lawrenceville. \nAttendees will have the opportunity to meet with recruiters face-to-face and learn about job openings at the New Jersey Department of Health. \nNo registration is required to attend\, and job seekers should bring copies of their resumes. \nVisit https://nj.gov/health/jobs.
URL:https://thegrwdb.org/event/new-jersey-department-of-health-2024-job-fair/
LOCATION:National Guard Armory\, 151 Eggert Crossing Road\, Lawrenceville\, NJ\, 08648\, United States
CATEGORIES:Career Fair
END:VEVENT
BEGIN:VEVENT
DTSTART;TZID=America/New_York:20240124T100000
DTEND;TZID=America/New_York:20240124T150000
DTSTAMP:20260425T083001
CREATED:20240105T192420Z
LAST-MODIFIED:20240105T192420Z
UID:3267-1706090400-1706108400@thegrwdb.org
SUMMARY:PRAB ECC Job Fair
DESCRIPTION:PRAB\, a human services agency in Central Jersey\, is hosting a Job Fair for its Early Childhood Centers in New Brunswick on Wednesday\, January 24\, from 10 a.m. to 12 p.m. and 1 to 3 p.m. \nThe event will be conducted at 754 Route 18\, Suite 202\, East Brunswick. \nVisit www.prab.org/careers/ or scan the QR code in this flyer for more information.
URL:https://thegrwdb.org/event/prab-ecc-job-fair/
LOCATION:PRAB\, 754 Route 18\, Suite 202\, East Brunswick\, NJ\, 08816\, United States
CATEGORIES:Career Fair
END:VEVENT
BEGIN:VEVENT
DTSTART;TZID=America/New_York:20240117T110000
DTEND;TZID=America/New_York:20240117T120000
DTSTAMP:20260425T083001
CREATED:20240110T203842Z
LAST-MODIFIED:20240110T203842Z
UID:3269-1705489200-1705492800@thegrwdb.org
SUMMARY:Workforce Wednesday Webinar: Telling Your Story
DESCRIPTION:The Middlesex County Office of Workforce and Career Development’s next Workforce Wednesday webinar at 11 a.m. January 17 will be on “Telling Your Story: The Cornerstone of Networking.”‘ \nCareer coach Win Sheffield will cover how job seekers can “pitch” themselves effectively during interviews\, how to build professional relationships\, and ways to network with professionals in their field. \nUse the QR code in this flyer to register to attend the free webinar. \nFor information about this and other upcoming events\, call the Middlesex County Office of Career Opportunity at 732-745-3955.
URL:https://thegrwdb.org/event/workforce-wednesday-webinar-telling-your-story/
LOCATION:Zoom
CATEGORIES:Workshops
END:VEVENT
END:VCALENDAR