BEGIN:VCALENDAR
VERSION:2.0
PRODID:-//Greater Raritan - ECPv6.15.20//NONSGML v1.0//EN
CALSCALE:GREGORIAN
METHOD:PUBLISH
X-WR-CALNAME:Greater Raritan
X-ORIGINAL-URL:https://thegrwdb.org
X-WR-CALDESC:Events for Greater Raritan
REFRESH-INTERVAL;VALUE=DURATION:PT1H
X-Robots-Tag:noindex
X-PUBLISHED-TTL:PT1H
BEGIN:VTIMEZONE
TZID:America/New_York
BEGIN:DAYLIGHT
TZOFFSETFROM:-0500
TZOFFSETTO:-0400
TZNAME:EDT
DTSTART:20230312T070000
END:DAYLIGHT
BEGIN:STANDARD
TZOFFSETFROM:-0400
TZOFFSETTO:-0500
TZNAME:EST
DTSTART:20231105T060000
END:STANDARD
BEGIN:DAYLIGHT
TZOFFSETFROM:-0500
TZOFFSETTO:-0400
TZNAME:EDT
DTSTART:20240310T070000
END:DAYLIGHT
BEGIN:STANDARD
TZOFFSETFROM:-0400
TZOFFSETTO:-0500
TZNAME:EST
DTSTART:20241103T060000
END:STANDARD
BEGIN:DAYLIGHT
TZOFFSETFROM:-0500
TZOFFSETTO:-0400
TZNAME:EDT
DTSTART:20250309T070000
END:DAYLIGHT
BEGIN:STANDARD
TZOFFSETFROM:-0400
TZOFFSETTO:-0500
TZNAME:EST
DTSTART:20251102T060000
END:STANDARD
END:VTIMEZONE
BEGIN:VEVENT
DTSTART;TZID=America/New_York:20240117T110000
DTEND;TZID=America/New_York:20240117T120000
DTSTAMP:20260425T075951
CREATED:20240110T203842Z
LAST-MODIFIED:20240110T203842Z
UID:3269-1705489200-1705492800@thegrwdb.org
SUMMARY:Workforce Wednesday Webinar: Telling Your Story
DESCRIPTION:The Middlesex County Office of Workforce and Career Development’s next Workforce Wednesday webinar at 11 a.m. January 17 will be on “Telling Your Story: The Cornerstone of Networking.”‘ \nCareer coach Win Sheffield will cover how job seekers can “pitch” themselves effectively during interviews\, how to build professional relationships\, and ways to network with professionals in their field. \nUse the QR code in this flyer to register to attend the free webinar. \nFor information about this and other upcoming events\, call the Middlesex County Office of Career Opportunity at 732-745-3955.
URL:https://thegrwdb.org/event/workforce-wednesday-webinar-telling-your-story/
LOCATION:Zoom
CATEGORIES:Workshops
END:VEVENT
END:VCALENDAR