BEGIN:VCALENDAR
VERSION:2.0
PRODID:-//Greater Raritan - ECPv6.15.20//NONSGML v1.0//EN
CALSCALE:GREGORIAN
METHOD:PUBLISH
X-WR-CALNAME:Greater Raritan
X-ORIGINAL-URL:https://thegrwdb.org
X-WR-CALDESC:Events for Greater Raritan
REFRESH-INTERVAL;VALUE=DURATION:PT1H
X-Robots-Tag:noindex
X-PUBLISHED-TTL:PT1H
BEGIN:VTIMEZONE
TZID:America/New_York
BEGIN:DAYLIGHT
TZOFFSETFROM:-0500
TZOFFSETTO:-0400
TZNAME:EDT
DTSTART:20250309T070000
END:DAYLIGHT
BEGIN:STANDARD
TZOFFSETFROM:-0400
TZOFFSETTO:-0500
TZNAME:EST
DTSTART:20251102T060000
END:STANDARD
BEGIN:DAYLIGHT
TZOFFSETFROM:-0500
TZOFFSETTO:-0400
TZNAME:EDT
DTSTART:20260308T070000
END:DAYLIGHT
BEGIN:STANDARD
TZOFFSETFROM:-0400
TZOFFSETTO:-0500
TZNAME:EST
DTSTART:20261101T060000
END:STANDARD
BEGIN:DAYLIGHT
TZOFFSETFROM:-0500
TZOFFSETTO:-0400
TZNAME:EDT
DTSTART:20270314T070000
END:DAYLIGHT
BEGIN:STANDARD
TZOFFSETFROM:-0400
TZOFFSETTO:-0500
TZNAME:EST
DTSTART:20271107T060000
END:STANDARD
END:VTIMEZONE
BEGIN:VEVENT
DTSTART;TZID=America/New_York:20260212T180000
DTEND;TZID=America/New_York:20260212T190000
DTSTAMP:20260422T202712
CREATED:20260112T010814Z
LAST-MODIFIED:20260112T010814Z
UID:3899-1770919200-1770922800@thegrwdb.org
SUMMARY:CJRHC Financial Literacy Webinar Series – Budgeting
DESCRIPTION:Financial literacy is more important than ever. To help community members get on a sound financial footing\, the Central Jersey Housing Resource Center (CJHRC) is presenting a three-part Financial Literacy webinar series. Each of the following webinars on three Thursdays in February will run from 6 to 7 p.m.: \n\nPart 1: Budgeting\, on Thursday\, February 12\, with Turney Singh Baba from Santander Bank.\nPart 2: Credit\, on Thursday\, February 19\, with Luis Pachon from Provident Bank.\nPart 3: Debt-to-Income\, on Thursday\, February 26\, with Michelle Brown from Bank of America.\n\nThose who attend all three sessions will obtain a 12-month certificate. \nTo register for the February 12 event\, go here. \nTo register for the February 19 event\, go here. \nTo register for the February 26 event\, go here \nQuestions? Call CJHRC at 908-446-0036.
URL:https://thegrwdb.org/event/cjrhc-financial-literacy-webinar-series-budgeting/
LOCATION:Virtual Event
CATEGORIES:Workshops
END:VEVENT
END:VCALENDAR