BEGIN:VCALENDAR
VERSION:2.0
PRODID:-//Greater Raritan - ECPv6.15.20//NONSGML v1.0//EN
CALSCALE:GREGORIAN
METHOD:PUBLISH
X-ORIGINAL-URL:https://thegrwdb.org
X-WR-CALDESC:Events for Greater Raritan
REFRESH-INTERVAL;VALUE=DURATION:PT1H
X-Robots-Tag:noindex
X-PUBLISHED-TTL:PT1H
BEGIN:VTIMEZONE
TZID:America/New_York
BEGIN:DAYLIGHT
TZOFFSETFROM:-0500
TZOFFSETTO:-0400
TZNAME:EDT
DTSTART:20230312T070000
END:DAYLIGHT
BEGIN:STANDARD
TZOFFSETFROM:-0400
TZOFFSETTO:-0500
TZNAME:EST
DTSTART:20231105T060000
END:STANDARD
BEGIN:DAYLIGHT
TZOFFSETFROM:-0500
TZOFFSETTO:-0400
TZNAME:EDT
DTSTART:20240310T070000
END:DAYLIGHT
BEGIN:STANDARD
TZOFFSETFROM:-0400
TZOFFSETTO:-0500
TZNAME:EST
DTSTART:20241103T060000
END:STANDARD
BEGIN:DAYLIGHT
TZOFFSETFROM:-0500
TZOFFSETTO:-0400
TZNAME:EDT
DTSTART:20250309T070000
END:DAYLIGHT
BEGIN:STANDARD
TZOFFSETFROM:-0400
TZOFFSETTO:-0500
TZNAME:EST
DTSTART:20251102T060000
END:STANDARD
END:VTIMEZONE
BEGIN:VEVENT
DTSTART;TZID=America/New_York:20240905T090000
DTEND;TZID=America/New_York:20240905T130000
DTSTAMP:20260424T020535
CREATED:20240821T030644Z
LAST-MODIFIED:20240821T030644Z
UID:3419-1725526800-1725541200@thegrwdb.org
SUMMARY:Norwescap Computer Class Series: Basic Computer 1
DESCRIPTION:Norwescap CLTC’s Computer Class Series is designed to help class participants build a strong foundation using computers. This month’s free series will be conducted in person at the Washington Public Library\, at 20 Carlton Ave\, Washington\, NJ 07882. using the library’s computers and internet. Class time for the following classes is 9 a.m. to 1 p.m. \nSeptember 5 and 10 – Basic Computer 1 and 2: This class will cover the types of computers\, differences in hardware and software\, Windows operating system overview\, file management\, considerations for purchasing a computer\, and browser and search engine overviews. \nSeptember 12 – Office 365 Word: This class will discuss the evolution of word processing\, how Microsoft Word has influenced producing documents\, review key Word options\, functions and settings\, explain how to use tables and templates\, review guidelines to create professional documents and provide opportunities to practice using Word. \nSeptember 17 – Office 365 Excel – This class will explain what Microsoft Excel is and how it can be used in many different ways.  It will go over basic functionality such as rows\, columns\, and cells and how to enter and reference data.  Attendees will learn how to write basic excel functions and understand ow how they can be used in everyday applications such as budgeting.  The class will cover the key Excel options and settings and will touch on reporting capabilities using pivot tables and charts (at a high level). \nSeptember 19 -Office 365 PowerPoint – This class will explain how to use Microsoft PowerPoint to create powerful\, interesting presentations.  Attendees will learn how to use text\, images\, video\, photos\, color and designs to customize presentations and make them interesting.  The class members will review guidelines to use in creating business presentations\, how to utilize templates\, and will practice giving presentations based on exercises we complete in class. \nRegistration is required. Call Terry at 908-788-1453 or 908-283-0519 from 9 a.m. to 5 p.m. Monday to Friday.
URL:https://thegrwdb.org/event/norwescap-computer-class-series-basic-computer-1/
LOCATION:Washington Borough Public Library\, 20 Carlton Ave.\, Washington\, NJ\, 07882\, United States
CATEGORIES:Workshops
END:VEVENT
BEGIN:VEVENT
DTSTART;TZID=America/New_York:20240910T090000
DTEND;TZID=America/New_York:20240910T130000
DTSTAMP:20260424T020535
CREATED:20240821T030848Z
LAST-MODIFIED:20240821T030848Z
UID:3420-1725958800-1725973200@thegrwdb.org
SUMMARY:Norwescap Computer Class Series: Basic Computer 2
DESCRIPTION:Norwescap CLTC’s Computer Class Series is designed to help class participants build a strong foundation using computers. This month’s free series will be conducted in person at the Washington Public Library\, at 20 Carlton Ave\, Washington\, NJ 07882. using the library’s computers and internet. Class time for the following classes is 9 a.m. to 1 p.m. \nSeptember 5 and 10 – Basic Computer 1 and 2: This class will cover the types of computers\, differences in hardware and software\, Windows operating system overview\, file management\, considerations for purchasing a computer\, and browser and search engine overviews. \nSeptember 12 – Office 365 Word: This class will discuss the evolution of word processing\, how Microsoft Word has influenced producing documents\, review key Word options\, functions and settings\, explain how to use tables and templates\, review guidelines to create professional documents and provide opportunities to practice using Word. \nSeptember 17 – Office 365 Excel – This class will explain what Microsoft Excel is and how it can be used in many different ways.  It will go over basic functionality such as rows\, columns\, and cells and how to enter and reference data.  Attendees will learn how to write basic excel functions and understand ow how they can be used in everyday applications such as budgeting.  The class will cover the key Excel options and settings and will touch on reporting capabilities using pivot tables and charts (at a high level). \nSeptember 19 -Office 365 PowerPoint – This class will explain how to use Microsoft PowerPoint to create powerful\, interesting presentations.  Attendees will learn how to use text\, images\, video\, photos\, color and designs to customize presentations and make them interesting.  The class members will review guidelines to use in creating business presentations\, how to utilize templates\, and will practice giving presentations based on exercises we complete in class. \nRegistration is required. Call Terry at 908-788-1453 or 908-283-0519 from 9 a.m. to 5 p.m. Monday to Friday.
URL:https://thegrwdb.org/event/norwescap-computer-class-series-basic-computer-2/
LOCATION:Washington Borough Public Library\, 20 Carlton Ave.\, Washington\, NJ\, 07882\, United States
CATEGORIES:Workshops
END:VEVENT
BEGIN:VEVENT
DTSTART;TZID=America/New_York:20240910T123000
DTEND;TZID=America/New_York:20240910T143000
DTSTAMP:20260424T020535
CREATED:20240814T190718Z
LAST-MODIFIED:20240814T190718Z
UID:3413-1725971400-1725978600@thegrwdb.org
SUMMARY:Career Webinar: Tips for Applying for a Federal Job
DESCRIPTION:The U.S. Department of Labor is currently hiring for many positions\, but applying for a federal job is very different than applying for a private sector job. Wondering how an applicant is referred to a selecting official for consideration and why? \nDuring a Sept. 10 webinar\, participants will learn how to effectively compete for federal jobs from a seasoned Human Resources Specialist who has years of experience qualifying and disqualifying applicants. Participants also will learn about the different hiring authorities available to veterans and individuals with disabilities. The workshop is approximately two hours long. \nThe webinar will run from 12:30 to 2 p.m. Register using the following link: https://events.gcc.teams.microsoft.com/event/1a23a005-b8b7-42c2-b5cb-b584d9f9d828@75a63054-7204-4e0c-9126-adab971d4aca. \nThe workshop is free courtesy of the Division of Workforce Development and Inclusion in the U.S. Department of Labor. \nTo see all the jobs in the U.S. Department of Labor go to: https://link.edgepilot.com/s/f0383713/slz_MeDxjkC1_ZQiR1YH9A?u=https://www.usajobs.gov/Search?d=DL. \n 
URL:https://thegrwdb.org/event/career-webinar-tips-for-applying-for-a-federal-job/
LOCATION:Virtual Event
CATEGORIES:Workshops
END:VEVENT
BEGIN:VEVENT
DTSTART;TZID=America/New_York:20240912T090000
DTEND;TZID=America/New_York:20240912T130000
DTSTAMP:20260424T020535
CREATED:20240821T031019Z
LAST-MODIFIED:20240821T031019Z
UID:3421-1726131600-1726146000@thegrwdb.org
SUMMARY:Norwescap Computer Class Series: Office 365 Word
DESCRIPTION:Norwescap CLTC’s Computer Class Series is designed to help class participants build a strong foundation using computers. This month’s free series will be conducted in person at the Washington Public Library\, at 20 Carlton Ave\, Washington\, NJ 07882. using the library’s computers and internet. Class time for the following classes is 9 a.m. to 1 p.m. \nSeptember 5 and 10 – Basic Computer 1 and 2: This class will cover the types of computers\, differences in hardware and software\, Windows operating system overview\, file management\, considerations for purchasing a computer\, and browser and search engine overviews. \nSeptember 12 – Office 365 Word: This class will discuss the evolution of word processing\, how Microsoft Word has influenced producing documents\, review key Word options\, functions and settings\, explain how to use tables and templates\, review guidelines to create professional documents and provide opportunities to practice using Word. \nSeptember 17 – Office 365 Excel – This class will explain what Microsoft Excel is and how it can be used in many different ways.  It will go over basic functionality such as rows\, columns\, and cells and how to enter and reference data.  Attendees will learn how to write basic excel functions and understand ow how they can be used in everyday applications such as budgeting.  The class will cover the key Excel options and settings and will touch on reporting capabilities using pivot tables and charts (at a high level). \nSeptember 19 -Office 365 PowerPoint – This class will explain how to use Microsoft PowerPoint to create powerful\, interesting presentations.  Attendees will learn how to use text\, images\, video\, photos\, color and designs to customize presentations and make them interesting.  The class members will review guidelines to use in creating business presentations\, how to utilize templates\, and will practice giving presentations based on exercises we complete in class. \nRegistration is required. Call Terry at 908-788-1453 or 908-283-0519 from 9 a.m. to 5 p.m. Monday to Friday.
URL:https://thegrwdb.org/event/norwescap-computer-class-series-office-365-word/
LOCATION:Washington Borough Public Library\, 20 Carlton Ave.\, Washington\, NJ\, 07882\, United States
CATEGORIES:Workshops
END:VEVENT
BEGIN:VEVENT
DTSTART;TZID=America/New_York:20240912T173000
DTEND;TZID=America/New_York:20240912T193000
DTSTAMP:20260424T020535
CREATED:20240831T021926Z
LAST-MODIFIED:20240831T021926Z
UID:3429-1726162200-1726169400@thegrwdb.org
SUMMARY:JFS Career Services Program Job Search Series: Building Your Network
DESCRIPTION:Jewish Family Service’s Career Services Program will present the first program in an ongoing free Job Search Series on Thursday\, September 12\, from 5:30 to 7:30 p.m. in the Somerset County Business Partnership’s Business Hub\, 50 Division St.\, fourth floor\, Somerville. \nJohn Hadley\, a career search counselor\, will talk about “Building Your Network” in this evening of facilitated networking. \nA light kosher dinner will be served\, and the program will begin at 6 p.m. \nAll are welcomed. An RSVP is required by Monday\, September 9. \nEmail Elise Prezant\, program manager\, at eprezant@jewishfamilysvc.org or call 908-725-7799\, Ext. 108. \nUpcoming events in this series include: \n\nNovember – Networking: Telling Your Story\nDecember – Culture Index: Personality and the Workplace\nSpring 2025: Interviewing from the Perspective of the Interviewer.
URL:https://thegrwdb.org/event/jfs-career-services-program-job-search-series-building-your-network/
LOCATION:Somerset County Business Partnership\, 50 Division St.\, fourth floor\, Somerville\, NJ\, 08876\, United States
CATEGORIES:Workshops
END:VEVENT
BEGIN:VEVENT
DTSTART;TZID=America/New_York:20240917T090000
DTEND;TZID=America/New_York:20240917T130000
DTSTAMP:20260424T020535
CREATED:20240821T031133Z
LAST-MODIFIED:20240821T031133Z
UID:3422-1726563600-1726578000@thegrwdb.org
SUMMARY:Norwescap Computer Class Series: Office 365 Excel
DESCRIPTION:Norwescap CLTC’s Computer Class Series is designed to help class participants build a strong foundation using computers. This month’s free series will be conducted in person at the Washington Public Library\, at 20 Carlton Ave\, Washington\, NJ 07882. using the library’s computers and internet. Class time for the following classes is 9 a.m. to 1 p.m. \nSeptember 5 and 10 – Basic Computer 1 and 2: This class will cover the types of computers\, differences in hardware and software\, Windows operating system overview\, file management\, considerations for purchasing a computer\, and browser and search engine overviews. \nSeptember 12 – Office 365 Word: This class will discuss the evolution of word processing\, how Microsoft Word has influenced producing documents\, review key Word options\, functions and settings\, explain how to use tables and templates\, review guidelines to create professional documents and provide opportunities to practice using Word. \nSeptember 17 – Office 365 Excel – This class will explain what Microsoft Excel is and how it can be used in many different ways.  It will go over basic functionality such as rows\, columns\, and cells and how to enter and reference data.  Attendees will learn how to write basic excel functions and understand ow how they can be used in everyday applications such as budgeting.  The class will cover the key Excel options and settings and will touch on reporting capabilities using pivot tables and charts (at a high level). \nSeptember 19 -Office 365 PowerPoint – This class will explain how to use Microsoft PowerPoint to create powerful\, interesting presentations.  Attendees will learn how to use text\, images\, video\, photos\, color and designs to customize presentations and make them interesting.  The class members will review guidelines to use in creating business presentations\, how to utilize templates\, and will practice giving presentations based on exercises we complete in class. \nRegistration is required. Call Terry at 908-788-1453 or 908-283-0519 from 9 a.m. to 5 p.m. Monday to Friday.
URL:https://thegrwdb.org/event/norwescap-computer-class-series-office-365-excel/
LOCATION:Washington Borough Public Library\, 20 Carlton Ave.\, Washington\, NJ\, 07882\, United States
CATEGORIES:Workshops
END:VEVENT
BEGIN:VEVENT
DTSTART;TZID=America/New_York:20240919T090000
DTEND;TZID=America/New_York:20240919T130000
DTSTAMP:20260424T020535
CREATED:20240821T031241Z
LAST-MODIFIED:20240821T031241Z
UID:3423-1726736400-1726750800@thegrwdb.org
SUMMARY:Norwescap Computer Class Series: Office 365 PowerPoint
DESCRIPTION:Norwescap CLTC’s Computer Class Series is designed to help class participants build a strong foundation using computers. This month’s free series will be conducted in person at the Washington Public Library\, at 20 Carlton Ave\, Washington\, NJ 07882. using the library’s computers and internet. Class time for the following classes is 9 a.m. to 1 p.m. \nSeptember 5 and 10 – Basic Computer 1 and 2: This class will cover the types of computers\, differences in hardware and software\, Windows operating system overview\, file management\, considerations for purchasing a computer\, and browser and search engine overviews. \nSeptember 12 – Office 365 Word: This class will discuss the evolution of word processing\, how Microsoft Word has influenced producing documents\, review key Word options\, functions and settings\, explain how to use tables and templates\, review guidelines to create professional documents and provide opportunities to practice using Word. \nSeptember 17 – Office 365 Excel – This class will explain what Microsoft Excel is and how it can be used in many different ways.  It will go over basic functionality such as rows\, columns\, and cells and how to enter and reference data.  Attendees will learn how to write basic excel functions and understand ow how they can be used in everyday applications such as budgeting.  The class will cover the key Excel options and settings and will touch on reporting capabilities using pivot tables and charts (at a high level). \nSeptember 19 -Office 365 PowerPoint – This class will explain how to use Microsoft PowerPoint to create powerful\, interesting presentations.  Attendees will learn how to use text\, images\, video\, photos\, color and designs to customize presentations and make them interesting.  The class members will review guidelines to use in creating business presentations\, how to utilize templates\, and will practice giving presentations based on exercises we complete in class. \nRegistration is required. Call Terry at 908-788-1453 or 908-283-0519 from 9 a.m. to 5 p.m. Monday to Friday.
URL:https://thegrwdb.org/event/norwescap-computer-class-series-office-365-powerpoint/
LOCATION:Washington Borough Public Library\, 20 Carlton Ave.\, Washington\, NJ\, 07882\, United States
CATEGORIES:Workshops
END:VEVENT
END:VCALENDAR