BEGIN:VCALENDAR
VERSION:2.0
PRODID:-//Greater Raritan - ECPv6.15.20//NONSGML v1.0//EN
CALSCALE:GREGORIAN
METHOD:PUBLISH
X-WR-CALNAME:Greater Raritan
X-ORIGINAL-URL:https://thegrwdb.org
X-WR-CALDESC:Events for Greater Raritan
REFRESH-INTERVAL;VALUE=DURATION:PT1H
X-Robots-Tag:noindex
X-PUBLISHED-TTL:PT1H
BEGIN:VTIMEZONE
TZID:America/New_York
BEGIN:DAYLIGHT
TZOFFSETFROM:-0500
TZOFFSETTO:-0400
TZNAME:EDT
DTSTART:20230312T070000
END:DAYLIGHT
BEGIN:STANDARD
TZOFFSETFROM:-0400
TZOFFSETTO:-0500
TZNAME:EST
DTSTART:20231105T060000
END:STANDARD
BEGIN:DAYLIGHT
TZOFFSETFROM:-0500
TZOFFSETTO:-0400
TZNAME:EDT
DTSTART:20240310T070000
END:DAYLIGHT
BEGIN:STANDARD
TZOFFSETFROM:-0400
TZOFFSETTO:-0500
TZNAME:EST
DTSTART:20241103T060000
END:STANDARD
BEGIN:DAYLIGHT
TZOFFSETFROM:-0500
TZOFFSETTO:-0400
TZNAME:EDT
DTSTART:20250309T070000
END:DAYLIGHT
BEGIN:STANDARD
TZOFFSETFROM:-0400
TZOFFSETTO:-0500
TZNAME:EST
DTSTART:20251102T060000
END:STANDARD
END:VTIMEZONE
BEGIN:VEVENT
DTSTART;TZID=America/New_York:20240604T090000
DTEND;TZID=America/New_York:20240604T130000
DTSTAMP:20260424T071809
CREATED:20240517T023739Z
LAST-MODIFIED:20240517T023739Z
UID:3367-1717491600-1717506000@thegrwdb.org
SUMMARY:Secrets of a Successful Job Search Workshop from Norwescap
DESCRIPTION:Tips\, tricks and resources to help career seekers with their job search will be shared during a Secrets of a Successful Job Search workshops being conducted from 9 a.m. to 1 p.m. Tuesday\, June 4\, at the Norwescap CLTC at 84 Park Ave.\, Flemington\, and online.  \nTo register\, call 908-788-1453. A laptop and Internet will be provided for those in-person.
URL:https://thegrwdb.org/event/secrets-of-a-successful-job-search-workshop-from-norwescap/
LOCATION:NORWESCAP Flemington\, 84 Park Ave.\, Suite E-104\, Flemington\, NJ\, 08822\, United States
CATEGORIES:Workshops
END:VEVENT
BEGIN:VEVENT
DTSTART;TZID=America/New_York:20240606T090000
DTEND;TZID=America/New_York:20240606T120000
DTSTAMP:20260424T071809
CREATED:20240517T024358Z
LAST-MODIFIED:20240517T024358Z
UID:3368-1717664400-1717675200@thegrwdb.org
SUMMARY:Why LinkedIn? Workshop from Norwescap
DESCRIPTION:Did you know employers are looking for new hires on social media? That’s one of the reason LinkedIn is an essential tool in a job seeker’s career toolbox. Learn more during a Why LinkedIn? hybrid workshop being conducted in person at 84 Park Ave. Flemington and online on Thursday\, June 6\, from 9 a.m. to 12 p.m. \nLinkedIn is more than just a copy of one’s resume\, it’s a great source of information about the job market\, trends and to connect with others in your industry. Users can find groups with similar career interests\, join conversations and connect with others. With LinkedIn users can build and maintain their network\, search for jobs\, and build a professional reputation.  \nTo register\, call 908-788-1453. A laptop and internet will be provided for those in person.
URL:https://thegrwdb.org/event/why-linkedin-workshop-from-norwescap/
LOCATION:NORWESCAP Flemington\, 84 Park Ave.\, Suite E-104\, Flemington\, NJ\, 08822\, United States
CATEGORIES:Workshops
END:VEVENT
BEGIN:VEVENT
DTSTART;TZID=America/New_York:20240610T104500
DTEND;TZID=America/New_York:20240610T120000
DTSTAMP:20260424T071809
CREATED:20240430T021219Z
LAST-MODIFIED:20240430T021219Z
UID:3349-1718016300-1718020800@thegrwdb.org
SUMMARY:Career Webinar: Business Etiquette for Job Seekers
DESCRIPTION:A career webinar\, Business Etiquette for Job Seekers\, will be conducted from 10:45 a.m. to 12 p.m. Monday\, June 10. \nDuring the workshop\, participants will be given tips and ideas on how to make first impressions memorable and understand the protocols for proper job-hunting behavior. \nThe workshop presenter is Jan Goodman\, the community outreach specialist/career coach for Greater Raritan One-Stop Career Center Training Services. The event is presented in collaboration with PSGCNJ (Professional Service Group of Central NJ). \nJoin the Zoom video meeting by clicking the following link and registering: https://bit.ly/3QfDWBu – Meeting ID: 525-652-585. To join by phone\, dial: 646-558-8656.
URL:https://thegrwdb.org/event/career-webinar-business-etiquette-for-job-seekers/
LOCATION:Zoom
CATEGORIES:Workshops
END:VEVENT
END:VCALENDAR