BEGIN:VCALENDAR
VERSION:2.0
PRODID:-//Greater Raritan - ECPv6.15.20//NONSGML v1.0//EN
CALSCALE:GREGORIAN
METHOD:PUBLISH
X-WR-CALNAME:Greater Raritan
X-ORIGINAL-URL:https://thegrwdb.org
X-WR-CALDESC:Events for Greater Raritan
REFRESH-INTERVAL;VALUE=DURATION:PT1H
X-Robots-Tag:noindex
X-PUBLISHED-TTL:PT1H
BEGIN:VTIMEZONE
TZID:America/New_York
BEGIN:DAYLIGHT
TZOFFSETFROM:-0500
TZOFFSETTO:-0400
TZNAME:EDT
DTSTART:20230312T070000
END:DAYLIGHT
BEGIN:STANDARD
TZOFFSETFROM:-0400
TZOFFSETTO:-0500
TZNAME:EST
DTSTART:20231105T060000
END:STANDARD
BEGIN:DAYLIGHT
TZOFFSETFROM:-0500
TZOFFSETTO:-0400
TZNAME:EDT
DTSTART:20240310T070000
END:DAYLIGHT
BEGIN:STANDARD
TZOFFSETFROM:-0400
TZOFFSETTO:-0500
TZNAME:EST
DTSTART:20241103T060000
END:STANDARD
BEGIN:DAYLIGHT
TZOFFSETFROM:-0500
TZOFFSETTO:-0400
TZNAME:EDT
DTSTART:20250309T070000
END:DAYLIGHT
BEGIN:STANDARD
TZOFFSETFROM:-0400
TZOFFSETTO:-0500
TZNAME:EST
DTSTART:20251102T060000
END:STANDARD
END:VTIMEZONE
BEGIN:VEVENT
DTSTART;TZID=America/New_York:20240423T084500
DTEND;TZID=America/New_York:20240423T130000
DTSTAMP:20260424T110244
CREATED:20240415T200145Z
LAST-MODIFIED:20240415T200145Z
UID:3331-1713861900-1713877200@thegrwdb.org
SUMMARY:Norwescap Job Readiness series in Flemington: Office 365 PowerPoint day 1
DESCRIPTION:Job Readiness Computer Skills will be offered in May by Norwescap in an in-person training series at the agency’s training center at 84 Park Ave. The free series will run from 8:45 a.m. to 1 p.m. using agency computers and Internet: \nMay 7: Introduction to #GoogleDocs Learn\, how to format\, create documents and save them on #GoogleDrive. \nMay 9: Office 365 Excel day 1\, to create spreadsheets and charts. \nMay 14: Office 365 Excel day 2– Continue working on spreadsheets and charts \nMay 16: Office 365 Google Sheets – Learn how to create spreadsheets and save to Google Drive. \nMay 23: Office 365 PowerPoint day 1 to create professional presentations \nMay 28: Office 365 PowerPoint day 2 to create professional presentations \nMay 30: Google Presentations – Learn how to create a presentation and save it in Google Drive. \nAnd lastly\, on May 30\, The Career & Life Club will present Getting Comfy with Public Speaking at noon via Zoom. Participants will learn an easy\, fun way to get comfortable with public speaking as well as about Opportunities to Practice Your Leadership Skills\, with Toastmasters. \nRegistration for the session is required. Call Terry at 908-788-1435.
URL:https://thegrwdb.org/event/norwescap-job-readiness-series-in-flemington-office-365-powerpoint-day-1/
LOCATION:NORWESCAP Flemington\, 84 Park Ave.\, Suite E-104\, Flemington\, NJ\, 08822\, United States
CATEGORIES:Workshops
END:VEVENT
BEGIN:VEVENT
DTSTART;TZID=America/New_York:20240425T120000
DTEND;TZID=America/New_York:20240425T130000
DTSTAMP:20260424T110244
CREATED:20240319T012731Z
LAST-MODIFIED:20240319T012731Z
UID:3307-1714046400-1714050000@thegrwdb.org
SUMMARY:Career Webinar: Which Job is Right For Me?
DESCRIPTION:At noon on Thursday\, 25\, Norwescap’s Career & Life Club will present the webinar\, Which Job is Right For Me? \nCareer Coach Jan Goodman will lead a discussion of how to unearth your natural tendencies\, enjoyable skills\, and interests\, so that you can land a job you love\, and happily remain there. Goodman is part of the Great Raritan One-Stop Career Training Center team. \nTo register for the class\, call 908-788-1453. \n  \n 
URL:https://thegrwdb.org/event/career-webinar-which-job-is-right-for-me/
LOCATION:Zoom
CATEGORIES:Workshops
END:VEVENT
END:VCALENDAR