BEGIN:VCALENDAR
VERSION:2.0
PRODID:-//Greater Raritan - ECPv6.15.20//NONSGML v1.0//EN
CALSCALE:GREGORIAN
METHOD:PUBLISH
X-ORIGINAL-URL:https://thegrwdb.org
X-WR-CALDESC:Events for Greater Raritan
REFRESH-INTERVAL;VALUE=DURATION:PT1H
X-Robots-Tag:noindex
X-PUBLISHED-TTL:PT1H
BEGIN:VTIMEZONE
TZID:America/New_York
BEGIN:DAYLIGHT
TZOFFSETFROM:-0500
TZOFFSETTO:-0400
TZNAME:EDT
DTSTART:20230312T070000
END:DAYLIGHT
BEGIN:STANDARD
TZOFFSETFROM:-0400
TZOFFSETTO:-0500
TZNAME:EST
DTSTART:20231105T060000
END:STANDARD
BEGIN:DAYLIGHT
TZOFFSETFROM:-0500
TZOFFSETTO:-0400
TZNAME:EDT
DTSTART:20240310T070000
END:DAYLIGHT
BEGIN:STANDARD
TZOFFSETFROM:-0400
TZOFFSETTO:-0500
TZNAME:EST
DTSTART:20241103T060000
END:STANDARD
BEGIN:DAYLIGHT
TZOFFSETFROM:-0500
TZOFFSETTO:-0400
TZNAME:EDT
DTSTART:20250309T070000
END:DAYLIGHT
BEGIN:STANDARD
TZOFFSETFROM:-0400
TZOFFSETTO:-0500
TZNAME:EST
DTSTART:20251102T060000
END:STANDARD
END:VTIMEZONE
BEGIN:VEVENT
DTSTART;TZID=America/New_York:20240807T100000
DTEND;TZID=America/New_York:20240807T110000
DTSTAMP:20260422T232033
CREATED:20240722T195304Z
LAST-MODIFIED:20240722T195304Z
UID:3401-1723024800-1723028400@thegrwdb.org
SUMMARY:UPS Virtual Information Session
DESCRIPTION:The New Jersey Department of Labor and Workforce Development and the New Jersey Workforce Development Boards are presenting a Virtual Information Session for job seekers at 10 a.m. Wednesday\, August 7 for UPS in Central Jersey. \nThe company is looking to fill the following positions in multiple locations: Warehouse Worker / Package Handler. The pay rate is $21.00 per hour. \nDuring the event\, in addition to the positions above\, the employer will discuss some upcoming job openings\, including Seasonal Package Delivery Driver and Seasonal Tractor Trailer Driver. \nTo register\, use the QR code in this flyer or go to this link: https://bit.ly/4cOzzGY.
URL:https://thegrwdb.org/event/ups-virtual-information-session/
LOCATION:Virtual Event
CATEGORIES:Virtual Information Job Session
END:VEVENT
BEGIN:VEVENT
DTSTART;TZID=America/New_York:20240604T100000
DTEND;TZID=America/New_York:20240604T150000
DTSTAMP:20260422T232033
CREATED:20240517T012217Z
LAST-MODIFIED:20240517T012217Z
UID:3366-1717495200-1717513200@thegrwdb.org
SUMMARY:Life Sciences Talent Connection Day
DESCRIPTION:Five leading New Jersey biotechnology firms are participating in a virtual Life Sciences Talent Connect Day on Tuesday\, June 4\, from 10 a.m. to 3 p.m. \nThis virtual event\, organized by the New Jersey Department of Labor and Workforce Development\, Middlesex County Office of Career Development\, and Mercer County Workforce Development Board\, offers a platform for career seekers specialized in life sciences to explore varied career opportunities. \nThe following companies will present their opportunities in 45-minute sessions: \n10 a.m.: NJ Bio \n11 a.m.: Hovione \n12 p.m.: Genesis Global Group \n1 p.m.: WuXi Biologics \n2 p.m.: Johnson and Johnson \n3 p.m.: Bio NJ overview of talent network portal. \nThe first 20 to 30 minutes of each session will be dedicated to a presentation by the company\, outlining their organization\, current job openings\, and application processes. The remaining time will be a Q&A session\, where participants can use the chat feature to ask direct questions about the roles\, company culture\, and other inquiries. \nRegistration is required for this event; go here. \nTo view the available positions\, see this flyer\, which also includes the QR code to register. Registrants will receive the event link\, which will permit them to join any sessions they choose.
URL:https://thegrwdb.org/event/life-sciences-talent-connection-day/
LOCATION:Virtual Event
CATEGORIES:Virtual Information Job Session
END:VEVENT
BEGIN:VEVENT
DTSTART;TZID=America/New_York:20240528T113000
DTEND;TZID=America/New_York:20240528T123000
DTSTAMP:20260422T232033
CREATED:20240517T003047Z
LAST-MODIFIED:20240517T003047Z
UID:3364-1716895800-1716899400@thegrwdb.org
SUMMARY:HomeSmiles Information Event
DESCRIPTION:The New Jersey Department of Labor and Workforce Development and the Greater Raritan Workforce Development Board are presenting a virtual Information Session at 11:30 a.m. Tuesday\, May 28\, for HomeSmiles. \nThe business is seeking to fill a Full-time Adaptive Property Maintenance Services Professional position\, working in the field to visit properties throughout the region and perform interior and exterior maintenance for a variety of service calls for jobs of all sizes. Customer service skills are key in this role. \nDuring this virtual event\, the employer will present a brief information session reviewing the positions and company benefits. Visit\nhttps://gardenstate.homesmiles.com/\, or call 732-890-7435. \nTo register\, use the QR code in this flyer or go to https://bit.ly/4behu3X.
URL:https://thegrwdb.org/event/homesmiles-information-event/
LOCATION:Virtual Event
CATEGORIES:Virtual Information Job Session
END:VEVENT
BEGIN:VEVENT
DTSTART;TZID=America/New_York:20240403T100000
DTEND;TZID=America/New_York:20240403T110000
DTSTAMP:20260422T232033
CREATED:20240307T224405Z
LAST-MODIFIED:20240307T224405Z
UID:3318-1712138400-1712142000@thegrwdb.org
SUMMARY:Customs and Border Protection Virtual Recruitment for Veterans
DESCRIPTION:The United State’s largest law enforcement agency\, U.S. Customs and Border Protection\, is hosting a Veterans Virtual Recruitment Event from 10 to 11 a.m. Wednesday\, April 3. \nVeterans\, military spouses\, and Guard/Reserve members are encouraged to attend. \nThe agency has Patrol Officer positions available. During the event\, job seekers will learn about the agency\, the application process and work locations. \nTo register\, use the QR code in this flyer or this link: https://forms.office.com/g/xVWUzZUBwL.
URL:https://thegrwdb.org/event/customs-and-border-protection-virtual-recruitment-for-veterans/
LOCATION:Virtual Event
CATEGORIES:Virtual Information Job Session
END:VEVENT
BEGIN:VEVENT
DTSTART;TZID=America/New_York:20240312T100000
DTEND;TZID=America/New_York:20240312T110000
DTSTAMP:20260422T232033
CREATED:20240307T224405Z
LAST-MODIFIED:20240307T224405Z
UID:3298-1710237600-1710241200@thegrwdb.org
SUMMARY:Customs and Border Protection Virtual Recruitment
DESCRIPTION:The United State’s largest law enforcement agency\, U.S. Customs and Border Protection\, is hosting a Virtual Recruitment Event from 10 to 11 a.m. Tuesday\, March 12. \nAssignments can be anywhere in the country\, including in many locations in New Jersey. Sites include airports\, marine terminals and cargo processing facilities. Refer to this event document for more details. \nTo participate in this event\, register here. A Teams link will be sent prior to the state of the event.
URL:https://thegrwdb.org/event/customs-and-border-protection-virtual-recruitment/
LOCATION:Virtual Event
CATEGORIES:Virtual Information Job Session
END:VEVENT
BEGIN:VEVENT
DTSTART;TZID=America/New_York:20240221T100000
DTEND;TZID=America/New_York:20240221T110000
DTSTAMP:20260422T232033
CREATED:20240217T001528Z
LAST-MODIFIED:20240217T001528Z
UID:3280-1708509600-1708513200@thegrwdb.org
SUMMARY:USDA Consumer Safety Inspector Virtual Information Session
DESCRIPTION:The U.S. Department of Agriculture is looking to fill Consumer Safety Inspectors in several New Jersey locations\, including Hillsborough. \nThe agency is made up of 29 agencies and offices with nearly 100\,000 employees who serve the American people at more than 4\,500 locations across the country and abroad. The agency provides leadership on food\, agriculture\, natural resources\, rural development\, nutrition\, and related issues based on public policy\, the best available science\, and effective management. \nLearn more at a Virtual Recruitment Event on Wednesday\, February 21\, from 10 to 11 a.m. on Microsoft Teams \nCareer opportunities with the USDA and what it takes to become a Consumer Safety Inspector will be discussed. \nJob Locations are in: Freehold\, Chesterfield\, Newark\, Hillsborough\, Woodstown\, Vineland and Rockaway. \nTo register\, use the QR code in this flyer or go to https://forms.office.com/g/83sDy8DVGG. \nAn email reminder with the link how to attend will be emailed prior to the day of the event.
URL:https://thegrwdb.org/event/usda-consumer-safety-inspector-virtual-information-session/
LOCATION:Virtual Event
CATEGORIES:Virtual Information Job Session
END:VEVENT
BEGIN:VEVENT
DTSTART;TZID=America/New_York:20240206T100000
DTEND;TZID=America/New_York:20240206T110000
DTSTAMP:20260422T232033
CREATED:20240125T233604Z
LAST-MODIFIED:20240125T233604Z
UID:3277-1707213600-1707217200@thegrwdb.org
SUMMARY:NJM Virtual Job Recruitment for Veterans
DESCRIPTION:A Veterans Virtual Job Recruitment focusing on customer service positions with NJM Insurance Group will be conducted from 10 to 11 a.m. Tuesday\, February 6. These are hybrid positions based in West Trenton\, with work from home available two days per week after the completion of training. \nThis event is only for Veterans and their spouses. \nDetails on the salaries range along with job requirements are available in this flyer\, along with the link and QR code to register. Interested job seekers may also go to https://forms.office.com/g/xEuAfsAhHq to register. An email reminder with the link how to attend will be emailed prior to the day of the event. \nThis event is presented by the Mercer County One-Stop Career Center and the New Jersey Department of Labor and Workforce Development. \n 
URL:https://thegrwdb.org/event/njm-virtual-job-recruitment-for-veterans/
LOCATION:Virtual Event
CATEGORIES:Virtual Information Job Session
END:VEVENT
END:VCALENDAR