BEGIN:VCALENDAR
VERSION:2.0
PRODID:-//Greater Raritan - ECPv6.15.20//NONSGML v1.0//EN
CALSCALE:GREGORIAN
METHOD:PUBLISH
X-ORIGINAL-URL:https://thegrwdb.org
X-WR-CALDESC:Events for Greater Raritan
REFRESH-INTERVAL;VALUE=DURATION:PT1H
X-Robots-Tag:noindex
X-PUBLISHED-TTL:PT1H
BEGIN:VTIMEZONE
TZID:America/New_York
BEGIN:DAYLIGHT
TZOFFSETFROM:-0500
TZOFFSETTO:-0400
TZNAME:EDT
DTSTART:20230312T070000
END:DAYLIGHT
BEGIN:STANDARD
TZOFFSETFROM:-0400
TZOFFSETTO:-0500
TZNAME:EST
DTSTART:20231105T060000
END:STANDARD
BEGIN:DAYLIGHT
TZOFFSETFROM:-0500
TZOFFSETTO:-0400
TZNAME:EDT
DTSTART:20240310T070000
END:DAYLIGHT
BEGIN:STANDARD
TZOFFSETFROM:-0400
TZOFFSETTO:-0500
TZNAME:EST
DTSTART:20241103T060000
END:STANDARD
BEGIN:DAYLIGHT
TZOFFSETFROM:-0500
TZOFFSETTO:-0400
TZNAME:EDT
DTSTART:20250309T070000
END:DAYLIGHT
BEGIN:STANDARD
TZOFFSETFROM:-0400
TZOFFSETTO:-0500
TZNAME:EST
DTSTART:20251102T060000
END:STANDARD
END:VTIMEZONE
BEGIN:VEVENT
DTSTART;TZID=America/New_York:20240829T100000
DTEND;TZID=America/New_York:20240829T113000
DTSTAMP:20260424T051110
CREATED:20240815T204213Z
LAST-MODIFIED:20240815T204213Z
UID:3414-1724925600-1724931000@thegrwdb.org
SUMMARY:UPS Virtual Information Session
DESCRIPTION:The New Jersey Department of Labor and Workforce Development and the New Jersey Workforce Development Boards are presenting a Virtual Information Session for job seekers at 10 a.m. Thursday\, August 29for UPS in Central Jersey. \nThe company is looking to fill the following positions in multiple locations: Warehouse Worker / Package Handler. The pay rate is $21.00 per hour. \nDuring the event\, in addition to the positions above\, the employer will discuss some upcoming job openings\, including Seasonal Package Delivery Driver and Seasonal Tractor Trailer Driver. \nTo register\, use the QR code in this flyer or go to this link: https://bit.ly/4ds9ldE.
URL:https://thegrwdb.org/event/ups-virtual-information-session-2/
LOCATION:Virtual Event
CATEGORIES:Virtual Information Job Session
END:VEVENT
END:VCALENDAR