BEGIN:VCALENDAR
VERSION:2.0
PRODID:-//Greater Raritan - ECPv6.15.20//NONSGML v1.0//EN
CALSCALE:GREGORIAN
METHOD:PUBLISH
X-WR-CALNAME:Greater Raritan
X-ORIGINAL-URL:https://thegrwdb.org
X-WR-CALDESC:Events for Greater Raritan
REFRESH-INTERVAL;VALUE=DURATION:PT1H
X-Robots-Tag:noindex
X-PUBLISHED-TTL:PT1H
BEGIN:VTIMEZONE
TZID:America/New_York
BEGIN:DAYLIGHT
TZOFFSETFROM:-0500
TZOFFSETTO:-0400
TZNAME:EDT
DTSTART:20230312T070000
END:DAYLIGHT
BEGIN:STANDARD
TZOFFSETFROM:-0400
TZOFFSETTO:-0500
TZNAME:EST
DTSTART:20231105T060000
END:STANDARD
BEGIN:DAYLIGHT
TZOFFSETFROM:-0500
TZOFFSETTO:-0400
TZNAME:EDT
DTSTART:20240310T070000
END:DAYLIGHT
BEGIN:STANDARD
TZOFFSETFROM:-0400
TZOFFSETTO:-0500
TZNAME:EST
DTSTART:20241103T060000
END:STANDARD
BEGIN:DAYLIGHT
TZOFFSETFROM:-0500
TZOFFSETTO:-0400
TZNAME:EDT
DTSTART:20250309T070000
END:DAYLIGHT
BEGIN:STANDARD
TZOFFSETFROM:-0400
TZOFFSETTO:-0500
TZNAME:EST
DTSTART:20251102T060000
END:STANDARD
END:VTIMEZONE
BEGIN:VEVENT
DTSTART;TZID=America/New_York:20240604T100000
DTEND;TZID=America/New_York:20240604T150000
DTSTAMP:20260424T092304
CREATED:20240517T012217Z
LAST-MODIFIED:20240517T012217Z
UID:3366-1717495200-1717513200@thegrwdb.org
SUMMARY:Life Sciences Talent Connection Day
DESCRIPTION:Five leading New Jersey biotechnology firms are participating in a virtual Life Sciences Talent Connect Day on Tuesday\, June 4\, from 10 a.m. to 3 p.m. \nThis virtual event\, organized by the New Jersey Department of Labor and Workforce Development\, Middlesex County Office of Career Development\, and Mercer County Workforce Development Board\, offers a platform for career seekers specialized in life sciences to explore varied career opportunities. \nThe following companies will present their opportunities in 45-minute sessions: \n10 a.m.: NJ Bio \n11 a.m.: Hovione \n12 p.m.: Genesis Global Group \n1 p.m.: WuXi Biologics \n2 p.m.: Johnson and Johnson \n3 p.m.: Bio NJ overview of talent network portal. \nThe first 20 to 30 minutes of each session will be dedicated to a presentation by the company\, outlining their organization\, current job openings\, and application processes. The remaining time will be a Q&A session\, where participants can use the chat feature to ask direct questions about the roles\, company culture\, and other inquiries. \nRegistration is required for this event; go here. \nTo view the available positions\, see this flyer\, which also includes the QR code to register. Registrants will receive the event link\, which will permit them to join any sessions they choose.
URL:https://thegrwdb.org/event/life-sciences-talent-connection-day/
LOCATION:Virtual Event
CATEGORIES:Virtual Information Job Session
END:VEVENT
END:VCALENDAR