BEGIN:VCALENDAR
VERSION:2.0
PRODID:-//Greater Raritan - ECPv6.15.20//NONSGML v1.0//EN
CALSCALE:GREGORIAN
METHOD:PUBLISH
X-ORIGINAL-URL:https://thegrwdb.org
X-WR-CALDESC:Events for Greater Raritan
REFRESH-INTERVAL;VALUE=DURATION:PT1H
X-Robots-Tag:noindex
X-PUBLISHED-TTL:PT1H
BEGIN:VTIMEZONE
TZID:America/New_York
BEGIN:DAYLIGHT
TZOFFSETFROM:-0500
TZOFFSETTO:-0400
TZNAME:EDT
DTSTART:20240310T070000
END:DAYLIGHT
BEGIN:STANDARD
TZOFFSETFROM:-0400
TZOFFSETTO:-0500
TZNAME:EST
DTSTART:20241103T060000
END:STANDARD
BEGIN:DAYLIGHT
TZOFFSETFROM:-0500
TZOFFSETTO:-0400
TZNAME:EDT
DTSTART:20250309T070000
END:DAYLIGHT
BEGIN:STANDARD
TZOFFSETFROM:-0400
TZOFFSETTO:-0500
TZNAME:EST
DTSTART:20251102T060000
END:STANDARD
BEGIN:DAYLIGHT
TZOFFSETFROM:-0500
TZOFFSETTO:-0400
TZNAME:EDT
DTSTART:20260308T070000
END:DAYLIGHT
BEGIN:STANDARD
TZOFFSETFROM:-0400
TZOFFSETTO:-0500
TZNAME:EST
DTSTART:20261101T060000
END:STANDARD
END:VTIMEZONE
BEGIN:VEVENT
DTSTART;TZID=America/New_York:20250208T080000
DTEND;TZID=America/New_York:20250208T170000
DTSTAMP:20260423T163817
CREATED:20250114T235035Z
LAST-MODIFIED:20250114T235035Z
UID:3525-1739001600-1739034000@thegrwdb.org
SUMMARY:NJ TRANSIT Police Hiring Application Period Begins
DESCRIPTION:NJ TRANSIT Police is hiring entry-level officers\, and has announced an application period that begins on Saturday\, February 8\, at 9 a.m. \nThe application period is limited to the first 200 applicants. The $35 fee to apply is non-refundable. \nApplicants must be at least 21 years old by May 18\, 2025\, have a driver’s license in good standing and be a U.S. citizen. Applicants must meet one of the following by June 1\, 2025): \n\nBachelor’s degree\, or\n60 college credits + 1 year of first responder experience\, or\n30 college credits + 2 years of active-duty military service\, or\nfour full years of continuous active-duty military services.\n\nFor more details and to apply\, please visit NJ TRANSIT Police Department – Entry Level Jobs. \n 
URL:https://thegrwdb.org/event/nj-transit-police-hiring-application-period-begins/
LOCATION:Virtual Event
CATEGORIES:Recruitment Event
END:VEVENT
BEGIN:VEVENT
DTSTART;TZID=America/New_York:20250211T110000
DTEND;TZID=America/New_York:20250211T140000
DTSTAMP:20260423T163817
CREATED:20250122T210044Z
LAST-MODIFIED:20250122T210044Z
UID:3538-1739271600-1739282400@thegrwdb.org
SUMMARY:Goodwill Caring Healthcare Services Recruitment Session
DESCRIPTION:Goodwill Caring Healthcare Services\, based in Hillsborough\, is hiring. Get the details at an in-person Recruitment Session being conducted from 11 a.m. to 2 p.m. Tuesday\, February 11\, at the Greater Raritan One-Stop Career Center\, 75 Veterans Memorial Drive E.\, Somerville. \nThe employer is looking to fill Home Health Aides positions to assist with daily living and a variety of personal care services in the patients’ homes in\naccordance with an established care plan. The full-time positions pay $17 to $18 an hour\, and a $250 sign-on bonus is available after 90 days of working 30 or more hours per week. \nThe employer will provide information on the positions and their locations. Flexible schedules and health insurance are available. Interviews will be offered. \nTo register\, go to https://bit.ly/4hrtW3l\, or use the QR code in the flyer. Completion of the registration form is required for admission. \nThe event is presented by the New Jersey Department of Labor and Workforce Development and the Greater Raritan Workforce Development Board.
URL:https://thegrwdb.org/event/goodwill-caring-healthcare-services-recruitment-session/
LOCATION:Somerville One-Stop Career Center\, 75 Veterans Memorial Drive East\, Somerville\, NJ\, 08876\, United States
CATEGORIES:Recruitment Event
END:VEVENT
BEGIN:VEVENT
DTSTART;TZID=America/New_York:20250211T180000
DTEND;TZID=America/New_York:20250211T200000
DTSTAMP:20260423T163817
CREATED:20250123T030623Z
LAST-MODIFIED:20250123T030623Z
UID:3542-1739296800-1739304000@thegrwdb.org
SUMMARY:New Jersey Department of Corrections Virtual Recruitment
DESCRIPTION:The New Jersey Department of Corrections is hosting a Virtual Recruitment from 6 to 8 p.m. Tuesday\, Feb. 11. \nThe New Jersey Department of Corrections is an equal opportunity employer. As the second largest employer in State government\, the department is home to approximately 10\,000 employees. Correctional Police Officers work in many roles to ensure the safety and security of the individuals incarcerated within the criminal justice system. \nWould you like to know more? The event will speakers who know first-hand the challenges and rewards of working in the system \nTo register for the event\, click on this link or scan the QR code in this flyer.
URL:https://thegrwdb.org/event/new-jersey-department-of-corrections-virtual-recruitment/
LOCATION:Virtual Event
CATEGORIES:Recruitment Event
END:VEVENT
END:VCALENDAR