BEGIN:VCALENDAR
VERSION:2.0
PRODID:-//Greater Raritan - ECPv6.15.20//NONSGML v1.0//EN
CALSCALE:GREGORIAN
METHOD:PUBLISH
X-ORIGINAL-URL:https://thegrwdb.org
X-WR-CALDESC:Events for Greater Raritan
REFRESH-INTERVAL;VALUE=DURATION:PT1H
X-Robots-Tag:noindex
X-PUBLISHED-TTL:PT1H
BEGIN:VTIMEZONE
TZID:America/New_York
BEGIN:DAYLIGHT
TZOFFSETFROM:-0500
TZOFFSETTO:-0400
TZNAME:EDT
DTSTART:20230312T070000
END:DAYLIGHT
BEGIN:STANDARD
TZOFFSETFROM:-0400
TZOFFSETTO:-0500
TZNAME:EST
DTSTART:20231105T060000
END:STANDARD
BEGIN:DAYLIGHT
TZOFFSETFROM:-0500
TZOFFSETTO:-0400
TZNAME:EDT
DTSTART:20240310T070000
END:DAYLIGHT
BEGIN:STANDARD
TZOFFSETFROM:-0400
TZOFFSETTO:-0500
TZNAME:EST
DTSTART:20241103T060000
END:STANDARD
BEGIN:DAYLIGHT
TZOFFSETFROM:-0500
TZOFFSETTO:-0400
TZNAME:EDT
DTSTART:20250309T070000
END:DAYLIGHT
BEGIN:STANDARD
TZOFFSETFROM:-0400
TZOFFSETTO:-0500
TZNAME:EST
DTSTART:20251102T060000
END:STANDARD
END:VTIMEZONE
BEGIN:VEVENT
DTSTART;TZID=America/New_York:20240612T100000
DTEND;TZID=America/New_York:20240612T170000
DTSTAMP:20260424T081914
CREATED:20240520T194930Z
LAST-MODIFIED:20240520T194930Z
UID:3369-1718186400-1718211600@thegrwdb.org
SUMMARY:Hiring Event for Individuals with Disabilities and Service-Connected Veterans
DESCRIPTION:A Hiring Event for Individuals with Disabilities and Service-Connected Veterans will be conducted from 10 a.m. to 5 p.m. Wednesday\, June 12\, at the Job Corps in Edison. \nThe New Jersey Division of Vocational Rehabilitation in collaboration with the Office of Federal Contract Compliance Programs is presenting this event\, which will allow attendees to meet with various federal contractors from these industry sectors: Pharmaceutical\, Building and Trades\, Financial and Health Care. Openings include CDL drivers\, warehouse workers and skilled technicians\, and the employers are looking to talk with college graduates. \nVeterans are requested to include their DD 214 and service-connected forms in addition to their resume. \nFor questions\, email the Business Outreach Team at njdvrsbot@dol.nj.gov. \n 
URL:https://thegrwdb.org/event/hiring-event-for-individuals-with-disabilities-and-service-connected-veterans/
LOCATION:Edison Job Corps Center\, 500 Plainfield Ave.\, Edison\, NJ\, 08817\, United States
CATEGORIES:Recruitment Event
END:VEVENT
BEGIN:VEVENT
DTSTART;TZID=America/New_York:20240628T090000
DTEND;TZID=America/New_York:20240628T160000
DTSTAMP:20260424T081914
CREATED:20240621T020425Z
LAST-MODIFIED:20240621T020425Z
UID:3380-1719565200-1719590400@thegrwdb.org
SUMMARY:Advanced Auto Parts Hiring Event
DESCRIPTION:Advanced Auto Parts and the New Jersey Department of Labor and Workforce Development are hosting a Hiring Event from 9 a.m. to 4 p.m. Friday\, June 28\, at the Morris County One-Stop Career Center\, 13 Emery Ave.\, Randolph. \nOn-the-spot interviews will be available for various positions in store locations in Morristown\, Dover\, Rockaway\, Parsippany and Livingston. The Morristown location will open its doors on August 8\, with a grand opening of August 24. \nWalk-ins are welcomed for the hiring event; job seekers also may RSVP by using the QR code in this flyer. \n 
URL:https://thegrwdb.org/event/advanced-auto-parts-hiring-event/
LOCATION:Morris County One-Stop Career Center\, 13 Emery Ave.\, Randolph\, NJ\, United States
CATEGORIES:Recruitment Event
END:VEVENT
END:VCALENDAR