BEGIN:VCALENDAR
VERSION:2.0
PRODID:-//Greater Raritan - ECPv6.15.20//NONSGML v1.0//EN
CALSCALE:GREGORIAN
METHOD:PUBLISH
X-ORIGINAL-URL:https://thegrwdb.org
X-WR-CALDESC:Events for Greater Raritan
REFRESH-INTERVAL;VALUE=DURATION:PT1H
X-Robots-Tag:noindex
X-PUBLISHED-TTL:PT1H
BEGIN:VTIMEZONE
TZID:America/Halifax
BEGIN:DAYLIGHT
TZOFFSETFROM:-0400
TZOFFSETTO:-0300
TZNAME:ADT
DTSTART:20250309T060000
END:DAYLIGHT
BEGIN:STANDARD
TZOFFSETFROM:-0300
TZOFFSETTO:-0400
TZNAME:AST
DTSTART:20251102T050000
END:STANDARD
BEGIN:DAYLIGHT
TZOFFSETFROM:-0400
TZOFFSETTO:-0300
TZNAME:ADT
DTSTART:20260308T060000
END:DAYLIGHT
BEGIN:STANDARD
TZOFFSETFROM:-0300
TZOFFSETTO:-0400
TZNAME:AST
DTSTART:20261101T050000
END:STANDARD
BEGIN:DAYLIGHT
TZOFFSETFROM:-0400
TZOFFSETTO:-0300
TZNAME:ADT
DTSTART:20270314T060000
END:DAYLIGHT
BEGIN:STANDARD
TZOFFSETFROM:-0300
TZOFFSETTO:-0400
TZNAME:AST
DTSTART:20271107T050000
END:STANDARD
END:VTIMEZONE
BEGIN:VEVENT
DTSTART;TZID=America/Halifax:20260514T150000
DTEND;TZID=America/Halifax:20260514T180000
DTSTAMP:20260425T073352
CREATED:20260424T220631Z
LAST-MODIFIED:20260424T221032Z
UID:4112-1778770800-1778781600@thegrwdb.org
SUMMARY:Empowered Mothers Summit
DESCRIPTION:An Empowered Mothers Summit will be conducted from 3 to 6 p.m. Thursday\, May 14\, at 220 Davidson Ave.\, Somerset section of Franklin. \nThe event\, presented by Dineta\, will offer information on financial literacy\, career guidance and small business ideas. Representatives from the Greater Raritan Workforce Development Board\, Norwescap and Technoviq will talk about available services and there will be time to connect and network. \nSeating is limited and registration is requested. To register\, use the QR code in this flyer. \nFor more information\, call 862-398-6669 or 215-421-2448 or email info@dineta.net.
URL:https://thegrwdb.org/event/empowered-mothers-summit/
LOCATION:Empowered Mothers Summmit\, 220 Davidson Ave.\, Somerset\, NJ\, 08876\, United States
CATEGORIES:Community Event
END:VEVENT
BEGIN:VEVENT
DTSTART;TZID=America/Halifax:20260515T140000
DTEND;TZID=America/Halifax:20260515T190000
DTSTAMP:20260425T073353
CREATED:20260424T214012Z
LAST-MODIFIED:20260424T214119Z
UID:4108-1778853600-1778871600@thegrwdb.org
SUMMARY:Free Community Resource Event at Good Shepherd Lutheran Church
DESCRIPTION:The Somerset County Department of Human Services\, Good Shepherd Lutheran Church\, The Giving Network\, and the Somerset County Library System of New Jersey will  present a Free Community Resource Event from 2 to 7 p.m. Friday\, May 15\, at Good Shepherd Lutheran Church\, 300 Union Ave.\, Somerville. \nThis event will provide free resources and essential items to Somerset County residents\, including household goods and more (while supplies last). This event is open to everyone — no personal information is required — so individuals and families can easily access the support they need. \nLocal agencies and organizations are invited to host a table at this event. The tabling time is 1:30 to 5:30 pm. Organizers offer this as an opportunity to engage directly with the community and share service information. Agencies interested in taking part may go here: https://forms.office.com/g/NuM9z7YchB. The deadline to apply is Friday\, May 1\, and vendors will be notified on May 8. \nThis is an outdoor\, rain-or-shine event (organizers will monitor for severe weather). Participating agencies must bring their own tables\, and tents or canopies are strongly encouraged. \nFor more information\, call 908-704-6300 or email rjohnson@somersetcountynj.gov.
URL:https://thegrwdb.org/event/free-community-resource-event-at-good-shepherd-lutheran-church/
LOCATION:Good Shepherd Lutheran Church\, 300 Union Ave.\, Somerville\, NJ\, 08876\, United States
CATEGORIES:Community Event
END:VEVENT
END:VCALENDAR