BEGIN:VCALENDAR
VERSION:2.0
PRODID:-//Greater Raritan - ECPv6.15.20//NONSGML v1.0//EN
CALSCALE:GREGORIAN
METHOD:PUBLISH
X-WR-CALNAME:Greater Raritan
X-ORIGINAL-URL:https://thegrwdb.org
X-WR-CALDESC:Events for Greater Raritan
REFRESH-INTERVAL;VALUE=DURATION:PT1H
X-Robots-Tag:noindex
X-PUBLISHED-TTL:PT1H
BEGIN:VTIMEZONE
TZID:America/New_York
BEGIN:DAYLIGHT
TZOFFSETFROM:-0500
TZOFFSETTO:-0400
TZNAME:EDT
DTSTART:20230312T070000
END:DAYLIGHT
BEGIN:STANDARD
TZOFFSETFROM:-0400
TZOFFSETTO:-0500
TZNAME:EST
DTSTART:20231105T060000
END:STANDARD
BEGIN:DAYLIGHT
TZOFFSETFROM:-0500
TZOFFSETTO:-0400
TZNAME:EDT
DTSTART:20240310T070000
END:DAYLIGHT
BEGIN:STANDARD
TZOFFSETFROM:-0400
TZOFFSETTO:-0500
TZNAME:EST
DTSTART:20241103T060000
END:STANDARD
BEGIN:DAYLIGHT
TZOFFSETFROM:-0500
TZOFFSETTO:-0400
TZNAME:EDT
DTSTART:20250309T070000
END:DAYLIGHT
BEGIN:STANDARD
TZOFFSETFROM:-0400
TZOFFSETTO:-0500
TZNAME:EST
DTSTART:20251102T060000
END:STANDARD
END:VTIMEZONE
BEGIN:VEVENT
DTSTART;TZID=America/New_York:20240520T130000
DTEND;TZID=America/New_York:20240520T160000
DTSTAMP:20260423T062150
CREATED:20240419T234143Z
LAST-MODIFIED:20240419T234143Z
UID:3340-1716210000-1716220800@thegrwdb.org
SUMMARY:Veteran’s Resource Fair in Hunterdon County
DESCRIPTION:The Hunterdon County Board of Commissioners and Congressman Tom Kean\, Jr. are presenting a Veteran’s Resource Fair on Monday\, May 20\, at 1 p.m.\, at the County Complex\, Building 1\, 314 Route 12\, in Flemington. \nThe event is specifically designed to provide resources\, support\, and networking opportunities for veterans. A number of state and county departments will be present\, along with the YMCA of Bucks and Hunterdon Counties and the Greater Raritan Workforce Development Board. Additional participants will be announced at the event date nears. \nLight refreshments will be served. \nTo RSVP\, click here.
URL:https://thegrwdb.org/event/veterans-resource-fair-in-hunterdon-county/
LOCATION:Hunterdon County Complex\, 314 State Route 12\, Flemington\, NJ\, 08822\, United States
CATEGORIES:Community Event
END:VEVENT
BEGIN:VEVENT
DTSTART;TZID=America/New_York:20240518T130000
DTEND;TZID=America/New_York:20240518T160000
DTSTAMP:20260423T062150
CREATED:20240513T182212Z
LAST-MODIFIED:20240513T182212Z
UID:3363-1716037200-1716048000@thegrwdb.org
SUMMARY:Aging Well Expo in Bridgewater
DESCRIPTION:Somerset County Office on Aging and Disability Services is presenting the 2024 Aging Well Expo from 1 to 4 p.m. Saturday\, May 18\, at the Senior Wellness Center at Bridgewater. \nAttendees can tour the multipurpose senior center\, hear from providers\, participate in yoga demonstrations\, and learn more how the Office on Aging & Disability Services can help support community members. \nFor more information or to register for this free event\, contact the Somerset County Office on Aging & Disability Services at 908-704-6346 or OfficeAging@co.somerset.nj.us.
URL:https://thegrwdb.org/event/aging-well-expo-in-bridgewater/
LOCATION:Senior Wellness Center at Bridgewater\, 876 E. Main St.\, Bridgewater\, NJ\, 08876\, United States
CATEGORIES:Community Event
END:VEVENT
BEGIN:VEVENT
DTSTART;TZID=America/New_York:20240516T180000
DTEND;TZID=America/New_York:20240516T191500
DTSTAMP:20260423T062150
CREATED:20240502T021747Z
LAST-MODIFIED:20240502T021747Z
UID:3351-1715882400-1715886900@thegrwdb.org
SUMMARY:CJHRC Webinar: Car Leasing\, Car Buying & Lemon Laws Overview
DESCRIPTION:Central Jersey Housing Resource Center (CJHRC) is presenting a webinar\, “Car Leasing\, Car Buying & Lemon Laws Overview\,” on Thursday\, May 16\, from 6 to 7:15 p.m. \nA car is usually the second most expensive cost after housing. During this free webinar\, participants will learn important tips before they buy\, lease or sell their existing car; how credit affects their interest rate; understand NJ Lemon Laws; and much more. \nThis is the second year this webinar is being presented – agency officials say they are bringing the subject back because the first event was so well received. \nTO register\, click on the following https://attendee.gotowebinar.com/rt/1152686646172222808\,  or got to www.cjhrc.org and hover over the Virtual Counseling Programs tab and click on HRC Informational Series. Click on the webinar you want to register for and it will bring you to a flyer with a link to register. If you have questions or need help registering\, please contact a CJHRC Counselor at 908-446-0037.
URL:https://thegrwdb.org/event/cjhrc-webinar-car-leasing-car-buying-lemon-laws-overview/
LOCATION:Virtual Event
CATEGORIES:Community Event
END:VEVENT
BEGIN:VEVENT
DTSTART;TZID=America/New_York:20240516T120000
DTEND;TZID=America/New_York:20240516T140000
DTSTAMP:20260423T062150
CREATED:20240509T214857Z
LAST-MODIFIED:20240509T214857Z
UID:3358-1715860800-1715868000@thegrwdb.org
SUMMARY:Legal Services of Northwest Jersey Credit Repair Collections Webinar
DESCRIPTION:Legal Services of Northwest Jersey is hosting a virtual legal clinic at 12 p.m. Thursday\, May 16\, 2024\, to advise on legal issues regarding collections\, credit repair\, and debt defenses. Attendees should register ahead of time\, which will allow the agency’s attorneys to either meet with them one-on-one during the event\, or to schedule an attorney consultation with the attendees in the coming weeks after the clinic. \nTo register for this event\, go here. \nThe agency provides legal assistance for people experiencing poverty in Hunterdon\, Morris\, Somerset\, Sussex and Warren Counties.
URL:https://thegrwdb.org/event/legal-services-of-northwest-jersey-credit-repair-collections-webinar/
LOCATION:NJ
CATEGORIES:Community Event
END:VEVENT
BEGIN:VEVENT
DTSTART;TZID=America/New_York:20240513T160000
DTEND;TZID=America/New_York:20240513T170000
DTSTAMP:20260423T062150
CREATED:20240510T221938Z
LAST-MODIFIED:20240510T221938Z
UID:3362-1715616000-1715619600@thegrwdb.org
SUMMARY:Women’s Bureau-Empowering Care Workers: Policy Insights & Support for a Day Without Childcare
DESCRIPTION:The U.S. Department of Labor Women’s Bureau will present a webinar\, “Empowering Care Workers: Policy Insights & Support for a Day Without Childcare\,” from 4 to 5 p.m. Monday\, May 13. \nThe purpose of this event is to amplify the work of the Women’s Bureau and the participating panelists in reducing the caregiver penalty and addressing the undervaluation of workers in the care economy. This virtual event aims to uplift the rights of care workers\, by discussing key policy recommendations and reforms\, highlighting policy papers and short films that seek to shift the narrative around the care economy and its workers\, and raising awareness of this day of action and how people can connect with it in their cities and states. \nTo register\, click here.
URL:https://thegrwdb.org/event/womens-bureau-empowering-care-workers-policy-insights-support-for-a-day-without-childcare/
LOCATION:Virtual Event
CATEGORIES:Community Event
END:VEVENT
BEGIN:VEVENT
DTSTART;TZID=America/New_York:20240510T080000
DTEND;TZID=America/New_York:20240510T160000
DTSTAMP:20260423T062150
CREATED:20240425T023703Z
LAST-MODIFIED:20240425T023703Z
UID:3344-1715328000-1715356800@thegrwdb.org
SUMMARY:11th Annual Culture of Health Conference
DESCRIPTION:The NJ YMCA State Alliance is hosting the 11th Annual Culture of Health Conference on Friday\, May 10\, from 10 a.m. to 4 p.m. at the Ocean Place Resort and Spa\, 1 Ocean Boulevard\, Long Branch. \nThe theme for this year’s conference is Navigating Systems for Deepening Community Impact. Through breakout sessions and keynote addresses\, the systems and social drivers that play a critical role in advancing health equity within our communities will be explored. \nRegistration is $45 per person. Use the link or QR code in this flyer to register. Registration closes on May 6.
URL:https://thegrwdb.org/event/11th-annual-culture-of-health-conference/
LOCATION:Ocean Place Resort and Spa\, 1 Ocean Blvd.\, Long Branch\, NJ\, 07740\, United States
CATEGORIES:Community Event
END:VEVENT
BEGIN:VEVENT
DTSTART;TZID=America/New_York:20240408T160000
DTEND;TZID=America/New_York:20240408T190000
DTSTAMP:20260423T062150
CREATED:20240323T012621Z
LAST-MODIFIED:20240323T012621Z
UID:3316-1712592000-1712602800@thegrwdb.org
SUMMARY:NJBPU Payment Assistance Event
DESCRIPTION:NJ SHARES is hosting a NJ Board of Public Utilities Payment Assistance for Gas and Electric (NJ BPU PAGE) grant event at the Somerville Library\, 35 West End Ave.\, Somerville\, on Monday\, April 8\, from 4 to 7 p.m. \nThis event is designed to help individuals apply for energy (gas and electric) assistance. Registration is not required. \nPlease reference this flyer for items to bring. For questions\, call 908-458-8445.
URL:https://thegrwdb.org/event/njbpu-payment-assistance-event/
LOCATION:Somerville Public Library\, 35 W. End Ave.\, Somerville\, NJ\, 08876\, United States
CATEGORIES:Community Event
END:VEVENT
BEGIN:VEVENT
DTSTART;TZID=America/New_York:20240306T180000
DTEND;TZID=America/New_York:20240306T190000
DTSTAMP:20260423T062150
CREATED:20240120T031617Z
LAST-MODIFIED:20240120T031617Z
UID:3271-1709748000-1709751600@thegrwdb.org
SUMMARY:Webinar: I Want to Purchase an Affordable Unit - How Do I Begin?
DESCRIPTION:The Central Jersey Housing Resource Center (CJHR) will present a webinar\, I Want to Purchase an Affordable Unit – How Do I Begin?\, from 6 to 7 p.m. Wednesday\, March 6. \nThe webinar is free and will cover a variety of topics; a question-and-answer session will follow the presentation. \nTo register\, use the link in this flyer or go to www.cjhrc.org and hover over the Virtual Counseling Programs tab and click on HRC Informational Series. Click on the webinar you want to register for\, and it will bring you to a flyer with a link to register. \nIf you have questions or need help registering\, contact a CJHRC Counselor at 908-446-0037.
URL:https://thegrwdb.org/event/webinar-i-want-to-purchase-an-affordable-unit-how-do-i-begin/
LOCATION:NJ
CATEGORIES:Community Event
END:VEVENT
BEGIN:VEVENT
DTSTART;TZID=America/New_York:20240131T173000
DTEND;TZID=America/New_York:20240131T193000
DTSTAMP:20260423T062150
CREATED:20240104T205600Z
LAST-MODIFIED:20240104T205600Z
UID:3266-1706722200-1706729400@thegrwdb.org
SUMMARY:Hunterdon County Home Ownership Expo
DESCRIPTION:The County of Hunterdon\, the USDA Rural Development\, the Center for Business & Entrepreneurship and the Hunterdon County Chamber of Commerce are sponsoring a Homebuyer’s Expo from 5:30 to 7:30 p.m. Wednesday\, Jan. 31\, at Hunterdon Central Regional High School Commons and Little Theater\, Junction Road\, Flemington. \nThis free event will feature: \n\nExhibitors sharing information and& resources on homeownership; these will include Realtors\, lenders\, title companies\, inspectors\, financial literacy counselors\, careers-related agencies and more.\nA brief presentation by USDA Rural Development on its 100 percent Direct & Guaranteed loan programs\n\nAgencies and businesses interested in having a table at the event may register by going here. There is no fee for a table\, but space is limited so registration is required. \nCommunity members interested in attending the event must register by visiting www.hunterdon-chamber.org.
URL:https://thegrwdb.org/event/hunterdon-county-home-ownership-expo/
LOCATION:Hunterdon Central Regional  High School\, Junction Road\, Flemington\, NJ\, 08822\, United States
CATEGORIES:Community Event
END:VEVENT
END:VCALENDAR