BEGIN:VCALENDAR
VERSION:2.0
PRODID:-//Greater Raritan - ECPv6.15.20//NONSGML v1.0//EN
CALSCALE:GREGORIAN
METHOD:PUBLISH
X-WR-CALNAME:Greater Raritan
X-ORIGINAL-URL:https://thegrwdb.org
X-WR-CALDESC:Events for Greater Raritan
REFRESH-INTERVAL;VALUE=DURATION:PT1H
X-Robots-Tag:noindex
X-PUBLISHED-TTL:PT1H
BEGIN:VTIMEZONE
TZID:America/New_York
BEGIN:DAYLIGHT
TZOFFSETFROM:-0500
TZOFFSETTO:-0400
TZNAME:EDT
DTSTART:20240310T070000
END:DAYLIGHT
BEGIN:STANDARD
TZOFFSETFROM:-0400
TZOFFSETTO:-0500
TZNAME:EST
DTSTART:20241103T060000
END:STANDARD
BEGIN:DAYLIGHT
TZOFFSETFROM:-0500
TZOFFSETTO:-0400
TZNAME:EDT
DTSTART:20250309T070000
END:DAYLIGHT
BEGIN:STANDARD
TZOFFSETFROM:-0400
TZOFFSETTO:-0500
TZNAME:EST
DTSTART:20251102T060000
END:STANDARD
BEGIN:DAYLIGHT
TZOFFSETFROM:-0500
TZOFFSETTO:-0400
TZNAME:EDT
DTSTART:20260308T070000
END:DAYLIGHT
BEGIN:STANDARD
TZOFFSETFROM:-0400
TZOFFSETTO:-0500
TZNAME:EST
DTSTART:20261101T060000
END:STANDARD
BEGIN:DAYLIGHT
TZOFFSETFROM:-0500
TZOFFSETTO:-0400
TZNAME:EDT
DTSTART:20270314T070000
END:DAYLIGHT
BEGIN:STANDARD
TZOFFSETFROM:-0400
TZOFFSETTO:-0500
TZNAME:EST
DTSTART:20271107T060000
END:STANDARD
END:VTIMEZONE
BEGIN:VEVENT
DTSTART;TZID=America/New_York:20251211T103000
DTEND;TZID=America/New_York:20251211T113000
DTSTAMP:20260423T072521
CREATED:20250926T230051Z
LAST-MODIFIED:20250926T230051Z
UID:3771-1765449000-1765452600@thegrwdb.org
SUMMARY:Creative Connections: Snow Day
DESCRIPTION:Creative Connections is a monthly program at the Hunterdon County Library Headquarters Branch at 314 Route 12\, Building 3\, in Flemington\, for adults with intellectual and developmental disabilities to enjoy themed crafts and activities together. \nThe meeting theme for the Thursday\, December 11\, program running from 10:30 to 11:30 a.m. is “Snow Day.” Participants will participate in d activities celebrating winter weather. \nCaregivers or support staff are required to attend and engage in activities\, and registration is required to ensure a meaningful and personalized experience for all. \nThe program will be conducted in the library’s Main Meeting Room. \nCall 908-788-1434 or go here to register.
URL:https://thegrwdb.org/event/creative-connections-snow-day/
LOCATION:Hunterdon County Library\, 314 Route 12\, Flemington\, NJ\, 08822\, United States
CATEGORIES:Community Event
END:VEVENT
BEGIN:VEVENT
DTSTART;TZID=America/New_York:20251211T130000
DTEND;TZID=America/New_York:20251211T140000
DTSTAMP:20260423T072521
CREATED:20251031T024459Z
LAST-MODIFIED:20251031T024459Z
UID:3808-1765458000-1765461600@thegrwdb.org
SUMMARY:Project Search Information Session for School Staff\, at RWJUH Somerset
DESCRIPTION:Project Search\, which offers an immersion-based program at Robert Wood Johnson University Hospital Somerset for students with disabilities\, is hosting two open houses in December. Both sessions will be conducted at the hospital\, 120 Rehill Ave.\, Somerville. \nThe Thursday\, December 4\, session at 5:30 p.m. is for parents. \nThe Thursday\, December 11\, session from 10 to 11 a.m. is for school staff\, including CST\, Transition staff and administrators. \nRegistration is required to attend either event. To register\, email Sarah Cosenza at scosenza@center.school or call 908-704-2731. Cosenza also can provide more information about the Project Search program. \nThis program is supported by Easterseals NJ\, the New Jersey Division of Vocational Rehabilitation Services and New Jersey Human Services Division of Developmental Disabilities.
URL:https://thegrwdb.org/event/project-search-information-session-for-school-staff-at-rwjuh-somerset/
LOCATION:Robert Wood Johnson University Hospital Somerset\, 110 Rehill Ave\, Somerville\, 08876\, United States
CATEGORIES:Community Event
END:VEVENT
BEGIN:VEVENT
DTSTART;TZID=America/New_York:20260108T183000
DTEND;TZID=America/New_York:20260108T203000
DTSTAMP:20260423T072521
CREATED:20251119T230750Z
LAST-MODIFIED:20251119T230750Z
UID:3840-1767897000-1767904200@thegrwdb.org
SUMMARY:Planning Pathways Series: An Overview of SSI & Medicaid for Adults with Intellectual and Developmental Disabilities
DESCRIPTION:Planning Pathways is series of four informational webinars for families supporting adults with intellectual and developmental disabilities (IDD) being presented by the Hunterdon County Library. Two webinars in January will focus on key aspects of the Division of Developmental Disabilities (DDD) Eligibility application process. The February sessions will address logistical and legal planning topics to help families prepare for the futures of their loved ones. \nWebinar one\, An Overview of SSI & Medicaid for Adults with Intellectual and Developmental Disabilities. will be presented by Connor Griffin from The Arc of New Jersey from 6:30 to 8:30 p.m. Thursday\, January 8. \nAre you someone that needs help navigating the system? Griffin will discuss the basics of Social Security Supplemental Security Income (SSI) and Medicaid\, which is required for someone to receive services through the NJ Division of Developmental Disabilities (DDD). Participants will learn about why applying for SSI at age 18 can be beneficial\, the different pathways to qualify for Medicaid\, and the application process for both SSI and Medicaid. \nTo register\, go here.
URL:https://thegrwdb.org/event/planning-pathways-series-an-overview-of-ssi-medicaid-for-adults-with-intellectual-and-developmental-disabilities/
LOCATION:Virtual Event
CATEGORIES:Community Event
END:VEVENT
BEGIN:VEVENT
DTSTART;TZID=America/New_York:20260120T183000
DTEND;TZID=America/New_York:20260120T203000
DTSTAMP:20260423T072521
CREATED:20251119T232524Z
LAST-MODIFIED:20251119T232524Z
UID:3841-1768933800-1768941000@thegrwdb.org
SUMMARY:Planning Pathways Series: Navigating the DDD Service System: Understanding the 4 steps to be determined eligible and enroll in the DDD Service System
DESCRIPTION:Planning Pathways is series of four informational webinars for families supporting adults with intellectual and developmental disabilities (IDD) being presented by the Hunterdon County Library. Two webinars in January will focus on key aspects of the Division of Developmental Disabilities (DDD) Eligibility application process. The February sessions will address logistical and legal planning topics to help families prepare for the futures of their loved ones. \nThe second webinar\, Navigating the DDD Service System: Understanding the 4 steps to be determined eligible and enroll in the DDD Service System\, will be presented by the New Jersey Division of Developmental Disabilities on Thursday\, January 20\, from 6:30 to 8:30 p.m. \nThis presentation will provide an overview of the Division of Developmental Disabilities (DDD) service system and the steps required to complete the DDD eligibility process. It will also discuss Support Coordination- DDD’s care management model. \nFor more information and to register for the event\, go here.
URL:https://thegrwdb.org/event/planning-pathways-series-navigating-the-ddd-service-system-understanding-the-4-steps-to-be-determined-eligible-and-enroll-in-the-ddd-service-system/
CATEGORIES:Community Event
END:VEVENT
BEGIN:VEVENT
DTSTART;TZID=America/New_York:20260203T180000
DTEND;TZID=America/New_York:20260203T200000
DTSTAMP:20260423T072521
CREATED:20251119T233000Z
LAST-MODIFIED:20251119T233000Z
UID:3842-1770141600-1770148800@thegrwdb.org
SUMMARY:Planning Pathways Series: Person-Centered LifePlanning: Securing the Future for People with Disabilities
DESCRIPTION:Planning Pathways is series of four informational webinars for families supporting adults with intellectual and developmental disabilities (IDD) being presented by the Hunterdon County Library. Two webinars in January will focus on key aspects of the Division of Developmental Disabilities (DDD) Eligibility application process. The February sessions will address logistical and legal planning topics to help families prepare for the futures of their loved ones. \nThe third webinar\, Person-Centered LifePlanning: Securing the Future for People with Disabilities\, will be presented by Melanie Miquel from PLAN|NJ from 6 to 8:30 p.m. Tuesday\, February 3. \nThis session will address future planning issues such as independent living supports; estate planning\, legal and financial protections. Topics include how to implement a future life plan for people with disabilities\, Guardianship and Alternatives to Guardianship\, Special Needs Trusts\, and ABLE accounts.  Handouts will be provided to families to highlight the topics of the session. \nFor more information and to register for the event\, go here.
URL:https://thegrwdb.org/event/planning-pathways-series-person-centered-lifeplanning-securing-the-future-for-people-with-disabilities/
LOCATION:Virtual Event
CATEGORIES:Community Event
END:VEVENT
BEGIN:VEVENT
DTSTART;TZID=America/New_York:20260211T100000
DTEND;TZID=America/New_York:20260211T120000
DTSTAMP:20260423T072521
CREATED:20260113T032609Z
LAST-MODIFIED:20260113T032609Z
UID:3902-1770804000-1770811200@thegrwdb.org
SUMMARY:CEA Resource Expo Focusing on Services for Differently Abled Individuals
DESCRIPTION:The Hunterdon County-based CEA is hosting a community Resource Expo from 10 a.m. to 12 p.m. Wednesday\, February 11\, at the NJPSA/FEA Conference Center\, 12 Centre Drive\, Monroe. \nCommunity members will learn about a variety of partners and services for differently abled individuals. This includes: \n\nCommunity Employment and Job Coaching\nCollege Search Support\nMental Health Service Providers\nThe Middlesex County office of the N.J. Division of Vocational Rehabilitation Services.\n\nFor more information contact Kyle Doremus at 908-782-1480\, Ext. 222\, or at kdoremus@cea-nj.org.
URL:https://thegrwdb.org/event/cea-resource-expo-focusing-on-services-for-differently-abled-individuals/
LOCATION:NJPSA/FEA Conference Center\, 12 Centre Drive\, Monroe Township\, NJ\, 08831\, United States
CATEGORIES:Community Event
END:VEVENT
BEGIN:VEVENT
DTSTART;TZID=America/New_York:20260224T183000
DTEND;TZID=America/New_York:20260224T203000
DTSTAMP:20260423T072521
CREATED:20251119T233340Z
LAST-MODIFIED:20251119T233340Z
UID:3843-1771957800-1771965000@thegrwdb.org
SUMMARY:Planning Pathways Series: Intellectual and Developmental Disabilities Overview
DESCRIPTION:Planning Pathways is series of four informational webinars for families supporting adults with intellectual and developmental disabilities (IDD) being presented by the Hunterdon County Library. Two webinars in January will focus on key aspects of the Division of Developmental Disabilities (DDD) Eligibility application process. The February sessions will address logistical and legal planning topics to help families prepare for the futures of their loved ones. \nThe fourth and final session in the series\, Intellectual and Developmental Disabilities Overview\, will be presented by Eliot M. Goldstein\, Esq. from Gebhardt & Kiefer\, P.C.\, on Tuesday\, February 24\, from 6:30 to 8:30 p.m. \nThis webinar will provide information relevant to the families of persons with intellectual and developmental disabilities. Participants will gain a better understanding of what resources are available to an intellectually and developmentally disabled person and legal options available to the disabled person’s family. \nFor more information and to register for the event\, go here.
URL:https://thegrwdb.org/event/planning-pathways-series-intellectual-and-developmental-disabilities-overview/
LOCATION:Virtual Event
CATEGORIES:Community Event
END:VEVENT
BEGIN:VEVENT
DTSTART;TZID=America/New_York:20260225T130000
DTEND;TZID=America/New_York:20260225T140000
DTSTAMP:20260423T072521
CREATED:20260202T202218Z
LAST-MODIFIED:20260202T202218Z
UID:3920-1772024400-1772028000@thegrwdb.org
SUMMARY:Project Search Virtual Open House for Community Members
DESCRIPTION:Project Search\, which offers an immersion-based program at Robert Wood Johnson University Hospital Somerset for students with disabilities\, is hosting a virtual Open House for school employees\, parents and caregivers who would like to learn more about the program. \nThe virtual event will be conducted on Wednesday\, February 25\, starting at 1 p.m. \nRegistration is required to the event. To register\, email Sarah Cosenza at scosenza@center.school or call 908-704-2731. Cosenza also can provide more information about the Project Search program. \nThis program is supported by Easterseals NJ\, the New Jersey Division of Vocational Rehabilitation Services and New Jersey Human Services Division of Developmental Disabilities.
URL:https://thegrwdb.org/event/project-search-virtual-open-house-for-community-members/
LOCATION:Virtual Event
CATEGORIES:Community Event
END:VEVENT
BEGIN:VEVENT
DTSTART;TZID=America/New_York:20260303T090000
DTEND;TZID=America/New_York:20260303T103000
DTSTAMP:20260423T072521
CREATED:20260131T032055Z
LAST-MODIFIED:20260131T032055Z
UID:3918-1772528400-1772533800@thegrwdb.org
SUMMARY:CiC Coffee & Conversation Networking Event in Franklin
DESCRIPTION:Coffee & Conversation\, the quarterly networking event presented by CiC for Prevention and Recovery\, will run from 9 to 10:30 a.m. Tuesday\, March 3\, at the agency’s new Franklin satellite office at 873 Hamilton St. in the Somerset section of Franklin. \nThis event includes a light breakfast and plenty of opportunities to connect. Participants can learn about local resources\, hear from community organizations\, explore available services\, and network with other professionals in the field. All are welcome. \nTo register go to Coffee and Conversation Registration or use the QR code in this flyer. \nCiC’s main hub is in Bernardsville. For more information\, call 908-801-2123. \n 
URL:https://thegrwdb.org/event/cic-coffee-conversation-networking-event-in-franklin/
LOCATION:CiC Satellite Office\, 873 Hamilton St.\, Somerset\, NJ\, 08873\, United States
CATEGORIES:Community Event
END:VEVENT
BEGIN:VEVENT
DTSTART;TZID=America/New_York:20260323T173000
DTEND;TZID=America/New_York:20260323T201500
DTSTAMP:20260423T072521
CREATED:20260214T034022Z
LAST-MODIFIED:20260214T034022Z
UID:3932-1774287000-1774296900@thegrwdb.org
SUMMARY:CJHRC 2-Part Homebuyer Webinar – Part 1
DESCRIPTION:Central Jersey Housing Resource Center (CJHRC) is presenting a two-day virtual Homebuyer Workshop from 5:30 to 8:15 p.m. Monday\, March 23\, and Wednesday\, March 25. \nThis HUD certified homebuyer free workshop will provide a comprehensive overview of the home buying process. Attendees will hear from the industry’s local professionals about how to become a successful homeowner. Topics to be covered include: \n\nMoney Management and Budgeting\nWorking with a Realtor\nCredit\nFair Housing\nHow to Get a Mortgage\nHome Inspections & Ten Important Questions\nWorking with a Real Estate Attorney\nAffordable Housing Options\nHomeowners Insurance\nDown Payment and Closing Cost Grants\n\nAttendees must attend both days and will receive a certificate after the 5.5-hour webinars workshops are completed. In order to obtain a certificate\, participants must complete and submit required forms. \nTo register\, go to https://cjhrc.org and click on the Upcoming Webinars & Events tile and click on CJHRC Webinars. Choose March 23 & March 25 2-Part Homebuyer Webinar; the link to register is located towards the bottom of the flyer. If you have questions or need help registering\, contact a CJHRC Counselor at 908-446-0036.
URL:https://thegrwdb.org/event/cjhrc-2-part-homebuyer-webinar-part-1/
LOCATION:Virtual Event
CATEGORIES:Community Event
END:VEVENT
BEGIN:VEVENT
DTSTART;TZID=America/New_York:20260325T173000
DTEND;TZID=America/New_York:20260325T201500
DTSTAMP:20260423T072521
CREATED:20260214T034140Z
LAST-MODIFIED:20260214T034140Z
UID:3933-1774459800-1774469700@thegrwdb.org
SUMMARY:CJHRC 2-Part Homebuyer Webinar – Part 2
DESCRIPTION:Central Jersey Housing Resource Center (CJHRC) is presenting a two-day virtual Homebuyer Workshop from 5:30 to 8:15 p.m. Monday\, March 23\, and Wednesday\, March 25. \nThis HUD certified homebuyer free workshop will provide a comprehensive overview of the home buying process. Attendees will hear from the industry’s local professionals about how to become a successful homeowner. Topics to be covered include: \n\nMoney Management and Budgeting\nWorking with a Realtor\nCredit\nFair Housing\nHow to Get a Mortgage\nHome Inspections & Ten Important Questions\nWorking with a Real Estate Attorney\nAffordable Housing Options\nHomeowners Insurance\nDown Payment and Closing Cost Grants\n\nAttendees must attend both days and will receive a certificate after the 5.5-hour webinars workshops are completed. In order to obtain a certificate\, participants must complete and submit required forms. \nTo register\, go to https://cjhrc.org and click on the Upcoming Webinars & Events tile and click on CJHRC Webinars. Choose March 23 & March 25 2-Part Homebuyer Webinar; the link to register is located towards the bottom of the flyer. If you have questions or need help registering\, contact a CJHRC Counselor at 908-446-0036.
URL:https://thegrwdb.org/event/cjhrc-2-part-homebuyer-webinar-part-2/
LOCATION:Virtual Event
CATEGORIES:Community Event
END:VEVENT
BEGIN:VEVENT
DTSTART;TZID=America/New_York:20260330T190000
DTEND;TZID=America/New_York:20260330T203000
DTSTAMP:20260423T072521
CREATED:20260324T015112Z
LAST-MODIFIED:20260324T015112Z
UID:3993-1774897200-1774902600@thegrwdb.org
SUMMARY:Community Conversation: Navigating SSI and SSDI Benefits
DESCRIPTION:Community members are invited to a conversation on Navigating SSI and SSID Benefits being conducted from 7 to 8:30 p.m. Monday\, March 30\, at Bernards Township Town Hall\, 1 Collyer Lane\, Basking Ridge. \nThe conversation will be facilitated by J.D. Bryden\, Deputy District Director for U.S. Rep.\, Tom Kean Jr. He will offer practical ways to address common challenges such as delays\, denials and coverage issues with key federal social service programs. \nThe Bernards Township Committee is presenting the conversation in recognition of Developmental Disability Awareness Month. For more information\, call 908-766-2510. \n 
URL:https://thegrwdb.org/event/community-conversation-navigating-ssi-and-ssdi-benefits/
LOCATION:Bernards Township Town Hall\, 1 Collyer Lane\, Basking Ridge\, NJ\, 07920\, United States
CATEGORIES:Community Event
END:VEVENT
BEGIN:VEVENT
DTSTART;TZID=America/New_York:20260402T090000
DTEND;TZID=America/New_York:20260402T150000
DTSTAMP:20260423T072521
CREATED:20260109T031449Z
LAST-MODIFIED:20260109T031449Z
UID:3897-1775120400-1775142000@thegrwdb.org
SUMMARY:NJ Reentry Corp. 2026 Annual Conference
DESCRIPTION:The NJ Reentry Corp. 2026 Annual Conference will focus on Trauma. The event will be conducted on Thursday\, April 2\, at Saint Peter’s University in Jersey City. \nTrauma shapes behavior long after prison\, war\, or addiction ends\, and science shows why clinical care heals. \nThe conference will feature Dr. Jill Bolte Taylor. a Harvard-trained neuroanatomist\, and other national leaders in neuroscience\, medicine\, psychiatry\, and justice who will present an evidence-based conference on trauma\, recovery\, and reentry. \nTo register\, use the following Eventbrite link: https://www.eventbrite.com/e/1978413737747?aff=oddtdtcreator. \n  \n  \n 
URL:https://thegrwdb.org/event/nj-reentry-corp-2026-annual-conference/
CATEGORIES:Community Event
END:VEVENT
BEGIN:VEVENT
DTSTART;TZID=America/New_York:20260409T150000
DTEND;TZID=America/New_York:20260409T161500
DTSTAMP:20260423T072521
CREATED:20260214T033309Z
LAST-MODIFIED:20260214T033309Z
UID:3931-1775746800-1775751300@thegrwdb.org
SUMMARY:CJHRC Free Fair Housing Webinar
DESCRIPTION:A webinar on Free Fair Housing will be presented by the Central Jersey Housing Resource Center (CJHRC) from 3 to 4:15 p.m. Thursday\, April 9. \nThe Fair Housing Act extends to all aspects of housing including sales\, advertising\, financing\, rental\, insurance\, design\, and construction. Sharon Clark of the CJHRC will cover different housing related topics during the free webinar so that participants know their fair housing rights. \nTo register\, go to www.cjhrc.org click on the Upcoming Webinars & Events tile and click on CJHRC Webinars. Choose April 9\, 2026 Fair Housing Webinar; the link to register is located towards the bottom of the flyer. If you have questions or need help registering\, contact a CJHRC counselor at 908-446-0037.
URL:https://thegrwdb.org/event/cjhrc-free-fair-housing-webinar/
LOCATION:Virtual Event
CATEGORIES:Community Event
END:VEVENT
BEGIN:VEVENT
DTSTART;TZID=America/New_York:20260411T130000
DTEND;TZID=America/New_York:20260411T160000
DTSTAMP:20260423T072521
CREATED:20260306T032330Z
LAST-MODIFIED:20260306T032330Z
UID:3982-1775912400-1775923200@thegrwdb.org
SUMMARY:Hunterdon County Disability Services Expo
DESCRIPTION:The Hunterdon County Human Services Advisory Council is presenting a Disability Services Expo from 1 to 4 p.m. Saturday\, April 11\, at Hunterdon County’s Route 12 Complex\, 314 Route 12\, Flemington. \nCommunity members are invited to learn about the many programs and agencies that provide services and support individuals with disabilities \nFor questions or if you are a community member needing accommodations\, call Kevin at 908-788-1361. \nAgencies interested in reserving a table at this free event may contact the Hunterdon County Division of Senior\, Disabilities and Veterans Services at 908-788-1359.
URL:https://thegrwdb.org/event/hunterdon-county-disability-services-expo/
LOCATION:Hunterdon County Complex\, 314 State Route 12\, Flemington\, NJ\, 08822\, United States
CATEGORIES:Community Event
END:VEVENT
BEGIN:VEVENT
DTSTART;TZID=America/New_York:20260415T080000
DTEND;TZID=America/New_York:20260415T170000
DTSTAMP:20260423T072521
CREATED:20260416T020459Z
LAST-MODIFIED:20260416T020459Z
UID:3264-1776240000-1776272400@thegrwdb.org
SUMMARY:Statewide Summit: Making NJ the Workforce State
DESCRIPTION:State\, education\, industry\, community\, and student leaders are invited to a NJ Workforce Summit to brainstorm recommendations to inform the state’s future workforce strategy and workforce development priorities. \nThis event\, presented by Focus NJ and powered by NJBIA\, will be presented at the Pines Manor\, 2085 Lincoln Hwy.\, Edison\, on Wednesday\, April 29\, from 8 a.m. to 12:30 p.m. \nPresentations and panels will explore the continuum and articulation of offerings\, opportunities\, and challenges from early childhood to adult education. The focus will be on policy alignment\, education-to-career pathways\, and cross-sector collaboration. The discussion is designed to ensure learners of all ages will be equipped to meet the state’s workforce needs today and into the future. \nThe cost to attend the event is $99.00 for NJBIA members and $129.00 for non-members. \nFor more information\, email events@njbia.org. \nFor the list of speakers\, the agenda and registration link\, go here. \n 
URL:https://thegrwdb.org/event/statewide-summit-making-nj-the-workforce-state/
LOCATION:Pines Manor\, 2085 Lincoln Highway\, Edison\, NJ\, 08817\, United States
CATEGORIES:Community Event
END:VEVENT
BEGIN:VEVENT
DTSTART;TZID=America/New_York:20260425T100000
DTEND;TZID=America/New_York:20260425T130000
DTSTAMP:20260423T072521
CREATED:20260227T031036Z
LAST-MODIFIED:20260227T031036Z
UID:3978-1777111200-1777122000@thegrwdb.org
SUMMARY:Somerset County Aging and Disability Expo
DESCRIPTION:The Somerset County Aging and Disability Expo will be conducted from 10 a.m. to 1 p.m. Saturday\, April 25\, at Bridgewater Senior Wellness Center 876 East Main St.\, Bridgewater NJ 08807. \nThe event will include educational discussions\, interactive demonstrations\, and preventative healthcare screenings aiming to provide essential tools to help older adults (60+) and individuals with physical disabilities (18+) and caregivers connect to local resources. Transportation can be provided upon request. \nAttendees can register here. \nVendor registration is available here. \nThere is no fee for vendors or attendees to take part in the county-sponsored event.
URL:https://thegrwdb.org/event/somerset-county-aging-and-disability-expo/
LOCATION:Somerset County Senior Wellness Center\, 876 E. Main St.\, Bridgewater\, NJ\, 08807\, United States
CATEGORIES:Community Event
END:VEVENT
BEGIN:VEVENT
DTSTART;TZID=America/New_York:20260506T160000
DTEND;TZID=America/New_York:20260506T171500
DTSTAMP:20260423T072521
CREATED:20260408T010657Z
LAST-MODIFIED:20260408T010657Z
UID:3255-1778083200-1778087700@thegrwdb.org
SUMMARY:CJHRC Webinar: Disaster Planning and Resources
DESCRIPTION:Disasters do not send a calendar invite.  Do you have an emergency plan should a natural disaster strike?  While we cannot predict every emergency\, we can certainly prepare for them. \nCentral Jersey Housing Resource Center (CJHRC) has scheduled a free Disaster Planning & Resources webinar being conducted from 4 to 5:15 p.m. Wednesday\, May 6. This session is designed to help participants understand the risks\, create an emergency plan\, and learn about the tools and resources available during weather-related emergencies. \nPresenters for this program are Lisa Galonardo\, United Way of Northern New Jersey\, and Sharon Clark\, with the CJRHC. \nTo register\, use to this link below or go to www.cjhrc.org and click on the Upcoming Webinars & Events title and click on CJHRC Webinars. Choose May 6\, 2026 Disaster Planning & Resources Webinar. \nIf you have questions or need help registering\, contact a CJHRC Counselor at 908-446-0036.
URL:https://thegrwdb.org/event/cjhrc-webinar-disaster-planning-and-resources/
LOCATION:Virtual Event
CATEGORIES:Community Event
END:VEVENT
END:VCALENDAR