BEGIN:VCALENDAR
VERSION:2.0
PRODID:-//Greater Raritan - ECPv6.15.20//NONSGML v1.0//EN
CALSCALE:GREGORIAN
METHOD:PUBLISH
X-ORIGINAL-URL:https://thegrwdb.org
X-WR-CALDESC:Events for Greater Raritan
REFRESH-INTERVAL;VALUE=DURATION:PT1H
X-Robots-Tag:noindex
X-PUBLISHED-TTL:PT1H
BEGIN:VTIMEZONE
TZID:America/New_York
BEGIN:DAYLIGHT
TZOFFSETFROM:-0500
TZOFFSETTO:-0400
TZNAME:EDT
DTSTART:20240310T070000
END:DAYLIGHT
BEGIN:STANDARD
TZOFFSETFROM:-0400
TZOFFSETTO:-0500
TZNAME:EST
DTSTART:20241103T060000
END:STANDARD
BEGIN:DAYLIGHT
TZOFFSETFROM:-0500
TZOFFSETTO:-0400
TZNAME:EDT
DTSTART:20250309T070000
END:DAYLIGHT
BEGIN:STANDARD
TZOFFSETFROM:-0400
TZOFFSETTO:-0500
TZNAME:EST
DTSTART:20251102T060000
END:STANDARD
BEGIN:DAYLIGHT
TZOFFSETFROM:-0500
TZOFFSETTO:-0400
TZNAME:EDT
DTSTART:20260308T070000
END:DAYLIGHT
BEGIN:STANDARD
TZOFFSETFROM:-0400
TZOFFSETTO:-0500
TZNAME:EST
DTSTART:20261101T060000
END:STANDARD
END:VTIMEZONE
BEGIN:VEVENT
DTSTART;TZID=America/New_York:20251204T170000
DTEND;TZID=America/New_York:20251204T183000
DTSTAMP:20260422T235521
CREATED:20251031T024027Z
LAST-MODIFIED:20251031T024027Z
UID:3807-1764867600-1764873000@thegrwdb.org
SUMMARY:Project Search Information Session for Parents\, at RWJUH Somerset
DESCRIPTION:Project Search\, which offers an immersion-based program at Robert Wood Johnson University Hospital Somerset for students with disabilities\, is hosting two open houses in December. Both sessions will be conducted at the hospital\, 120 Rehill Ave.\, Somerville. \nThe Thursday\, December 4\, session at 5:30 p.m. is for parents. \nThe Thursday\, December 11\, session from 10 to 11 a.m. is for school staff\, including CST\, Transition staff and administrators. \nRegistration is required to attend either event. To register\, email Sarah Cosenza at scosenza@center.school or call 908-704-2731. Cosenza also can provide more information about the Project Search program. \nThis program is supported by Easterseals NJ\, the New Jersey Division of Vocational Rehabilitation Services and New Jersey Human Services Division of Developmental Disabilities. \n 
URL:https://thegrwdb.org/event/project-search-information-session-for-parents-at-rwjuh-somerset/
LOCATION:Robert Wood Johnson University Hospital Somerset\, 110 Rehill Ave\, Somerville\, 08876\, United States
CATEGORIES:Community Event
END:VEVENT
END:VCALENDAR