BEGIN:VCALENDAR
VERSION:2.0
PRODID:-//Greater Raritan - ECPv6.15.20//NONSGML v1.0//EN
CALSCALE:GREGORIAN
METHOD:PUBLISH
X-ORIGINAL-URL:https://thegrwdb.org
X-WR-CALDESC:Events for Greater Raritan
REFRESH-INTERVAL;VALUE=DURATION:PT1H
X-Robots-Tag:noindex
X-PUBLISHED-TTL:PT1H
BEGIN:VTIMEZONE
TZID:America/New_York
BEGIN:DAYLIGHT
TZOFFSETFROM:-0500
TZOFFSETTO:-0400
TZNAME:EDT
DTSTART:20240310T070000
END:DAYLIGHT
BEGIN:STANDARD
TZOFFSETFROM:-0400
TZOFFSETTO:-0500
TZNAME:EST
DTSTART:20241103T060000
END:STANDARD
BEGIN:DAYLIGHT
TZOFFSETFROM:-0500
TZOFFSETTO:-0400
TZNAME:EDT
DTSTART:20250309T070000
END:DAYLIGHT
BEGIN:STANDARD
TZOFFSETFROM:-0400
TZOFFSETTO:-0500
TZNAME:EST
DTSTART:20251102T060000
END:STANDARD
BEGIN:DAYLIGHT
TZOFFSETFROM:-0500
TZOFFSETTO:-0400
TZNAME:EDT
DTSTART:20260308T070000
END:DAYLIGHT
BEGIN:STANDARD
TZOFFSETFROM:-0400
TZOFFSETTO:-0500
TZNAME:EST
DTSTART:20261101T060000
END:STANDARD
END:VTIMEZONE
BEGIN:VEVENT
DTSTART;TZID=America/New_York:20250903T100000
DTEND;TZID=America/New_York:20250903T150000
DTSTAMP:20260423T052757
CREATED:20250829T140439Z
LAST-MODIFIED:20250829T140439Z
UID:3752-1756893600-1756911600@thegrwdb.org
SUMMARY:Clothing Giveaway at Norwescap North Plainfield location
DESCRIPTION:Next week\, shop free and discover the many local resources of Norwescap. \nNorwescap is hosting a free Clothing Giveaway from 10 a.m. to 3 p.m. Wednesday\, September 3\, at its Somerset County location\, Iglesia Presbiteriana Nuevas Fronteras\, 170 Watchung Avenue\, North Plainfield. \nThe event will feature clothes in all sizes\, accessories\, and even household items — all at no cost. While at the event\, attendees can also learn about the agency’s free programs in health\, education\, employment\, and financial empowerment\, and meet the team working to make a difference in Somerset County. \nTo register for the free event\, use the QR in this flyer or go to https://events.teams.microsoft.com/event/26170686-0d01-49b2-be45-5b26dd94018e@66841d66-b15f-4f5a-9e66-43807a9f6c8d. \nClothing donations are still being accepted\, too. \nFor more information\, email cltc@norwescap.org or call 908-788-1453
URL:https://thegrwdb.org/event/clothing-giveaway-at-norwescap-north-plainfield-location/
LOCATION:Iglesia Presbiteriana Nuevas Fronteras\, 170 Watchung Ave.\, North Plainfield\, NJ\, 07060\, United States
CATEGORIES:Community Event
END:VEVENT
END:VCALENDAR