BEGIN:VCALENDAR
VERSION:2.0
PRODID:-//Greater Raritan - ECPv6.15.20//NONSGML v1.0//EN
CALSCALE:GREGORIAN
METHOD:PUBLISH
X-WR-CALNAME:Greater Raritan
X-ORIGINAL-URL:https://thegrwdb.org
X-WR-CALDESC:Events for Greater Raritan
REFRESH-INTERVAL;VALUE=DURATION:PT1H
X-Robots-Tag:noindex
X-PUBLISHED-TTL:PT1H
BEGIN:VTIMEZONE
TZID:America/New_York
BEGIN:DAYLIGHT
TZOFFSETFROM:-0500
TZOFFSETTO:-0400
TZNAME:EDT
DTSTART:20240310T070000
END:DAYLIGHT
BEGIN:STANDARD
TZOFFSETFROM:-0400
TZOFFSETTO:-0500
TZNAME:EST
DTSTART:20241103T060000
END:STANDARD
BEGIN:DAYLIGHT
TZOFFSETFROM:-0500
TZOFFSETTO:-0400
TZNAME:EDT
DTSTART:20250309T070000
END:DAYLIGHT
BEGIN:STANDARD
TZOFFSETFROM:-0400
TZOFFSETTO:-0500
TZNAME:EST
DTSTART:20251102T060000
END:STANDARD
BEGIN:DAYLIGHT
TZOFFSETFROM:-0500
TZOFFSETTO:-0400
TZNAME:EDT
DTSTART:20260308T070000
END:DAYLIGHT
BEGIN:STANDARD
TZOFFSETFROM:-0400
TZOFFSETTO:-0500
TZNAME:EST
DTSTART:20261101T060000
END:STANDARD
END:VTIMEZONE
BEGIN:VEVENT
DTSTART;TZID=America/New_York:20250710T130000
DTEND;TZID=America/New_York:20250710T140000
DTSTAMP:20260423T085453
CREATED:20250617T010842Z
LAST-MODIFIED:20250617T010842Z
UID:3688-1752152400-1752156000@thegrwdb.org
SUMMARY:Requirements for Naturalization Program at Hillsborough Library
DESCRIPTION:A local immigration attorney will talk about the requirements for naturalization during a program running from 1 to 2 p.m. Thursday\, July 10\, at the Hillsborough Library\, 379 South Branch Road\, Hillsborough. This program is intended to raise awareness about the rights\, responsibilities and importance of U.S. citizenship and provide information on the naturalization process and USCIS educational resources. \n\n\n\n\n\n\nThose who are lawful permanent residents (green card holders)\, may be eligible for U.S. citizenship. In this program participants will learn about: \n\nNaturalization eligibility requirements\nApplication Process\nEnglish & Civic exam\nReduced filing fee income threshold\nLack of Good moral character issues\nExceptions & accommodations for Naturalization exam\n\nGo here for more information. \nThis program will be presented by Snehal Batra\, Esq.\, partner at NPZ Law Group\, PC\, located in Raritan. Batra is an immigration attorney licensed in New Jersey since 2001 and her practice includes all areas of U.S. business/family immigration and Naturalization.
URL:https://thegrwdb.org/event/requirements-for-naturalization-program-at-hillsborough-library/
LOCATION:SCLSNJ’s Hillsborough Library branch\, 1 Vogt Dr\, Bridgewater Township\, NJ\, 08807\, United States
CATEGORIES:Community Event
END:VEVENT
END:VCALENDAR