BEGIN:VCALENDAR
VERSION:2.0
PRODID:-//Greater Raritan - ECPv6.15.20//NONSGML v1.0//EN
CALSCALE:GREGORIAN
METHOD:PUBLISH
X-ORIGINAL-URL:https://thegrwdb.org
X-WR-CALDESC:Events for Greater Raritan
REFRESH-INTERVAL;VALUE=DURATION:PT1H
X-Robots-Tag:noindex
X-PUBLISHED-TTL:PT1H
BEGIN:VTIMEZONE
TZID:America/New_York
BEGIN:DAYLIGHT
TZOFFSETFROM:-0500
TZOFFSETTO:-0400
TZNAME:EDT
DTSTART:20240310T070000
END:DAYLIGHT
BEGIN:STANDARD
TZOFFSETFROM:-0400
TZOFFSETTO:-0500
TZNAME:EST
DTSTART:20241103T060000
END:STANDARD
BEGIN:DAYLIGHT
TZOFFSETFROM:-0500
TZOFFSETTO:-0400
TZNAME:EDT
DTSTART:20250309T070000
END:DAYLIGHT
BEGIN:STANDARD
TZOFFSETFROM:-0400
TZOFFSETTO:-0500
TZNAME:EST
DTSTART:20251102T060000
END:STANDARD
BEGIN:DAYLIGHT
TZOFFSETFROM:-0500
TZOFFSETTO:-0400
TZNAME:EDT
DTSTART:20260308T070000
END:DAYLIGHT
BEGIN:STANDARD
TZOFFSETFROM:-0400
TZOFFSETTO:-0500
TZNAME:EST
DTSTART:20261101T060000
END:STANDARD
END:VTIMEZONE
BEGIN:VEVENT
DTSTART;TZID=America/New_York:20250506T150000
DTEND;TZID=America/New_York:20250506T161500
DTSTAMP:20260423T132557
CREATED:20250425T012355Z
LAST-MODIFIED:20250425T012355Z
UID:3636-1746543600-1746548100@thegrwdb.org
SUMMARY:CJHRC Webinar: Homeowner\, Condo & Renter’s Insurance – Basics You Should Know
DESCRIPTION:Insurance is important! Central Jersey Housing Resource Center (CJHRC) is offering a free webinar\, Homeowner\, Condo & Renter’s Insurance – Basics You Should Know\, from 3 to 4:15 p.m. Tuesday\, May 6. \nAudrey Jankucic\, of State Farm\, will explain what’s covered\, what’s not\, how to protect yourself from unexpected costs\, common insurance myths and mistakes to avoid\, tips to save money on insurance premiums\, and more. \nTo register\, click the link in the toward the bottom of this flyer or go to or go to www.cjhrc.org\, click on the Upcoming Webinars & Events tile and click on CJHRC Virtual Webinars. Choose May 6\, 2025 All About Insurance Virtual Webinar. \nFor questions or assistance with registering\, contact a CJHRC Counselor at 908-446-0037.
URL:https://thegrwdb.org/event/cjhrc-webinar-homeowner-condo-renters-insurance-basics-you-should-know/
LOCATION:Virtual Event
CATEGORIES:Community Event
END:VEVENT
END:VCALENDAR