BEGIN:VCALENDAR
VERSION:2.0
PRODID:-//Greater Raritan - ECPv6.15.20//NONSGML v1.0//EN
CALSCALE:GREGORIAN
METHOD:PUBLISH
X-ORIGINAL-URL:https://thegrwdb.org
X-WR-CALDESC:Events for Greater Raritan
REFRESH-INTERVAL;VALUE=DURATION:PT1H
X-Robots-Tag:noindex
X-PUBLISHED-TTL:PT1H
BEGIN:VTIMEZONE
TZID:America/New_York
BEGIN:DAYLIGHT
TZOFFSETFROM:-0500
TZOFFSETTO:-0400
TZNAME:EDT
DTSTART:20240310T070000
END:DAYLIGHT
BEGIN:STANDARD
TZOFFSETFROM:-0400
TZOFFSETTO:-0500
TZNAME:EST
DTSTART:20241103T060000
END:STANDARD
BEGIN:DAYLIGHT
TZOFFSETFROM:-0500
TZOFFSETTO:-0400
TZNAME:EDT
DTSTART:20250309T070000
END:DAYLIGHT
BEGIN:STANDARD
TZOFFSETFROM:-0400
TZOFFSETTO:-0500
TZNAME:EST
DTSTART:20251102T060000
END:STANDARD
BEGIN:DAYLIGHT
TZOFFSETFROM:-0500
TZOFFSETTO:-0400
TZNAME:EDT
DTSTART:20260308T070000
END:DAYLIGHT
BEGIN:STANDARD
TZOFFSETFROM:-0400
TZOFFSETTO:-0500
TZNAME:EST
DTSTART:20261101T060000
END:STANDARD
END:VTIMEZONE
BEGIN:VEVENT
DTSTART;TZID=America/New_York:20250403T150000
DTEND;TZID=America/New_York:20250403T161500
DTSTAMP:20260423T153833
CREATED:20250320T205639Z
LAST-MODIFIED:20250320T205639Z
UID:3598-1743692400-1743696900@thegrwdb.org
SUMMARY:CJHRC webinar: Free Fair Housing
DESCRIPTION:A webinar on Free Fair Housing will be presented by the Central Jersey Housing Resource Center (CJHRC) from 3 to 4:15 p.m. Thursday\, April 3. \nThe Fair Housing Act extends to all aspects of housing including sales\, advertising\, financing\, rental\, insurance\, design\, and construction. Sharon Clark of the CJHRC will cover different housing related topics during the free webinar so that participants know their fair housing rights. \nTo register\, use this link or go to www.cjhrc.org;\, click on the Upcoming Webinars & Events tile and click on CJHRC Webinars. Choose April 3\, 2025 Fair Housing Webinar; the link to register is located towards the bottom of the flyer. If you have questions or need help registering\, please contact a CJHRC counselor at 908-446-0037. \n 
URL:https://thegrwdb.org/event/cjhrc-webinar-free-fair-housing/
LOCATION:Virtual Event
CATEGORIES:Community Event
END:VEVENT
END:VCALENDAR