BEGIN:VCALENDAR
VERSION:2.0
PRODID:-//Greater Raritan - ECPv6.15.20//NONSGML v1.0//EN
CALSCALE:GREGORIAN
METHOD:PUBLISH
X-ORIGINAL-URL:https://thegrwdb.org
X-WR-CALDESC:Events for Greater Raritan
REFRESH-INTERVAL;VALUE=DURATION:PT1H
X-Robots-Tag:noindex
X-PUBLISHED-TTL:PT1H
BEGIN:VTIMEZONE
TZID:America/New_York
BEGIN:DAYLIGHT
TZOFFSETFROM:-0500
TZOFFSETTO:-0400
TZNAME:EDT
DTSTART:20230312T070000
END:DAYLIGHT
BEGIN:STANDARD
TZOFFSETFROM:-0400
TZOFFSETTO:-0500
TZNAME:EST
DTSTART:20231105T060000
END:STANDARD
BEGIN:DAYLIGHT
TZOFFSETFROM:-0500
TZOFFSETTO:-0400
TZNAME:EDT
DTSTART:20240310T070000
END:DAYLIGHT
BEGIN:STANDARD
TZOFFSETFROM:-0400
TZOFFSETTO:-0500
TZNAME:EST
DTSTART:20241103T060000
END:STANDARD
BEGIN:DAYLIGHT
TZOFFSETFROM:-0500
TZOFFSETTO:-0400
TZNAME:EDT
DTSTART:20250309T070000
END:DAYLIGHT
BEGIN:STANDARD
TZOFFSETFROM:-0400
TZOFFSETTO:-0500
TZNAME:EST
DTSTART:20251102T060000
END:STANDARD
END:VTIMEZONE
BEGIN:VEVENT
DTSTART;TZID=America/New_York:20241010T120000
DTEND;TZID=America/New_York:20241010T140000
DTSTAMP:20260424T023413
CREATED:20240917T014634Z
LAST-MODIFIED:20240917T014634Z
UID:3440-1728561600-1728568800@thegrwdb.org
SUMMARY:Artificial Intelligence in the Life Sciences
DESCRIPTION:The New Jersey Institute of Technology and the New Jersey Department of Labor are hosting “Artificial Intelligence in the Life Sciences” from 12 to 2 p.m. Thursday\, October 10\, at NJIT’s Main Campus in Newark\, in the Central King Building\, Room 116. \nThe event is geared toward college and high school students interested in learning more about the impact AI is having in the life sciences. There is limited seating for the event\, which also has a virtual attendance option. \nThe main speaker is Anthony Wallace\, vice president and general manager U.S. Surgical\, Bausch + Lomb. There also will be a presentation on how AI is impacting the workforce; a presentation on Women In Stem with Jennifer Harper Siegel. Head of HR Digital Strategy Execution for Johnson & Johnson; a session on how AI is impacting mental health with Mariam Khayretdinova of Brainify.AI; and a panel discussion led by representatives of Students 2 Science. \nThere is no charge to attend the event. To register\, use the link or QR code in this flyer. The event is presented by NJIT and the New Jersey Department of Labor’s Industry Partnership’s team. \nFor more information\, email Angelica.lindo@dol.nj.gov.
URL:https://thegrwdb.org/event/artificial-intelligence-in-the-life-sciences/
LOCATION:New Jersey Institute of Technology Central King Building\, 100 Summit St\, 07103\, Newark\, NJ\, 07103\, United States
CATEGORIES:Community Event
END:VEVENT
END:VCALENDAR