BEGIN:VCALENDAR
VERSION:2.0
PRODID:-//Greater Raritan - ECPv6.15.20//NONSGML v1.0//EN
CALSCALE:GREGORIAN
METHOD:PUBLISH
X-ORIGINAL-URL:https://thegrwdb.org
X-WR-CALDESC:Events for Greater Raritan
REFRESH-INTERVAL;VALUE=DURATION:PT1H
X-Robots-Tag:noindex
X-PUBLISHED-TTL:PT1H
BEGIN:VTIMEZONE
TZID:America/New_York
BEGIN:DAYLIGHT
TZOFFSETFROM:-0500
TZOFFSETTO:-0400
TZNAME:EDT
DTSTART:20230312T070000
END:DAYLIGHT
BEGIN:STANDARD
TZOFFSETFROM:-0400
TZOFFSETTO:-0500
TZNAME:EST
DTSTART:20231105T060000
END:STANDARD
BEGIN:DAYLIGHT
TZOFFSETFROM:-0500
TZOFFSETTO:-0400
TZNAME:EDT
DTSTART:20240310T070000
END:DAYLIGHT
BEGIN:STANDARD
TZOFFSETFROM:-0400
TZOFFSETTO:-0500
TZNAME:EST
DTSTART:20241103T060000
END:STANDARD
BEGIN:DAYLIGHT
TZOFFSETFROM:-0500
TZOFFSETTO:-0400
TZNAME:EDT
DTSTART:20250309T070000
END:DAYLIGHT
BEGIN:STANDARD
TZOFFSETFROM:-0400
TZOFFSETTO:-0500
TZNAME:EST
DTSTART:20251102T060000
END:STANDARD
END:VTIMEZONE
BEGIN:VEVENT
DTSTART;TZID=America/New_York:20240612T100000
DTEND;TZID=America/New_York:20240612T123000
DTSTAMP:20260424T095533
CREATED:20240522T220736Z
LAST-MODIFIED:20240522T220736Z
UID:3371-1718186400-1718195400@thegrwdb.org
SUMMARY:Suicide Prevention Gatekeeper Training
DESCRIPTION:A Veteran Suicide Prevention Gatekeeper Training on Wednesday\, June 12\, from 10 a.m. to 12:30 p.m. at the County College of Morris\, Maston Library Learning Center\, RM 121\, 214 Center Grove Road\, Randolph. \nThis workshop will feature S.A.V.E. and Gun Safety Training. \nIt is open to the public but will be especially helpful for Veterans\, Veteran Providers\, Case Workers and Community Partners. \nOptional registration is available by using the link in this flyer. It will be helpful to plan refreshments. \n  \n  \n 
URL:https://thegrwdb.org/event/suicide-prevention-gatekeeper-training/
LOCATION:County College of Morris\, 214 Center Grove Rooad\, Randolph\, NJ\, 07869\, United States
CATEGORIES:Community Event
END:VEVENT
END:VCALENDAR