BEGIN:VCALENDAR
VERSION:2.0
PRODID:-//Greater Raritan - ECPv6.15.20//NONSGML v1.0//EN
CALSCALE:GREGORIAN
METHOD:PUBLISH
X-WR-CALNAME:Greater Raritan
X-ORIGINAL-URL:https://thegrwdb.org
X-WR-CALDESC:Events for Greater Raritan
REFRESH-INTERVAL;VALUE=DURATION:PT1H
X-Robots-Tag:noindex
X-PUBLISHED-TTL:PT1H
BEGIN:VTIMEZONE
TZID:America/New_York
BEGIN:DAYLIGHT
TZOFFSETFROM:-0500
TZOFFSETTO:-0400
TZNAME:EDT
DTSTART:20240310T070000
END:DAYLIGHT
BEGIN:STANDARD
TZOFFSETFROM:-0400
TZOFFSETTO:-0500
TZNAME:EST
DTSTART:20241103T060000
END:STANDARD
BEGIN:DAYLIGHT
TZOFFSETFROM:-0500
TZOFFSETTO:-0400
TZNAME:EDT
DTSTART:20250309T070000
END:DAYLIGHT
BEGIN:STANDARD
TZOFFSETFROM:-0400
TZOFFSETTO:-0500
TZNAME:EST
DTSTART:20251102T060000
END:STANDARD
BEGIN:DAYLIGHT
TZOFFSETFROM:-0500
TZOFFSETTO:-0400
TZNAME:EDT
DTSTART:20260308T070000
END:DAYLIGHT
BEGIN:STANDARD
TZOFFSETFROM:-0400
TZOFFSETTO:-0500
TZNAME:EST
DTSTART:20261101T060000
END:STANDARD
END:VTIMEZONE
BEGIN:VEVENT
DTSTART;TZID=America/New_York:20251113T103000
DTEND;TZID=America/New_York:20251113T113000
DTSTAMP:20260422T235028
CREATED:20250926T225710Z
LAST-MODIFIED:20250926T225710Z
UID:3770-1763029800-1763033400@thegrwdb.org
SUMMARY:Creative Connection: Dinovember Celebration
DESCRIPTION:Creative Connections is a monthly program at the Hunterdon County Library Headquarters Branch at 314 Route 12\, Building 3\, in Flemington\, for adults with intellectual and developmental disabilities to enjoy themed crafts and activities together. \nThe meeting theme for the Thursday\, November 13\, program running from 10:30 to 11:30 a.m. is “Dinovember.” Participants will participate in dinosaur-related activities. \nCaregivers or support staff are required to attend and engage in activities\, and registration is required to ensure a meaningful and personalized experience for all. \nThe program will be conducted in the library’s Main Meeting Room. \nCall 908-788-1434 or go here to register.
URL:https://thegrwdb.org/event/creative-connection-dinovember-celebration/
LOCATION:Hunterdon County Library\, 314 Route 12\, Flemington\, NJ\, 08822\, United States
CATEGORIES:Community Event
END:VEVENT
BEGIN:VEVENT
DTSTART;TZID=America/New_York:20251117T173000
DTEND;TZID=America/New_York:20251117T201500
DTSTAMP:20260422T235028
CREATED:20250819T025126Z
LAST-MODIFIED:20250819T025126Z
UID:3731-1763400600-1763410500@thegrwdb.org
SUMMARY:Central Jersey Housing Resource Center Homebuyer Webinar Part 1
DESCRIPTION:Central Jersey Housing Resource Center (CJHRC) is presenting a two-day virtual Homebuyer Workshop from 5:30 to 8:15 p.m. Monday\, November 17\, and Wednesday\, November 19. \nThis HUD certified homebuyer free workshop will provide a comprehensive overview of the home buying process. Attendees will hear from the industry’s local professionals about how to become a successful homeowner. Topics to be covered include: \n\nMoney Management and Budgeting\nWorking with a Realtor\nCredit\nFair Housing\nHow to Get a Mortgage\nHome Inspections & Ten Important Questions\nWorking with a Real Estate Attorney\nAffordable Housing Options\nHomeowners Insurance\nDown Payment and Closing Cost Grants\n\nAttendees must attend both days and will receive a certificate after the workshops are completed. In order to obtain a certificate\, participants\nmust complete and submit required forms. \nTo register\, go to https://cjhrc.org. or the link in this flyer. If you have questions or need help registering\, contact a CJHRC Counselor at 908-446-0036.
URL:https://thegrwdb.org/event/central-jersey-housing-resource-center-homebuyer-webinar-part-1-2/
LOCATION:Virtual Event
CATEGORIES:Community Event
END:VEVENT
BEGIN:VEVENT
DTSTART;TZID=America/New_York:20251119T173000
DTEND;TZID=America/New_York:20251119T201500
DTSTAMP:20260422T235028
CREATED:20250819T025322Z
LAST-MODIFIED:20250819T025322Z
UID:3732-1763573400-1763583300@thegrwdb.org
SUMMARY:Central Jersey Housing Resource Center Homebuyer Webinar Part 2
DESCRIPTION:Central Jersey Housing Resource Center (CJHRC) is presenting a two-day virtual Homebuyer Workshop from 5:30 to 8:15 p.m. Monday\, November 17\, and Wednesday\, November 19. \nThis HUD certified homebuyer free workshop will provide a comprehensive overview of the home buying process. Attendees will hear from the industry’s local professionals about how to become a successful homeowner. Topics to be covered include: \n\nMoney Management and Budgeting\nWorking with a Realtor\nCredit\nFair Housing\nHow to Get a Mortgage\nHome Inspections & Ten Important Questions\nWorking with a Real Estate Attorney\nAffordable Housing Options\nHomeowners Insurance\nDown Payment and Closing Cost Grants\n\nAttendees must attend both days and will receive a certificate after the workshops are completed. In order to obtain a certificate\, participants\nmust complete and submit required forms. \nTo register\, go to https://cjhrc.org. or the link in this flyer. If you have questions or need help registering\, contact a CJHRC Counselor at 908-446-0036.
URL:https://thegrwdb.org/event/central-jersey-housing-resource-center-homebuyer-webinar-part-2/
LOCATION:Virtual Event
CATEGORIES:Community Event
END:VEVENT
BEGIN:VEVENT
DTSTART;TZID=America/New_York:20251120T080000
DTEND;TZID=America/New_York:20251120T170000
DTSTAMP:20260422T235028
CREATED:20251021T023720Z
LAST-MODIFIED:20251021T023720Z
UID:3802-1763625600-1763658000@thegrwdb.org
SUMMARY:2025 Annual New Jersey Rural Health Conference
DESCRIPTION:The 2025 Annual NJ Rural Health Conference will be conducted on Thursday\, November 20\, at Brookdale Community College in Lincroft from 8 a.m. to 5 p.m. \nThe conference\, entitled Sustainable Solutions: Assessing and Addressing Our Rural Health Needs\, is hosted by the New Jersey Department of Health Office of Primary Care and Rural Health. It will provide a platform for attendees to learn about health trends and connect with rural partners to enhance health outcomes in rural New Jersey. \nDenise Anderson\, executive director of the Center for Health Equity & Wellbeing\, New Jersey’s Public Health Institute\, is the keynote speaker\, and there are a variety of breakout sessions. \nTo register to attend in person\, go to bit.ly/48Fau1K\, or use the QR code in this flyer.
URL:https://thegrwdb.org/event/2025-annual-new-jersey-rural-health-conference/
LOCATION:Brookdale Community College\, 765 Newman Springs Road\, Lincroft\, NJ\, 07738\, United States
CATEGORIES:Community Event
END:VEVENT
END:VCALENDAR