BEGIN:VCALENDAR
VERSION:2.0
PRODID:-//Greater Raritan - ECPv6.15.20//NONSGML v1.0//EN
CALSCALE:GREGORIAN
METHOD:PUBLISH
X-ORIGINAL-URL:https://thegrwdb.org
X-WR-CALDESC:Events for Greater Raritan
REFRESH-INTERVAL;VALUE=DURATION:PT1H
X-Robots-Tag:noindex
X-PUBLISHED-TTL:PT1H
BEGIN:VTIMEZONE
TZID:America/New_York
BEGIN:DAYLIGHT
TZOFFSETFROM:-0500
TZOFFSETTO:-0400
TZNAME:EDT
DTSTART:20230312T070000
END:DAYLIGHT
BEGIN:STANDARD
TZOFFSETFROM:-0400
TZOFFSETTO:-0500
TZNAME:EST
DTSTART:20231105T060000
END:STANDARD
BEGIN:DAYLIGHT
TZOFFSETFROM:-0500
TZOFFSETTO:-0400
TZNAME:EDT
DTSTART:20240310T070000
END:DAYLIGHT
BEGIN:STANDARD
TZOFFSETFROM:-0400
TZOFFSETTO:-0500
TZNAME:EST
DTSTART:20241103T060000
END:STANDARD
BEGIN:DAYLIGHT
TZOFFSETFROM:-0500
TZOFFSETTO:-0400
TZNAME:EDT
DTSTART:20250309T070000
END:DAYLIGHT
BEGIN:STANDARD
TZOFFSETFROM:-0400
TZOFFSETTO:-0500
TZNAME:EST
DTSTART:20251102T060000
END:STANDARD
END:VTIMEZONE
BEGIN:VEVENT
DTSTART;TZID=America/New_York:20240919T130000
DTEND;TZID=America/New_York:20240919T160000
DTSTAMP:20260424T023233
CREATED:20240827T024943Z
LAST-MODIFIED:20240827T024943Z
UID:3428-1726750800-1726761600@thegrwdb.org
SUMMARY:Resource Expo with CEA and DVRS
DESCRIPTION:A Resource Expo will be presented by the Center for Educational Advancement (CEA) from 1 to 4 p.m.  Thursday\, September 19\, at the Flemington Elks Lodge\, 165 Route 31\, Flemington. \nThis event will feature local and state partners sharing information on: community employment and job coaching; college search support; and mental health Service providers. In addition\, representatives from the Division of Vocational Rehabilitation Services (DVRS) will be on-site. \nRSVP by using the QR code in this flyer. For more information\, contact Dr. Paul Semegran\, the CEA’s director of Academic & Transition Services at psemegran@cea-nj.org or 908-782-1480\, Ext. 111.
URL:https://thegrwdb.org/event/resource-expo-with-cea-and-dvrs/
LOCATION:Flemington Elks Lodge\, 165 Route 31\, Flemington\, NJ\, 08822\, United States
CATEGORIES:Community Event
END:VEVENT
BEGIN:VEVENT
DTSTART;TZID=America/New_York:20240919T180000
DTEND;TZID=America/New_York:20240919T200000
DTSTAMP:20260424T023233
CREATED:20240911T031308Z
LAST-MODIFIED:20240911T031308Z
UID:3437-1726768800-1726776000@thegrwdb.org
SUMMARY:Teen Speak Workshop Hosted by EmPower Somerset
DESCRIPTION:EmPower Somerset is conducting a free\, virtual Teen Speak Parent and Caregiver Workshop on September 19 and 26\, 2024 from 6 to 8 p.m. \nTeen Speak teaches the skills necessary to open the lines of communication between parents/caregivers and their teens focusing on topics such\nas sex\, mental health\, and substance use. Participants who complete both sessions will receive a $40 gift card. \nSeating is limited. To register\, scan the QR code in this flyer of visit https://tinyurl.com/bdfucw5n. \n  \n 
URL:https://thegrwdb.org/event/teen-speak-workshop-hosted-by-empower-somerset/
LOCATION:Virtual Event
CATEGORIES:Community Event
END:VEVENT
BEGIN:VEVENT
DTSTART;TZID=America/New_York:20240926T180000
DTEND;TZID=America/New_York:20240926T200000
DTSTAMP:20260424T023233
CREATED:20240911T031407Z
LAST-MODIFIED:20240911T031407Z
UID:3438-1727373600-1727380800@thegrwdb.org
SUMMARY:Teen Speak Workshop Hosted by EmPower Somerset
DESCRIPTION:EmPower Somerset is conducting a free\, virtual Teen Speak Parent and Caregiver Workshop on September 19 and 26\, 2024 from 6 to 8 p.m. \nTeen Speak teaches the skills necessary to open the lines of communication between parents/caregivers and their teens focusing on topics such\nas sex\, mental health\, and substance use. Participants who complete both sessions will receive a $40 gift card. \nSeating is limited. To register\, scan the QR code in this flyer of visit https://tinyurl.com/bdfucw5n.
URL:https://thegrwdb.org/event/teen-speak-workshop-hosted-by-empower-somerset-2/
LOCATION:Virtual Event
CATEGORIES:Community Event
END:VEVENT
BEGIN:VEVENT
DTSTART;TZID=America/New_York:20240927T140000
DTEND;TZID=America/New_York:20240927T160000
DTSTAMP:20260424T023233
CREATED:20240905T185210Z
LAST-MODIFIED:20240905T185210Z
UID:3430-1727445600-1727452800@thegrwdb.org
SUMMARY:Career Cafe at Greater Raritan One-Stop Career Training Services Center
DESCRIPTION:The Greater Raritan One-Stop Career Training Services Center at 27 Warren St.\, second floor\, Somerville\, is hosting a Career Cafe series this fall. \nJob seekers\, community- and faith-based organizations\, current Greater Raritan Workforce Development Board partners\, and businesses representatives based in Hunterdon and Somerset counties are invited to stop by for coffee\, cookies and conversation about the menu of Training Center’s services\, including individual and cohort training opportunities\, resume and job search assistance\, literacy services and much more. \nThis information series will be conducted from 2 to 4 p.m. on the following Fridays: September 27\, October 25 and November 22. If you can’t make it those days or hours\, the Training Center is open for walk-in service five days a week\, from 8:30 a.m. to 4:30 p.m. Monday to Friday. Appointments during those times are also available. In addition\, the Greater Raritan One-Stop Career Center at 6 Gauntt Place in Flemington is open for walk-in service from 8:30 a.m. to 4 p.m. Monday to Wednesday and by appointment Thursday and Friday. \nFor questions about the Career Cafes and to learn more about available services\, email onestop@co.somerset.nj.us or call 908-541-5780. \n 
URL:https://thegrwdb.org/event/career-cafe-at-greater-raritan-one-stop-career-training-services-center/
LOCATION:Greater Raritan One-Stop Career Training Center\, 27 Warren St.\, 2nd floor\, Somerville\, NJ\, 08876\, United States
CATEGORIES:Community Event
END:VEVENT
END:VCALENDAR