BEGIN:VCALENDAR
VERSION:2.0
PRODID:-//Greater Raritan - ECPv6.15.20//NONSGML v1.0//EN
CALSCALE:GREGORIAN
METHOD:PUBLISH
X-ORIGINAL-URL:https://thegrwdb.org
X-WR-CALDESC:Events for Greater Raritan
REFRESH-INTERVAL;VALUE=DURATION:PT1H
X-Robots-Tag:noindex
X-PUBLISHED-TTL:PT1H
BEGIN:VTIMEZONE
TZID:America/New_York
BEGIN:DAYLIGHT
TZOFFSETFROM:-0500
TZOFFSETTO:-0400
TZNAME:EDT
DTSTART:20230312T070000
END:DAYLIGHT
BEGIN:STANDARD
TZOFFSETFROM:-0400
TZOFFSETTO:-0500
TZNAME:EST
DTSTART:20231105T060000
END:STANDARD
BEGIN:DAYLIGHT
TZOFFSETFROM:-0500
TZOFFSETTO:-0400
TZNAME:EDT
DTSTART:20240310T070000
END:DAYLIGHT
BEGIN:STANDARD
TZOFFSETFROM:-0400
TZOFFSETTO:-0500
TZNAME:EST
DTSTART:20241103T060000
END:STANDARD
BEGIN:DAYLIGHT
TZOFFSETFROM:-0500
TZOFFSETTO:-0400
TZNAME:EDT
DTSTART:20250309T070000
END:DAYLIGHT
BEGIN:STANDARD
TZOFFSETFROM:-0400
TZOFFSETTO:-0500
TZNAME:EST
DTSTART:20251102T060000
END:STANDARD
END:VTIMEZONE
BEGIN:VEVENT
DTSTART;TZID=America/New_York:20240813T100000
DTEND;TZID=America/New_York:20240813T104500
DTSTAMP:20260423T004743
CREATED:20240810T024848Z
LAST-MODIFIED:20240810T024848Z
UID:3411-1723543200-1723545900@thegrwdb.org
SUMMARY:GRWDB Disabilities Committee meeting
DESCRIPTION:Through policy\, oversight\, and planning\, the GRWDB ensures that workforce training and education investments are responsive to and meet the needs of employers and jobseekers and is responsible for maintaining committees to help inform decision-making around services and priorities. One of those includes the GRWDB’s Disabilities Committee\, which works to coordinate and integrate local disability services with each other and the One-Stop Career Center while seeking ways to expand and integrate local disability resources and services. \nThis meeting can be attended in person\, at 27 Warren St.\, second-floor conference room\, Somerville\, or virtually meeting via GoToMeeting. \nGRWDB Disabilities Committee\nAug 13\, 2024\, 10:00 – 10:45 AM \nPlease join the meeting from your computer\, tablet or smartphone.\nhttps://meet.goto.com/565526189 \nYou can also dial in using your phone.\nUnited States: +1 (571) 317-3112 Access Code: 565-526-189 \nNewcomers\, please RSVP to info@thegrwdb.org for details. \nFind the agenda on the Events – Meeting Packages tab of the website. \nGo
URL:https://thegrwdb.org/event/grwdb-disabilities-committee-meeting-2/
LOCATION:GoToMeeting and In Person\, 27 Warren St.\, second-floor conference room\, Somerville\, NJ\, 08876\, United States
CATEGORIES:Committee Meeting
END:VEVENT
BEGIN:VEVENT
DTSTART;TZID=America/New_York:20240808T150000
DTEND;TZID=America/New_York:20240808T154500
DTSTAMP:20260423T004743
CREATED:20240802T025222Z
LAST-MODIFIED:20240802T025222Z
UID:3410-1723129200-1723131900@thegrwdb.org
SUMMARY:GRWDB Operations Committee Meeting – in-person and via GoToMeeting
DESCRIPTION:Through policy\, oversight\, and planning\, the GRWDB ensures that workforce training and education investments are responsive to and meet the needs of employers and jobseekers and is responsible for maintaining committees to help inform decision-making around services and priorities for targeted populations. One of those includes the GRWDB’s One-Stop Operations Committee\, which provides strategy and direction for the services and programs offered by the One-Stop locations in Flemington (Hunterdon County) and Somerville (Somerset County). \nAttendees may either join in person by going to 27 Warren St.\, second-floor conference room\, Somerville\, or via GoToMeeting. \nGRWDB Operations Committee\nAug 8\, 2024\, 3:00 – 3:45 PM \nPlease join the meeting from your computer\, tablet or smartphone.\nhttps://meet.goto.com/363671933 \nYou can also dial in using your phone.\nAccess Code: 363-671-933\nUnited States: +1 (408) 650-3123 \nMeeting agendas are posted here on the GRWDB website. \nNewcomers\, please RSVP to info@thegrwdb.org for more information!
URL:https://thegrwdb.org/event/grwdb-operations-committee-meeting-in-person-and-via-gotomeeting-2/
LOCATION:27 Warren St\, Somerville\, NJ 08876\, 27 Warren St.\, Somerville\, NJ\, 08876\, United States
CATEGORIES:Committee Meeting
END:VEVENT
BEGIN:VEVENT
DTSTART;TZID=America/New_York:20240716T130000
DTEND;TZID=America/New_York:20240716T141500
DTSTAMP:20260423T004743
CREATED:20240712T023637Z
LAST-MODIFIED:20240712T023637Z
UID:3394-1721134800-1721139300@thegrwdb.org
SUMMARY:GRWDB Literacy Committee meeting
DESCRIPTION:Through policy\, oversight\, and planning\, the GRWDB ensures that workforce training and education investments are responsive to and meet the needs of employers and jobseekers and is responsible for maintaining committees to help inform decision-making around services and priorities for targeted populations. One of those includes the GRWDB’s Literacy Committee\, which works with Title II literacy providers and volunteer literacy organizations in Hunterdon and Somerset counties to ensure literacy training is connected to the other services offered in Greater Raritan’s workforce system. \nThe agenda for the July 16 meeting will include an important discussion on the evolution of First Step Basic English program\, a look ahead to Title II funding and related programming\, and a discussion on assisting program participants get connected to other services. (Please note that this meeting replaces a previously scheduled July 30 meeting of the GRWDB Literacy Committee.) \nThis meeting will be conducted on Zoom. Go here to join: https://link.edgepilot.com/s/52ccf679/S420V0wZOk2CDcGPMEz7-g?u=https://us02web.zoom.us/j/86739350889?pwd=y3KX1DBAYjP8SywkNDjkQ58cQWRKhc.1. \nAll GRWDB committee meetings are open to the public. \n 
URL:https://thegrwdb.org/event/grwdb-literacy-committee-meeting/
LOCATION:Zoom
CATEGORIES:Committee Meeting
END:VEVENT
BEGIN:VEVENT
DTSTART;TZID=America/New_York:20240523T143000
DTEND;TZID=America/New_York:20240523T151500
DTSTAMP:20260423T004743
CREATED:20240521T023441Z
LAST-MODIFIED:20240521T023441Z
UID:3370-1716474600-1716477300@thegrwdb.org
SUMMARY:GRWDB Youth Committee meeting
DESCRIPTION:Through policy\, oversight\, and planning\, the GRWDB ensures that workforce training and education investments are responsive to and meet the needs of employers and jobseekers. As part of this work\, the GRWDB is responsible for maintaining committees to help inform decision-making around services and priorities for targeted populations. \nOne of those is the GRWDB’s Youth Committee\, which works to coordinate and integrate local youth services with current partners while seeking ways to expand and develop local youth services. \nTopics of discussion for this meeting include reviewing a new Subrecipient Youth Food policy\, and discussion on page and upcoming youth-related events. \nMeetings are open to the public. This meeting can be attended in person\, at 27 Warren St.\, second-floor conference room\, Somerville or via GoToMeeting: \nGRWDB Youth Committee meeting\nMay 23\, 2024\, 2:30 – 3:15 PM \nPlease join the meeting from your computer\, tablet or smartphone.\nhttps://meet.goto.com/175587805 \nYou can also dial in using your phone.\nAccess Code: 175-587-805\nUnited States: +1 (872) 240-3412 \nNewcomers\, please RSVP to info@thegrwdb.org for details. \n 
URL:https://thegrwdb.org/event/grwdb-youth-committee-meeting/
LOCATION:27 Warren St\, Somerville\, NJ 08876\, 27 Warren St.\, Somerville\, NJ\, 08876\, United States
CATEGORIES:Committee Meeting
END:VEVENT
BEGIN:VEVENT
DTSTART;TZID=America/New_York:20240514T100000
DTEND;TZID=America/New_York:20240514T104500
DTSTAMP:20260423T004743
CREATED:20240510T021733Z
LAST-MODIFIED:20240510T021733Z
UID:3361-1715680800-1715683500@thegrwdb.org
SUMMARY:GRWDB Disabilities Committee meeting
DESCRIPTION:Through policy\, oversight\, and planning\, the GRWDB ensures that workforce training and education investments are responsive to and meet the needs of employers and jobseekers and is responsible for maintaining committees to help inform decision-making around services and priorities. One of those includes the GRWDB’s Disabilities Committee\, which works to coordinate and integrate local disability services with each other and the One-Stop Career Center while seeking ways to expand and integrate local disability resources and services. \nThis meeting can be attended in person\, at 27 Warren St.\, second-floor conference room\, Somerville\, or virtually meeting via GoToMeeting. \nGRWDB Disabilities Committee meeting\nMay 14\, 2024\, 10:00 – 10:45 AM \nPlease join the meeting from your computer\, tablet or smartphone.\nhttps://meet.goto.com/946440741 \nYou can also dial in using your phone.\nAccess Code: 946-440-741\nUnited States: +1 (872) 240-3311 \nNewcomers\, please RSVP to info@thegrwdb.org for details. \nFind the agenda on the Events – Meeting Packages tab of the website. \n 
URL:https://thegrwdb.org/event/grwdb-disabilities-committee-meeting/
LOCATION:27 Warren St\, Somerville\, NJ 08876\, 27 Warren St.\, Somerville\, NJ\, 08876\, United States
CATEGORIES:Committee Meeting
END:VEVENT
BEGIN:VEVENT
DTSTART;TZID=America/New_York:20240509T140000
DTEND;TZID=America/New_York:20240509T144500
DTSTAMP:20260423T004743
CREATED:20240509T025930Z
LAST-MODIFIED:20240509T025930Z
UID:3356-1715263200-1715265900@thegrwdb.org
SUMMARY:GRWDB Operations Committee meeting – In-person and via GoToMeeting
DESCRIPTION:Through policy\, oversight\, and planning\, the GRWDB ensures that workforce training and education investments are responsive to and meet the needs of employers and jobseekers and is responsible for maintaining committees to help inform decision-making around services and priorities for targeted populations. One of those includes the GRWDB’s One-Stop Operations Committee\, which provides strategy and direction for the services and programs offered by the One-Stop locations in Flemington (Hunterdon County) and Somerville (Somerset County). \nAttendees may either join in person by going to 27 Warren St.\, second-floor conference room\, Somerville\, or via GoToMeeting. \nGRWDB Operations Committee meeting\nMay 9\, 2024\, 2:00 – 2:45 PM \nPlease join the meeting from your computer\, tablet or smartphone.\nhttps://meet.goto.com/149665181 \nYou can also dial in using your phone.\nAccess Code: 149-665-181\nUnited States: +1 (872) 240-3212 \nMeeting agendas are posted here on the GRWDB website. \nNewcomers\, please RSVP to info@thegrwdb.org for more information! \n 
URL:https://thegrwdb.org/event/grwdb-operations-committee-meeting-in-person-and-via-gotomeeting/
LOCATION:27 Warren St\, Somerville\, NJ 08876\, 27 Warren St.\, Somerville\, NJ\, 08876\, United States
CATEGORIES:Committee Meeting
END:VEVENT
BEGIN:VEVENT
DTSTART;TZID=America/New_York:20240507T140000
DTEND;TZID=America/New_York:20240507T144500
DTSTAMP:20260423T004743
CREATED:20240427T004010Z
LAST-MODIFIED:20240427T004010Z
UID:3347-1715090400-1715093100@thegrwdb.org
SUMMARY:GRWDB Literacy Committee meeting – In-person and virtual
DESCRIPTION:Through policy\, oversight\, and planning\, the GRWDB ensures that workforce training and education investments are responsive to and meet the needs of employers and jobseekers and is responsible for maintaining committees to help inform decision-making around services and priorities for targeted populations. One of those includes the GRWDB’s Literacy Committee\, which works with Title II literacy providers and volunteer literacy organizations in Hunterdon and Somerset counties to ensure literacy training is connected to the other services offered in Greater Raritan’s workforce system. \nThe agenda will include a review of the First Step Basic English program and a discussion about literacy services/gaps in Hunterdon County. Meeting agendas can be found here on the GRWDB website. \nThe meeting will be hybrid\, in-person in the second-floor conference room at 27 Warren St.\, Somerville\, and on GoToMeeting. To join the meeting virtually: \nGRWDB Literacy Committee meeting\nMay 7\, 2024\, 2:00 – 2:45 PM \nPlease join the meeting from your computer\, tablet or smartphone.\nhttps://meet.goto.com/471744229 \nYou can also dial in using your phone.\nAccess Code: 471-744-229\nUnited States: +1 (872) 240-3412 \nAll are welcomed to attend. Newcomers\, please RSVP to info@thegrwdb.org to join.
URL:https://thegrwdb.org/event/grwdb-literacy-committee-meeting-in-person-and-virtual/
LOCATION:In-person at Somerset County Human Services building or via GoToMeeting\, 27 Warren St.\, second-floor conference room\, Somerville\, NJ\, 08876\, United States
CATEGORIES:Committee Meeting
END:VEVENT
END:VCALENDAR