BEGIN:VCALENDAR
VERSION:2.0
PRODID:-//Greater Raritan - ECPv6.15.20//NONSGML v1.0//EN
CALSCALE:GREGORIAN
METHOD:PUBLISH
X-ORIGINAL-URL:https://thegrwdb.org
X-WR-CALDESC:Events for Greater Raritan
REFRESH-INTERVAL;VALUE=DURATION:PT1H
X-Robots-Tag:noindex
X-PUBLISHED-TTL:PT1H
BEGIN:VTIMEZONE
TZID:America/New_York
BEGIN:DAYLIGHT
TZOFFSETFROM:-0500
TZOFFSETTO:-0400
TZNAME:EDT
DTSTART:20240310T070000
END:DAYLIGHT
BEGIN:STANDARD
TZOFFSETFROM:-0400
TZOFFSETTO:-0500
TZNAME:EST
DTSTART:20241103T060000
END:STANDARD
BEGIN:DAYLIGHT
TZOFFSETFROM:-0500
TZOFFSETTO:-0400
TZNAME:EDT
DTSTART:20250309T070000
END:DAYLIGHT
BEGIN:STANDARD
TZOFFSETFROM:-0400
TZOFFSETTO:-0500
TZNAME:EST
DTSTART:20251102T060000
END:STANDARD
BEGIN:DAYLIGHT
TZOFFSETFROM:-0500
TZOFFSETTO:-0400
TZNAME:EDT
DTSTART:20260308T070000
END:DAYLIGHT
BEGIN:STANDARD
TZOFFSETFROM:-0400
TZOFFSETTO:-0500
TZNAME:EST
DTSTART:20261101T060000
END:STANDARD
END:VTIMEZONE
BEGIN:VEVENT
DTSTART;TZID=America/New_York:20250218T100000
DTEND;TZID=America/New_York:20250218T104500
DTSTAMP:20260423T202311
CREATED:20250214T031052Z
LAST-MODIFIED:20250214T031052Z
UID:3566-1739872800-1739875500@thegrwdb.org
SUMMARY:GRWDB Disabilities Committee Meeting
DESCRIPTION:Through policy\, oversight\, and planning\, the GRWDB ensures that workforce training and education investments are responsive to and meet the needs of employers and jobseekers and is responsible for maintaining committees to help inform decision-making around services and priorities. One of those includes the GRWDB’s Disabilities Committee\, which works to coordinate and integrate local disability services with each other and the One-Stop Career Center while seeking ways to expand and integrate local disability resources and services. \nThis meeting can be attended via GoToMeeting or in person\, at 27 Warren St.\, second-floor conference room\, Somerville. \nGRWDB Disabilities Committee\nDec 3\, 2024\, 10:00 – 10:45 AM \nPlease join the meeting from your computer\, tablet or smartphone.\nhttps://meet.goto.com/209708661 \nYou can also dial in using your phone: +1 (872) 240-3212; Access Code: 209-708-661 \nGet the app now and be ready when your first meeting starts:\nhttps://meet.goto.com/install \nNewcomers\, please RSVP to info@thegrwdb.org for details. \nFind the agenda on the Events – Meeting Packages tab of the website. \n 
URL:https://thegrwdb.org/event/grwdb-disabilities-committee-meeting-4/
LOCATION:GoToMeeting and In Person\, 27 Warren St.\, second-floor conference room\, Somerville\, NJ\, 08876\, United States
CATEGORIES:Committee Meeting
END:VEVENT
END:VCALENDAR