BEGIN:VCALENDAR
VERSION:2.0
PRODID:-//Greater Raritan - ECPv6.15.20//NONSGML v1.0//EN
CALSCALE:GREGORIAN
METHOD:PUBLISH
X-WR-CALNAME:Greater Raritan
X-ORIGINAL-URL:https://thegrwdb.org
X-WR-CALDESC:Events for Greater Raritan
REFRESH-INTERVAL;VALUE=DURATION:PT1H
X-Robots-Tag:noindex
X-PUBLISHED-TTL:PT1H
BEGIN:VTIMEZONE
TZID:America/New_York
BEGIN:DAYLIGHT
TZOFFSETFROM:-0500
TZOFFSETTO:-0400
TZNAME:EDT
DTSTART:20230312T070000
END:DAYLIGHT
BEGIN:STANDARD
TZOFFSETFROM:-0400
TZOFFSETTO:-0500
TZNAME:EST
DTSTART:20231105T060000
END:STANDARD
BEGIN:DAYLIGHT
TZOFFSETFROM:-0500
TZOFFSETTO:-0400
TZNAME:EDT
DTSTART:20240310T070000
END:DAYLIGHT
BEGIN:STANDARD
TZOFFSETFROM:-0400
TZOFFSETTO:-0500
TZNAME:EST
DTSTART:20241103T060000
END:STANDARD
BEGIN:DAYLIGHT
TZOFFSETFROM:-0500
TZOFFSETTO:-0400
TZNAME:EDT
DTSTART:20250309T070000
END:DAYLIGHT
BEGIN:STANDARD
TZOFFSETFROM:-0400
TZOFFSETTO:-0500
TZNAME:EST
DTSTART:20251102T060000
END:STANDARD
END:VTIMEZONE
BEGIN:VEVENT
DTSTART;TZID=America/New_York:20240822T143000
DTEND;TZID=America/New_York:20240822T151500
DTSTAMP:20260424T083715
CREATED:20240816T223408Z
LAST-MODIFIED:20240816T223408Z
UID:3415-1724337000-1724339700@thegrwdb.org
SUMMARY:GRWDB Youth Committee
DESCRIPTION:Through policy\, oversight\, and planning\, the GRWDB ensures that workforce training and education investments are responsive to and meet the needs of employers and jobseekers. As part of this work\, the GRWDB is responsible for maintaining committees to help inform decision-making around services and priorities for targeted populations. \nOne of those is the GRWDB’s Youth Committee\, which works to coordinate and integrate local youth services with current partners while seeking ways to expand and develop local youth services. \nThis meeting will include a presentation Teen Speak\, a program from EmPower Somerset. \nMeetings are open to the public. \nGRWDB Youth Committee\nAug 22\, 2024\, 2:30 – 3:15 PM \nPlease join the meeting from your computer\, tablet or smartphone.\nhttps://meet.goto.com/843528405 \nYou can also dial in using your phone.\nAccess Code: 843-528-405\nUnited States: +1 (224) 501-3412 \nNewcomers\, please RSVP to info@thegrwdb.org for details.
URL:https://thegrwdb.org/event/grwdb-youth-committee/
LOCATION:Virtual Meeting
CATEGORIES:Committee Meeting
END:VEVENT
END:VCALENDAR