BEGIN:VCALENDAR
VERSION:2.0
PRODID:-//Greater Raritan - ECPv6.15.20//NONSGML v1.0//EN
CALSCALE:GREGORIAN
METHOD:PUBLISH
X-ORIGINAL-URL:https://thegrwdb.org
X-WR-CALDESC:Events for Greater Raritan
REFRESH-INTERVAL;VALUE=DURATION:PT1H
X-Robots-Tag:noindex
X-PUBLISHED-TTL:PT1H
BEGIN:VTIMEZONE
TZID:America/New_York
BEGIN:DAYLIGHT
TZOFFSETFROM:-0500
TZOFFSETTO:-0400
TZNAME:EDT
DTSTART:20240310T070000
END:DAYLIGHT
BEGIN:STANDARD
TZOFFSETFROM:-0400
TZOFFSETTO:-0500
TZNAME:EST
DTSTART:20241103T060000
END:STANDARD
BEGIN:DAYLIGHT
TZOFFSETFROM:-0500
TZOFFSETTO:-0400
TZNAME:EDT
DTSTART:20250309T070000
END:DAYLIGHT
BEGIN:STANDARD
TZOFFSETFROM:-0400
TZOFFSETTO:-0500
TZNAME:EST
DTSTART:20251102T060000
END:STANDARD
BEGIN:DAYLIGHT
TZOFFSETFROM:-0500
TZOFFSETTO:-0400
TZNAME:EDT
DTSTART:20260308T070000
END:DAYLIGHT
BEGIN:STANDARD
TZOFFSETFROM:-0400
TZOFFSETTO:-0500
TZNAME:EST
DTSTART:20261101T060000
END:STANDARD
END:VTIMEZONE
BEGIN:VEVENT
DTSTART;TZID=America/New_York:20250508T150000
DTEND;TZID=America/New_York:20250508T160000
DTSTAMP:20260423T124936
CREATED:20250502T025422Z
LAST-MODIFIED:20250502T025422Z
UID:3663-1746716400-1746720000@thegrwdb.org
SUMMARY:GRWDB Operations Committee Meeting – Virtual
DESCRIPTION:Through policy\, oversight\, and planning\, the GRWDB ensures that workforce training and education investments are responsive to and meet the needs of employers and jobseekers and is responsible for maintaining committees to help inform decision-making around services and priorities for targeted populations. One of those includes the GRWDB’s One-Stop Operations Committee\, which provides strategy and direction for the services and programs offered by the One-Stop locations in Flemington (Hunterdon County) and Somerville (Somerset County). \nAttendees may join via GoToMeeting. \nGRWDB Operations Committee Meeting\nMay 8\, 2025\, 3:00 – 3:45 PM \nPlease join the meeting from your computer\, tablet or smartphone.\nhttps://meet.goto.com/837381285 \nYou can also dial in using your phone.\nAccess Code: 837-381-285\nUnited States: +1 (224) 501-3412 \nMeeting agendas are posted here on the GRWDB website. \nNewcomers\, please RSVP to info@thegrwdb.org for more information!
URL:https://thegrwdb.org/event/grwdb-operations-committee-meeting-virtual-2/
LOCATION:Virtual Meeting
CATEGORIES:Committee Meeting
END:VEVENT
BEGIN:VEVENT
DTSTART;TZID=America/New_York:20250513T140000
DTEND;TZID=America/New_York:20250513T150000
DTSTAMP:20260423T124936
CREATED:20250509T230919Z
LAST-MODIFIED:20250509T230919Z
UID:3671-1747144800-1747148400@thegrwdb.org
SUMMARY:GRWDB Literacy Committee Meeting
DESCRIPTION:Through policy\, oversight\, and planning\, the GRWDB ensures that workforce training and education investments are responsive to and meet the needs of employers and jobseekers and is responsible for maintaining committees to help inform decision-making around services and priorities for targeted populations. One of those includes the GRWDB’s Literacy Committee\, which works with Title II literacy providers and volunteer literacy organizations in Hunterdon and Somerset counties to ensure literacy training is connected to the other services offered in Greater Raritan’s workforce system. \nThe agenda for the May 13 meeting will include reviews of First Steps and Title II programs (including area’s Title II applications) and a brief discussion on the NJDOL’s Digital Equity Training grant opportunity.  Go to the GRWDB Meeting Packages page for the agenda. Meeting details: \nGRWDB Literacy Meeting\nMay 13\, 2025\, 2:00 – 3:00 PM \nPlease join the meeting from your computer\, tablet or smartphone.\nhttps://meet.goto.com/411167173 \nYou can also dial in using your phone: United States: +1 (224) 501-3412; Access Code: 411-167-173 \nAll GRWDB committee meetings are open to the public.
URL:https://thegrwdb.org/event/grwdb-literacy-committee-meeting-3/
LOCATION:Virtual Meeting
CATEGORIES:Committee Meeting
END:VEVENT
BEGIN:VEVENT
DTSTART;TZID=America/New_York:20250520T100000
DTEND;TZID=America/New_York:20250520T104500
DTSTAMP:20260423T124936
CREATED:20250516T025746Z
LAST-MODIFIED:20250516T025746Z
UID:3672-1747735200-1747737900@thegrwdb.org
SUMMARY:GRWDB Disabilities Committee Meeting
DESCRIPTION:Through policy\, oversight\, and planning\, the GRWDB ensures that workforce training and education investments are responsive to and meet the needs of employers and jobseekers and is responsible for maintaining committees to help inform decision-making around services and priorities. One of those includes the GRWDB’s Disabilities Committee\, which works to coordinate and integrate local disability services with each other and the One-Stop Career Center while seeking ways to expand and integrate local disability resources and services. \nFind the agenda on the Events – Meeting Packages tab of the website. \nThis meeting can be attended via GoToMeeting or in person\, at 27 Warren St.\, second-floor conference room\, Somerville. \nGRWDB Disabilities Committee\nMay 20\, 10:00 – 10:45 AM \nPlease join the meeting from your computer\, tablet or smartphone.\nhttps://meet.goto.com/209708661 \nYou can also dial in using your phone: +1 (872) 240-3212; Access Code: 209-708-661 \nGet the app now and be ready when your first meeting starts:\nhttps://meet.goto.com/install \nNewcomers\, please RSVP to info@thegrwdb.org for details. \n  \n 
URL:https://thegrwdb.org/event/grwdb-disabilities-committee-meeting-5/
LOCATION:GoToMeeting and In Person\, 27 Warren St.\, second-floor conference room\, Somerville\, NJ\, 08876\, United States
CATEGORIES:Committee Meeting
END:VEVENT
END:VCALENDAR