BEGIN:VCALENDAR
VERSION:2.0
PRODID:-//Greater Raritan - ECPv6.15.20//NONSGML v1.0//EN
CALSCALE:GREGORIAN
METHOD:PUBLISH
X-WR-CALNAME:Greater Raritan
X-ORIGINAL-URL:https://thegrwdb.org
X-WR-CALDESC:Events for Greater Raritan
REFRESH-INTERVAL;VALUE=DURATION:PT1H
X-Robots-Tag:noindex
X-PUBLISHED-TTL:PT1H
BEGIN:VTIMEZONE
TZID:America/New_York
BEGIN:DAYLIGHT
TZOFFSETFROM:-0500
TZOFFSETTO:-0400
TZNAME:EDT
DTSTART:20230312T070000
END:DAYLIGHT
BEGIN:STANDARD
TZOFFSETFROM:-0400
TZOFFSETTO:-0500
TZNAME:EST
DTSTART:20231105T060000
END:STANDARD
BEGIN:DAYLIGHT
TZOFFSETFROM:-0500
TZOFFSETTO:-0400
TZNAME:EDT
DTSTART:20240310T070000
END:DAYLIGHT
BEGIN:STANDARD
TZOFFSETFROM:-0400
TZOFFSETTO:-0500
TZNAME:EST
DTSTART:20241103T060000
END:STANDARD
BEGIN:DAYLIGHT
TZOFFSETFROM:-0500
TZOFFSETTO:-0400
TZNAME:EDT
DTSTART:20250309T070000
END:DAYLIGHT
BEGIN:STANDARD
TZOFFSETFROM:-0400
TZOFFSETTO:-0500
TZNAME:EST
DTSTART:20251102T060000
END:STANDARD
END:VTIMEZONE
BEGIN:VEVENT
DTSTART;TZID=America/New_York:20241114T083000
DTEND;TZID=America/New_York:20241114T133000
DTSTAMP:20260422T223552
CREATED:20240822T014340Z
LAST-MODIFIED:20240822T014340Z
UID:3425-1731573000-1731591000@thegrwdb.org
SUMMARY:Exhibitors Wanted for JA Inspire Career Fair at Middlesex College
DESCRIPTION:Middle school students want to learn about New Jersey companies and the world of work! Traditionally\, Junior Achievement of New Jersey (JA) has helped educators connect their students with career pathways and opportunities that inspire their future. \nToward that end\, a JA Inspire Career Fair is being conducted from 8:30 a.m. to 1:30 p.m. Wednesday\, November 13\, and Thursday\, November 14\, at Middlesex College in Edison. \nThis is one in a series of career exploration events being conducted around the state for New Jersey students. This series brings together various industries\, companies\, and employee volunteer role models to show hundreds of middle school students in attendance firsthand available careers and their pathways. JA encourages employer and exhibitor participants to create engaging displays to educate and excite the students about the world of work. \nEmployers and agencies interested in being an exhibitor may register by going here or using the link in this flyer. There is no fee to be an exhibitor. \nFor more information\, contact Jamie Campbell at Jamie.Campbell@ja.org or visit janj.org.
URL:https://thegrwdb.org/event/exhibitors-wanted-for-ja-inspire-career-fair-at-middlesex-college-2/
LOCATION:Middlesex College\, 2600 Woodbridge Ave.\, Edison\, NJ\, 08818\, United States
CATEGORIES:College Event
END:VEVENT
BEGIN:VEVENT
DTSTART;TZID=America/New_York:20241113T083000
DTEND;TZID=America/New_York:20241113T133000
DTSTAMP:20260422T223552
CREATED:20240822T013920Z
LAST-MODIFIED:20240822T013920Z
UID:3424-1731486600-1731504600@thegrwdb.org
SUMMARY:Exhibitors Wanted for JA Inspire Career Fair at Middlesex College
DESCRIPTION:Middle school students want to learn about New Jersey companies and the world of work! Traditionally\, Junior Achievement of New Jersey (JA) has helped educators connect their students with career pathways and opportunities that inspire their future. \nToward that end\, a JA Inspire Career Fair is being conducted from 8:30 a.m. to 1:30 p.m. Wednesday\, November 13\, and Thursday\, November 14\, at Middlesex College in Edison. \nThis is one in a series of career exploration events being conducted around the state for New Jersey students. This series brings together various industries\, companies\, and employee volunteer role models to show hundreds of middle school students in attendance firsthand available careers and their pathways. JA encourages employer and exhibitor participants to create engaging displays to educate and excite the students about the world of work. \nEmployers and agencies interested in being an exhibitor may register by going here or using the link in this flyer. There is no fee to be an exhibitor. \nFor more information\, contact Jamie Campbell at Jamie.Campbell@ja.org or visit janj.org.
URL:https://thegrwdb.org/event/exhibitors-wanted-for-ja-inspire-career-fair-at-middlesex-college/
LOCATION:Middlesex College\, 2600 Woodbridge Ave.\, Edison\, NJ\, 08818\, United States
CATEGORIES:College Event
END:VEVENT
BEGIN:VEVENT
DTSTART;TZID=America/New_York:20241026T100000
DTEND;TZID=America/New_York:20241026T120000
DTSTAMP:20260422T223552
CREATED:20240912T022052Z
LAST-MODIFIED:20240912T022052Z
UID:3439-1729936800-1729944000@thegrwdb.org
SUMMARY:RVCC Fall Open House
DESCRIPTION:An Open House will be conducted by Raritan Valley Community College on Lamington Road in Branchburg on Saturday\, October 26\, from 10 a.m. to 12 p.m. During the event\, participants can tour the campus\, get questions answered and learn more about the college. \nAt the Open House\, participants can learn about: \n\nAcademic programs designed to help students transfer to top colleges and universities\nCareer training programs designed in partnership with local industry\nFinancial aid options\, including scholarships\, loans and grants\nEarly college programs for high school juniors and seniors\nEarning credits for life and work experience\nSpecial support services to help you make a successful transition to college\n\nRegister for the event here. \nIn addition\, the college admissions events throughout the year for its many programs. For more information about the college\, visit https://www.raritanval.edu/. Contact Admissions at 908-526-1200 (Select Option 2) or at admissions@raritanval.edu.
URL:https://thegrwdb.org/event/rvcc-fall-open-house/
LOCATION:Raritan Valley Community College Event Center\, 118 Lamington Road\, Branchburg\, NJ\, 08876\, United States
CATEGORIES:College Event
END:VEVENT
BEGIN:VEVENT
DTSTART;TZID=America/New_York:20240718T160000
DTEND;TZID=America/New_York:20240718T180000
DTSTAMP:20260422T223552
CREATED:20240710T203532Z
LAST-MODIFIED:20240710T203532Z
UID:3393-1721318400-1721325600@thegrwdb.org
SUMMARY:RVCC Summer Open House
DESCRIPTION:An Open House will be conducted by Raritan Valley Community College on Lamington Road in Branchburg on Thursday\, July 18\, from 4 to 6 p.m. During the event\, participants can turn the campus\, get questions answered and learn more about the college. \nAt the Open House\, participants can learn about: \n\nAcademic programs designed to help students transfer to top colleges and universities\nCareer training programs designed in partnership with local industry\nFinancial aid options\, including scholarships\, loans and grants\nFree tuition for those who qualify for the NJ Community College Opportunity Grant\nEarly college programs for high school juniors and seniors\nTransitional support services for new students.\n\nRegister for the event here. For more information about the college\, visit https://www.raritanval.edu/. Contact Admissions at 908-526-1200 (Select Option 2) or at admissions@raritanval.edu.
URL:https://thegrwdb.org/event/rvcc-summer-open-house/
LOCATION:Raritan Valley Community College Event Center\, 118 Lamington Road\, Branchburg\, NJ\, 08876\, United States
CATEGORIES:College Event
END:VEVENT
BEGIN:VEVENT
DTSTART;TZID=America/New_York:20240424T173000
DTEND;TZID=America/New_York:20240424T193000
DTSTAMP:20260422T223552
CREATED:20240327T020426Z
LAST-MODIFIED:20240327T020426Z
UID:3321-1713979800-1713987000@thegrwdb.org
SUMMARY:RVCC Adult Learners' College Health Science Information Session
DESCRIPTION:Members of the community interested in learning more about various programs offered through Raritan Valley Community College’s Adult Learners’ College are invited to attend one of two special Information Sessions in April. \nThe college will conduct an Adult Learners’ College Business Degree Information Session on Tuesday\, April 16\, from 5:30-7:30 p.m.\, in the RVCC Atrium. An Adult Learners’ College Health Science Information Session is set for Wednesday\, April 24\, 5:30-7:30 p.m.\, in the College’s Event Center. Both will be held at RVCC’s Branchburg campus. \nDuring the April 16 session\, faculty members from the Business and Public Service Department will be on hand to present information and answer questions about RVCC’s Business degrees. \nThe April 24 session focusing on healthcare programs will offer attendees an opportunity to meet with faculty and staff from the College’s Health Science Education Department\, as well as representatives from the non-credit allied health programs. \nBoth events will include information about applying to RVCC\, support services designed for non-traditional students\, and paying for college and financial aid options. \nRVCC’s Adult Learners’ College is designed for adults age 25 and older who are looking to complete their college degree\, explore a new career path\, gain additional training\, get a promotion at work\, be the first member of their family to attend college\, or improve their English. Seven-week semesters will be offered for some programs\, providing adult students with a schedule designed to help them balance work\, school\, and family obligations. Adult students may enroll in workforce\, certificate\, or degree programs. \nRVCC’s Fall 2024 Semester begins August 28. \nTo register for an Information Session\, go to http://www.raritanval.edu/visit. For additional information about the Adult Learners’ College or the Information Sessions\, email adult.college@raritanval.edu or visit http://www.raritanval.edu/adult-learners.
URL:https://thegrwdb.org/event/rvcc-adult-learners-college-health-science-information-session/
LOCATION:Raritan Valley Community College Event Center\, 118 Lamington Road\, Branchburg\, NJ\, 08876\, United States
CATEGORIES:College Event
END:VEVENT
BEGIN:VEVENT
DTSTART;TZID=America/New_York:20240417T180000
DTEND;TZID=America/New_York:20240417T200000
DTSTAMP:20260422T223552
CREATED:20240323T011047Z
LAST-MODIFIED:20240323T011047Z
UID:3315-1713376800-1713384000@thegrwdb.org
SUMMARY:RVCC Career Night: Criminal Justice
DESCRIPTION:Raritan Valley Community College will conduct several Career Nights in April that will offer prospective students information about educational opportunities and career pathways in such fields as business\, engineering\, paralegal studies\, and criminal justice. \nDuring the programs\, which are free of charge and open to the community\, participants will be able to engage with faculty members and/or industry partners in their respective fields at roundtable sessions. The Career Nights all will be conducted from 6-8 p.m. in the Event Center at RVCC’s Branchburg campus. \nThe following events have been scheduled: \n\nEngineering Career Night\, April 2\nBusiness Career Night\, April 9\nParalegal Studies Career Night\, April 15\nCriminal Justice Career Night\, April 17\n\n To register for an upcoming Career Night\, go to www.raritanval.edu/visit. For additional information\, contact Admissions at 908-526-1200 (Select Option 2) or admissions@raritanval.edu.
URL:https://thegrwdb.org/event/rvcc-career-night-criminal-justice/
LOCATION:Raritan Valley Community College Event Center\, 118 Lamington Road\, Branchburg\, NJ\, 08876\, United States
CATEGORIES:College Event
END:VEVENT
BEGIN:VEVENT
DTSTART;TZID=America/New_York:20240416T173000
DTEND;TZID=America/New_York:20240416T193000
DTSTAMP:20260422T223552
CREATED:20240327T020426Z
LAST-MODIFIED:20240327T020426Z
UID:3320-1713288600-1713295800@thegrwdb.org
SUMMARY:RVCC Adult Learners' College Business Degree Information Session
DESCRIPTION:Members of the community interested in learning more about various programs offered through Raritan Valley Community College’s Adult Learners’ College are invited to attend one of two special Information Sessions in April. \nThe college will conduct an Adult Learners’ College Business Degree Information Session on Tuesday\, April 16\, from 5:30-7:30 p.m.\, in the RVCC Atrium. An Adult Learners’ College Health Science Information Session is set for Wednesday\, April 24\, 5:30-7:30 p.m.\, in the College’s Event Center. Both will be held at RVCC’s Branchburg campus. \nDuring the April 16 session\, faculty members from the Business and Public Service Department will be on hand to present information and answer questions about RVCC’s Business degrees. \nThe April 24 session focusing on healthcare programs will offer attendees an opportunity to meet with faculty and staff from the College’s Health Science Education Department\, as well as representatives from the non-credit allied health programs. \nBoth events will include information about applying to RVCC\, support services designed for non-traditional students\, and paying for college and financial aid options. \nRVCC’s Adult Learners’ College is designed for adults age 25 and older who are looking to complete their college degree\, explore a new career path\, gain additional training\, get a promotion at work\, be the first member of their family to attend college\, or improve their English. Seven-week semesters will be offered for some programs\, providing adult students with a schedule designed to help them balance work\, school\, and family obligations. Adult students may enroll in workforce\, certificate\, or degree programs. \nRVCC’s Fall 2024 Semester begins August 28. \nTo register for an Information Session\, go to http://www.raritanval.edu/visit. For additional information about the Adult Learners’ College or the Information Sessions\, email adult.college@raritanval.edu or visit http://www.raritanval.edu/adult-learners.
URL:https://thegrwdb.org/event/rvcc-adult-learners-college-business-degree-information-session/
LOCATION:Raritan Valley Community College Event Center\, 118 Lamington Road\, Branchburg\, NJ\, 08876\, United States
CATEGORIES:College Event
END:VEVENT
BEGIN:VEVENT
DTSTART;TZID=America/New_York:20240415T180000
DTEND;TZID=America/New_York:20240415T200000
DTSTAMP:20260422T223552
CREATED:20240323T011047Z
LAST-MODIFIED:20240323T011047Z
UID:3314-1713204000-1713211200@thegrwdb.org
SUMMARY:RVCC Career Night: Paralegal Studies
DESCRIPTION:Raritan Valley Community College will conduct several Career Nights in April that will offer prospective students information about educational opportunities and career pathways in such fields as business\, engineering\, paralegal studies\, and criminal justice. \nDuring the programs\, which are free of charge and open to the community\, participants will be able to engage with faculty members and/or industry partners in their respective fields at roundtable sessions. The Career Nights all will be conducted from 6-8 p.m. in the Event Center at RVCC’s Branchburg campus. \nThe following events have been scheduled: \n\nEngineering Career Night\, April 2\nBusiness Career Night\, April 9\nParalegal Studies Career Night\, April 15\nCriminal Justice Career Night\, April 17\n\n To register for an upcoming Career Night\, go to www.raritanval.edu/visit. For additional information\, contact Admissions at 908-526-1200 (Select Option 2) or admissions@raritanval.edu.
URL:https://thegrwdb.org/event/rvcc-career-night-paralegal-studies/
LOCATION:Raritan Valley Community College Event Center\, 118 Lamington Road\, Branchburg\, NJ\, 08876\, United States
CATEGORIES:College Event
END:VEVENT
BEGIN:VEVENT
DTSTART;TZID=America/New_York:20240410T173000
DTEND;TZID=America/New_York:20240410T193000
DTSTAMP:20260422T223552
CREATED:20240307T030730Z
LAST-MODIFIED:20240307T030730Z
UID:3295-1712770200-1712777400@thegrwdb.org
SUMMARY:RVCC Adult Learners' College Information Session
DESCRIPTION:Members of the community interested in learning more about Raritan Valley Community College’s Adult Learners’ College are invited to attend one of three special Information Sessions\, Tuesday\, March 12\, Tuesday\, March 26\, and Wednesday\, April 10\, from 5:30 to 7:30 p.m. each day. \nThe events\, which will include information about applying to RVCC\, support services designed for non-traditional students\, and paying for college and financial aid options\, will be held in the Event Center at the College’s Branchburg campus. \nVeterans are also encouraged to attend an Adult Learners’ College Information Session to learn more about how they can use their education benefits to attend RVCC. The Manager of International and Veteran Services will be on hand to answer any veterans’ questions about being an adult student at RVCC. \nRVCC’s Adult Learners’ College is designed for adults age 25 and older who are looking to complete their college degree\, explore a new career path\, gain additional training\, get a promotion at work\, be the first member of their family to attend college\, or improve their English. \nIn addition\, seven-week semesters will be offered for some programs\, providing adult students with a more convenient academic schedule to help them balance work\, school\, and family obligations. Adult students may enroll in workforce\, certificate\, or degree programs at RVCC. Some of the College’s programs that may be of interest to adult students include: \n\nEnglish as a Second Language\nPhlebotomy Assistant Certificate\nOSHA 10 Card\nWelding Certificate\nNational Institute for Metalworking Skills (NIMS) Certificate\nPrinciples of Municipal Court Administration\nAllied Health Certificate\nMedical Assistant Certificate\nParalegal Certificate\nSupply Chain Management Certificate\nFitness Certificate\n\nRVCC’s Fall 2024 Semester begins August 28. \nTo register for an Information Session\, go here.
URL:https://thegrwdb.org/event/rvcc-adult-learners-college-information-session-3/
LOCATION:Raritan Valley Community College Event Center\, 118 Lamington Road\, Branchburg\, NJ\, 08876\, United States
CATEGORIES:College Event
END:VEVENT
BEGIN:VEVENT
DTSTART;TZID=America/New_York:20240409T180000
DTEND;TZID=America/New_York:20240409T200000
DTSTAMP:20260422T223552
CREATED:20240323T011047Z
LAST-MODIFIED:20240323T011047Z
UID:3313-1712685600-1712692800@thegrwdb.org
SUMMARY:RVCC Career Night: Business
DESCRIPTION:Raritan Valley Community College will conduct several Career Nights in April that will offer prospective students information about educational opportunities and career pathways in such fields as business\, engineering\, paralegal studies\, and criminal justice. \nDuring the programs\, which are free of charge and open to the community\, participants will be able to engage with faculty members and/or industry partners in their respective fields at roundtable sessions. The Career Nights all will be conducted from 6-8 p.m. in the Event Center at RVCC’s Branchburg campus. \nThe following events have been scheduled: \n\nEngineering Career Night\, April 2\nBusiness Career Night\, April 9\nParalegal Studies Career Night\, April 15\nCriminal Justice Career Night\, April 17\n\n To register for an upcoming Career Night\, go to www.raritanval.edu/visit. For additional information\, contact Admissions at 908-526-1200 (Select Option 2) or admissions@raritanval.edu.
URL:https://thegrwdb.org/event/rvcc-career-night-business/
LOCATION:Raritan Valley Community College Event Center\, 118 Lamington Road\, Branchburg\, NJ\, 08876\, United States
CATEGORIES:College Event
END:VEVENT
BEGIN:VEVENT
DTSTART;TZID=America/New_York:20240402T180000
DTEND;TZID=America/New_York:20240402T200000
DTSTAMP:20260422T223552
CREATED:20240323T011047Z
LAST-MODIFIED:20240323T011047Z
UID:3312-1712080800-1712088000@thegrwdb.org
SUMMARY:RVCC Career Night: Engineering
DESCRIPTION:Raritan Valley Community College will conduct several Career Nights in April that will offer prospective students information about educational opportunities and career pathways in such fields as business\, engineering\, paralegal studies\, and criminal justice. \nDuring the programs\, which are free of charge and open to the community\, participants will be able to engage with faculty members and/or industry partners in their respective fields at roundtable sessions. The Career Nights all will be conducted from 6-8 p.m. in the Event Center at RVCC’s Branchburg campus. \nThe following events have been scheduled: \n\nEngineering Career Night\, April 2\nBusiness Career Night\, April 9\nParalegal Studies Career Night\, April 15\nCriminal Justice Career Night\, April 17\n\n To register for an upcoming Career Night\, go to www.raritanval.edu/visit. For additional information\, contact Admissions at 908-526-1200 (Select Option 2) or admissions@raritanval.edu.
URL:https://thegrwdb.org/event/rvcc-career-night-engineering/
LOCATION:Raritan Valley Community College Event Center\, 118 Lamington Road\, Branchburg\, NJ\, 08876\, United States
CATEGORIES:College Event
END:VEVENT
BEGIN:VEVENT
DTSTART;TZID=America/New_York:20240326T173000
DTEND;TZID=America/New_York:20240326T193000
DTSTAMP:20260422T223552
CREATED:20240307T030730Z
LAST-MODIFIED:20240307T030730Z
UID:3294-1711474200-1711481400@thegrwdb.org
SUMMARY:RVCC Adult Learners' College Information Session
DESCRIPTION:Members of the community interested in learning more about Raritan Valley Community College’s Adult Learners’ College are invited to attend one of three special Information Sessions\, Tuesday\, March 12\, Tuesday\, March 26\, and Wednesday\, April 10\, from 5:30 to 7:30 p.m. each day. \nThe events\, which will include information about applying to RVCC\, support services designed for non-traditional students\, and paying for college and financial aid options\, will be held in the Event Center at the College’s Branchburg campus. \nVeterans are also encouraged to attend an Adult Learners’ College Information Session to learn more about how they can use their education benefits to attend RVCC. The Manager of International and Veteran Services will be on hand to answer any veterans’ questions about being an adult student at RVCC. \nRVCC’s Adult Learners’ College is designed for adults age 25 and older who are looking to complete their college degree\, explore a new career path\, gain additional training\, get a promotion at work\, be the first member of their family to attend college\, or improve their English. \nIn addition\, seven-week semesters will be offered for some programs\, providing adult students with a more convenient academic schedule to help them balance work\, school\, and family obligations. Adult students may enroll in workforce\, certificate\, or degree programs at RVCC. Some of the College’s programs that may be of interest to adult students include: \n\nEnglish as a Second Language\nPhlebotomy Assistant Certificate\nOSHA 10 Card\nWelding Certificate\nNational Institute for Metalworking Skills (NIMS) Certificate\nPrinciples of Municipal Court Administration\nAllied Health Certificate\nMedical Assistant Certificate\nParalegal Certificate\nSupply Chain Management Certificate\nFitness Certificate\n\nRVCC’s Fall 2024 Semester begins August 28. \nTo register for an Information Session\, go here.
URL:https://thegrwdb.org/event/rvcc-adult-learners-college-information-session-2/
LOCATION:Raritan Valley Community College Event Center\, 118 Lamington Road\, Branchburg\, NJ\, 08876\, United States
CATEGORIES:College Event
END:VEVENT
BEGIN:VEVENT
DTSTART;TZID=America/New_York:20240312T173000
DTEND;TZID=America/New_York:20240312T193000
DTSTAMP:20260422T223552
CREATED:20240307T030730Z
LAST-MODIFIED:20240307T030730Z
UID:3293-1710264600-1710271800@thegrwdb.org
SUMMARY:RVCC Adult Learners' College Information Session
DESCRIPTION:Members of the community interested in learning more about Raritan Valley Community College’s Adult Learners’ College are invited to attend one of three special Information Sessions\, Tuesday\, March 12\, Tuesday\, March 26\, and Wednesday\, April 10\, from 5:30 to 7:30 p.m. each day. \nThe events\, which will include information about applying to RVCC\, support services designed for non-traditional students\, and paying for college and financial aid options\, will be held in the Event Center at the College’s Branchburg campus. \nVeterans are also encouraged to attend an Adult Learners’ College Information Session to learn more about how they can use their education benefits to attend RVCC. The Manager of International and Veteran Services will be on hand to answer any veterans’ questions about being an adult student at RVCC. \nRVCC’s Adult Learners’ College is designed for adults age 25 and older who are looking to complete their college degree\, explore a new career path\, gain additional training\, get a promotion at work\, be the first member of their family to attend college\, or improve their English. \nIn addition\, seven-week semesters will be offered for some programs\, providing adult students with a more convenient academic schedule to help them balance work\, school\, and family obligations. Adult students may enroll in workforce\, certificate\, or degree programs at RVCC. Some of the College’s programs that may be of interest to adult students include: \n\nEnglish as a Second Language\nPhlebotomy Assistant Certificate\nOSHA 10 Card\nWelding Certificate\nNational Institute for Metalworking Skills (NIMS) Certificate\nPrinciples of Municipal Court Administration\nAllied Health Certificate\nMedical Assistant Certificate\nParalegal Certificate\nSupply Chain Management Certificate\nFitness Certificate\n\nRVCC’s Fall 2024 Semester begins August 28. \nTo register for an Information Session\, go here.
URL:https://thegrwdb.org/event/rvcc-adult-learners-college-information-session/
LOCATION:Raritan Valley Community College Event Center\, 118 Lamington Road\, Branchburg\, NJ\, 08876\, United States
CATEGORIES:College Event
END:VEVENT
END:VCALENDAR