BEGIN:VCALENDAR
VERSION:2.0
PRODID:-//Greater Raritan - ECPv6.15.20//NONSGML v1.0//EN
CALSCALE:GREGORIAN
METHOD:PUBLISH
X-ORIGINAL-URL:https://thegrwdb.org
X-WR-CALDESC:Events for Greater Raritan
REFRESH-INTERVAL;VALUE=DURATION:PT1H
X-Robots-Tag:noindex
X-PUBLISHED-TTL:PT1H
BEGIN:VTIMEZONE
TZID:America/New_York
BEGIN:DAYLIGHT
TZOFFSETFROM:-0500
TZOFFSETTO:-0400
TZNAME:EDT
DTSTART:20240310T070000
END:DAYLIGHT
BEGIN:STANDARD
TZOFFSETFROM:-0400
TZOFFSETTO:-0500
TZNAME:EST
DTSTART:20241103T060000
END:STANDARD
BEGIN:DAYLIGHT
TZOFFSETFROM:-0500
TZOFFSETTO:-0400
TZNAME:EDT
DTSTART:20250309T070000
END:DAYLIGHT
BEGIN:STANDARD
TZOFFSETFROM:-0400
TZOFFSETTO:-0500
TZNAME:EST
DTSTART:20251102T060000
END:STANDARD
BEGIN:DAYLIGHT
TZOFFSETFROM:-0500
TZOFFSETTO:-0400
TZNAME:EDT
DTSTART:20260308T070000
END:DAYLIGHT
BEGIN:STANDARD
TZOFFSETFROM:-0400
TZOFFSETTO:-0500
TZNAME:EST
DTSTART:20261101T060000
END:STANDARD
END:VTIMEZONE
BEGIN:VEVENT
DTSTART;TZID=America/New_York:20250225T083000
DTEND;TZID=America/New_York:20250225T133000
DTSTAMP:20260423T192425
CREATED:20240822T014627Z
LAST-MODIFIED:20240822T014627Z
UID:3426-1740472200-1740490200@thegrwdb.org
SUMMARY:Exhibitors Wanted for JA Inspire Career Fair at RVCC
DESCRIPTION:Middle school students want to learn about New Jersey companies and the world of work! Traditionally\, Junior Achievement of New Jersey (JA) has helped educators connect their students with career pathways and opportunities that inspire their future. \nToward that end\, a JA Inspire Career Fair is being conducted from 8:30 a.m. to 1:30 p.m. Tuesday\, February 25\, at Raritan Valley Community College in Branchburg. \nThis is one in a series of career exploration events being conducted around the state for New Jersey students. This series brings together various industries\, companies\, and employee volunteer role models to show hundreds of middle school students in attendance firsthand available careers and their pathways. JA encourages employer and exhibitor participants to create engaging displays to educate and excite the students about the world of work. \nOther locations in the career exploration series are: \n\nWednesday\, February 12\, Rowan College of South Jersey\, Vineland\nWednesday and Thursday\, February 26 and 27\, Passaic County Community College\, Wanaque\nTuesday\, March 18\, Atlantic Cape Community College\, Cape May\nTuesday\, March 26\, Atlantic Cape Community College\, Mays Landing\nFriday\, May 16 Franklin Elementary School\, Newark\n\nEmployers and agencies interested in being an exhibitor may register by going here or using the link in this flyer. There is no fee to be an exhibitor. \nFor more information\, contact Jamie Campbell at Jamie.Campbell@ja.org or visit janj.org.
URL:https://thegrwdb.org/event/exhibitors-wanted-for-ja-inspire-career-fair-at-rvcc/
LOCATION:Raritan Valley Community College Event Center\, 118 Lamington Road\, Branchburg\, NJ\, 08876\, United States
CATEGORIES:College Event
END:VEVENT
END:VCALENDAR