BEGIN:VCALENDAR
VERSION:2.0
PRODID:-//Greater Raritan - ECPv6.15.20//NONSGML v1.0//EN
CALSCALE:GREGORIAN
METHOD:PUBLISH
X-ORIGINAL-URL:https://thegrwdb.org
X-WR-CALDESC:Events for Greater Raritan
REFRESH-INTERVAL;VALUE=DURATION:PT1H
X-Robots-Tag:noindex
X-PUBLISHED-TTL:PT1H
BEGIN:VTIMEZONE
TZID:America/New_York
BEGIN:DAYLIGHT
TZOFFSETFROM:-0500
TZOFFSETTO:-0400
TZNAME:EDT
DTSTART:20230312T070000
END:DAYLIGHT
BEGIN:STANDARD
TZOFFSETFROM:-0400
TZOFFSETTO:-0500
TZNAME:EST
DTSTART:20231105T060000
END:STANDARD
BEGIN:DAYLIGHT
TZOFFSETFROM:-0500
TZOFFSETTO:-0400
TZNAME:EDT
DTSTART:20240310T070000
END:DAYLIGHT
BEGIN:STANDARD
TZOFFSETFROM:-0400
TZOFFSETTO:-0500
TZNAME:EST
DTSTART:20241103T060000
END:STANDARD
BEGIN:DAYLIGHT
TZOFFSETFROM:-0500
TZOFFSETTO:-0400
TZNAME:EDT
DTSTART:20250309T070000
END:DAYLIGHT
BEGIN:STANDARD
TZOFFSETFROM:-0400
TZOFFSETTO:-0500
TZNAME:EST
DTSTART:20251102T060000
END:STANDARD
END:VTIMEZONE
BEGIN:VEVENT
DTSTART;TZID=America/New_York:20240423T084500
DTEND;TZID=America/New_York:20240423T130000
DTSTAMP:20260424T130737
CREATED:20240124T235311Z
LAST-MODIFIED:20240124T235311Z
UID:3304-1713861900-1713877200@thegrwdb.org
SUMMARY:Norwescap Core Computer Skills series in Spanish in North Plainfield: Know Your Email App
DESCRIPTION:Norwescap’s Core Computer Skills series is designed to help class participants build a strong foundation using computers. The April free series will be conducted in Spanish and in person at Norwescap’s North Plainfield training center\, at 170 Watchung Ave.\, using the agency’s computers and internet. Class time for the following classes is 8:45 a.m. to 1 p.m. Para ver el folleto del evento en español\, haga clic aquí. \nThe class schedule: \nTuesday\, April 16 – Basic Computer Knowledge – Build a foundation of computer terms and understand how Windows the operating system works. \nThursday\, April 18 – File Management – Learn how to organize and find files\, save them where they belong\, copy and move files and much more. Also learn tips and tricks for finding and saving favorite websites and pages. \nTuesday\, April 23 – Know Your email App – Learn the importance of creating a professional email account\, organizing and controlling incoming emails\, personalized signatures and much more. Participants also will learn how to take advantage of the many features in your email Calendar. Never miss an appointment again! \nThursday\, April 25 and Tuesday\, April 30 – Office365 Word. Learn how to create professional documents. \nTo reserve a seat\, call 908-900-0060 ext. 1502.
URL:https://thegrwdb.org/event/norwescap-core-computer-skills-series-in-spanish-in-north-plainfield-know-your-email-app/
LOCATION:NORWESCAP North Plainfield\, 170 Watchung Ave.\, lower level\, North Plainfield\, 07060\, United States
CATEGORIES:Class
END:VEVENT
END:VCALENDAR