BEGIN:VCALENDAR
VERSION:2.0
PRODID:-//Greater Raritan - ECPv6.15.20//NONSGML v1.0//EN
CALSCALE:GREGORIAN
METHOD:PUBLISH
X-WR-CALNAME:Greater Raritan
X-ORIGINAL-URL:https://thegrwdb.org
X-WR-CALDESC:Events for Greater Raritan
REFRESH-INTERVAL;VALUE=DURATION:PT1H
X-Robots-Tag:noindex
X-PUBLISHED-TTL:PT1H
BEGIN:VTIMEZONE
TZID:America/New_York
BEGIN:DAYLIGHT
TZOFFSETFROM:-0500
TZOFFSETTO:-0400
TZNAME:EDT
DTSTART:20240310T070000
END:DAYLIGHT
BEGIN:STANDARD
TZOFFSETFROM:-0400
TZOFFSETTO:-0500
TZNAME:EST
DTSTART:20241103T060000
END:STANDARD
BEGIN:DAYLIGHT
TZOFFSETFROM:-0500
TZOFFSETTO:-0400
TZNAME:EDT
DTSTART:20250309T070000
END:DAYLIGHT
BEGIN:STANDARD
TZOFFSETFROM:-0400
TZOFFSETTO:-0500
TZNAME:EST
DTSTART:20251102T060000
END:STANDARD
BEGIN:DAYLIGHT
TZOFFSETFROM:-0500
TZOFFSETTO:-0400
TZNAME:EDT
DTSTART:20260308T070000
END:DAYLIGHT
BEGIN:STANDARD
TZOFFSETFROM:-0400
TZOFFSETTO:-0500
TZNAME:EST
DTSTART:20261101T060000
END:STANDARD
END:VTIMEZONE
BEGIN:VEVENT
DTSTART;TZID=America/New_York:20250403T090000
DTEND;TZID=America/New_York:20250403T130000
DTSTAMP:20260423T124416
CREATED:20250323T022338Z
LAST-MODIFIED:20250323T022338Z
UID:3613-1743670800-1743685200@thegrwdb.org
SUMMARY:Free Forklift Certificate Class at Greater Raritan One-Stop Career Center\, Somerville
DESCRIPTION:The Greater Raritan One-Stop Career Employment Services office at 75 Veterans Memorial Drive in Somerville offers a free forklift certificate class on the first Thursday of each month from 9 a.m. to 1 p.m. throughout the year. \nThe Powered Industrial Trucks (PIT) Certificate Class will enable successful participants to receive an operator’s permit from their employer upon passing a practical skills evaluation at their workplace. To take the course\, participants must have an office government ID (driver’s license\, passport\, etc.) The Greater Raritan One-Stop Career Center services residents of Hunterdon and Somerset counties. \nClasses in 2025 are on April 3\, May 1\, June 5\, July 3\, August 7\, September 4\, October 2\, November 6 and December 4. Participants are asked to arrive at 8:30 a.m. on the day of the class. \nClasses may fill up quickly. To register\, go to the One-Stop Career Center walk-in window and ring the bell\, or call 908-704-3000. \n 
URL:https://thegrwdb.org/event/free-forklift-certificate-class-at-greater-raritan-one-stop-career-center-somerville/
LOCATION:Somerville One-Stop Career Center\, 75 Veterans Memorial Drive East\, Somerville\, NJ\, 08876\, United States
CATEGORIES:Class
END:VEVENT
BEGIN:VEVENT
DTSTART;TZID=America/New_York:20250403T090000
DTEND;TZID=America/New_York:20250403T133000
DTSTAMP:20260423T124416
CREATED:20250321T024459Z
LAST-MODIFIED:20250321T024459Z
UID:3608-1743670800-1743687000@thegrwdb.org
SUMMARY:Norwescap Computer Class Series: Computer Basics
DESCRIPTION:The monthly free Computer Class Series presented by Norwescap CLTC will continue on Thursdays and Tuesdays April 3\, 8\, 10 and 15 at the Flemington United Methodist Church\, 116 Main St.\, Flemington.  These free classes will be conducted in-person using Norwescap computers and internet\, and class times are from 9:15 a.m. to 1:30 p.m. \nThe multi-day Computer Basic class series will cover everything participants need to know about using a computer. It’s designed for an absolute beginner as well as those with a little bit of experience but are unsure of themselves. \nSomerset County residents may call 908-900-0060. Ext. 1503\, for more information. All other interested individuals may call  908-788-1453. \nFor more information about upcoming events and to stay updated on all Norwescap activities\, visit the Events Calendar on our website.
URL:https://thegrwdb.org/event/norwescap-computer-class-series-computer-basics/
LOCATION:Flemington United Methodist Church\, 116 Main St.\, Flemington\, NJ\, 08822\, United States
CATEGORIES:Class
END:VEVENT
BEGIN:VEVENT
DTSTART;TZID=America/New_York:20250408T090000
DTEND;TZID=America/New_York:20250408T133000
DTSTAMP:20260423T124416
CREATED:20250321T024713Z
LAST-MODIFIED:20250321T024713Z
UID:3609-1744102800-1744119000@thegrwdb.org
SUMMARY:Norwescap Computer Class Series: Computer Basics
DESCRIPTION:The monthly free Computer Class Series presented by Norwescap CLTC will continue on Thursdays and Tuesdays April 3\, 8\, 10 and 15 at the Flemington United Methodist Church\, 116 Main St.\, Flemington.  These free classes will be conducted in-person using Norwescap computers and internet\, and class times are from 9:15 a.m. to 1:30 p.m. \nThe multi-day Computer Basic class series will cover everything participants need to know about using a computer. It’s designed for an absolute beginner as well as those with a little bit of experience but are unsure of themselves. \nSomerset County residents may call 908-900-0060. Ext. 1503\, for more information. All other interested individuals may call  908-788-1453. \nFor more information about upcoming events and to stay updated on all Norwescap activities\, visit the Events Calendar on our website.
URL:https://thegrwdb.org/event/norwescap-computer-class-series-computer-basics-2/
LOCATION:Flemington United Methodist Church\, 116 Main St.\, Flemington\, NJ\, 08822\, United States
CATEGORIES:Class
END:VEVENT
BEGIN:VEVENT
DTSTART;TZID=America/New_York:20250410T090000
DTEND;TZID=America/New_York:20250410T133000
DTSTAMP:20260423T124416
CREATED:20250321T024807Z
LAST-MODIFIED:20250321T024807Z
UID:3610-1744275600-1744291800@thegrwdb.org
SUMMARY:Norwescap Computer Class Series: Computer Basics
DESCRIPTION:The monthly free Computer Class Series presented by Norwescap CLTC will continue on Thursdays and Tuesdays April 3\, 8\, 10 and 15 at the Flemington United Methodist Church\, 116 Main St.\, Flemington.  These free classes will be conducted in-person using Norwescap computers and internet\, and class times are from 9:15 a.m. to 1:30 p.m. \nThe multi-day Computer Basic class series will cover everything participants need to know about using a computer. It’s designed for an absolute beginner as well as those with a little bit of experience but are unsure of themselves. \nSomerset County residents may call 908-900-0060. Ext. 1503\, for more information. All other interested individuals may call  908-788-1453. \nFor more information about upcoming events and to stay updated on all Norwescap activities\, visit the Events Calendar on our website.
URL:https://thegrwdb.org/event/norwescap-computer-class-series-computer-basics-3/
LOCATION:Flemington United Methodist Church\, 116 Main St.\, Flemington\, NJ\, 08822\, United States
CATEGORIES:Class
END:VEVENT
BEGIN:VEVENT
DTSTART;TZID=America/New_York:20250415T090000
DTEND;TZID=America/New_York:20250415T133000
DTSTAMP:20260423T124416
CREATED:20250321T024903Z
LAST-MODIFIED:20250321T024903Z
UID:3611-1744707600-1744723800@thegrwdb.org
SUMMARY:Norwescap Computer Class Series: Computer Basics
DESCRIPTION:The monthly free Computer Class Series presented by Norwescap CLTC will continue on Thursdays and Tuesdays April 3\, 8\, 10 and 15 at the Flemington United Methodist Church\, 116 Main St.\, Flemington.  These free classes will be conducted in-person using Norwescap computers and internet\, and class times are from 9:15 a.m. to 1:30 p.m. \nThe multi-day Computer Basic class series will cover everything participants need to know about using a computer. It’s designed for an absolute beginner as well as those with a little bit of experience but are unsure of themselves. \nSomerset County residents may call 908-900-0060. Ext. 1503\, for more information. All other interested individuals may call  908-788-1453. \nFor more information about upcoming events and to stay updated on all Norwescap activities\, visit the Events Calendar on our website.
URL:https://thegrwdb.org/event/norwescap-computer-class-series-computer-basics-4/
LOCATION:Flemington United Methodist Church\, 116 Main St.\, Flemington\, NJ\, 08822\, United States
CATEGORIES:Class
END:VEVENT
BEGIN:VEVENT
DTSTART;TZID=America/New_York:20250415T091500
DTEND;TZID=America/New_York:20250415T133000
DTSTAMP:20260423T124416
CREATED:20250427T004339Z
LAST-MODIFIED:20250427T004339Z
UID:3644-1744708500-1744723800@thegrwdb.org
SUMMARY:Norwescap Computer Classes: Intro to Microsoft Excel – Day 1
DESCRIPTION:Norwescap’s CLTC will continue its free in-person computer classes in May at the Flemington United Methodist Church\, 116 Main St.\, Flemington\, NJ 08822. The following classes will run from 9:15 a.m. to 1:30 p.m. using Norwescap computers and Internet. \n\nUsing LinkedIn to Aide Your Job Search: Thursday May 1: Learn how to use LinkedIn to enhance your job search\, build professional connections\, and stay updated on industry trends. Discover tips to create a strong profile that stands out to employers.\nIntroduction to Microsoft Word: Day 1 – Tuesday\, May 6; Day 2 – Thursday\, May 8; Day 3 – Tuesday\, May 13: This three-session class covers the evolution of word processing\, how Word has shaped document creation\, and key functions\, settings\, and tools. Learn how to use tables and templates\, follow best practices for professional documents\, and practice applying Word to everyday tasks.\nIntroduction to Microsoft Excel: Day1 – Thursday\, May 15; Day 2 – Tuesday\, May 20; Day 3 – Thursday\, May 22:  Learn what Excel is and how it’s used in real life. This class covers basic functionality like rows\, columns\, cells\, and data entry. You’ll also learn simple formulas and functions\, budgeting basics\, and an introduction to pivot tables and charts.\nMicrosoft Excel Advanced Tuesday\, May 27:  This one-day class is for those who’ve completed Excel basics or have prior experience. Topics include VLookup\, HLookup\, and XLookup; customizing pivot tables and charts; and creating presentation-ready Excel sheets.\n\nTo register and learn about the computer classes being offered in May\, contact cltc@norwescap.org or by phone: Somerset County clients: Call 908-900-0060\, Ext. 1503 or text 908-899-1444 (Sam Ricker); all other client\, call 908-788-1453 or text 908-824-0582 (Terry Sickinger).
URL:https://thegrwdb.org/event/norwescap-computer-classes-intro-to-microsoft-excel-day-1/
LOCATION:Flemington United Methodist Church\, 116 Main St.\, Flemington\, NJ\, 08822\, United States
CATEGORIES:Class
END:VEVENT
END:VCALENDAR