BEGIN:VCALENDAR
VERSION:2.0
PRODID:-//Greater Raritan - ECPv6.15.20//NONSGML v1.0//EN
CALSCALE:GREGORIAN
METHOD:PUBLISH
X-WR-CALNAME:Greater Raritan
X-ORIGINAL-URL:https://thegrwdb.org
X-WR-CALDESC:Events for Greater Raritan
REFRESH-INTERVAL;VALUE=DURATION:PT1H
X-Robots-Tag:noindex
X-PUBLISHED-TTL:PT1H
BEGIN:VTIMEZONE
TZID:America/New_York
BEGIN:DAYLIGHT
TZOFFSETFROM:-0500
TZOFFSETTO:-0400
TZNAME:EDT
DTSTART:20230312T070000
END:DAYLIGHT
BEGIN:STANDARD
TZOFFSETFROM:-0400
TZOFFSETTO:-0500
TZNAME:EST
DTSTART:20231105T060000
END:STANDARD
BEGIN:DAYLIGHT
TZOFFSETFROM:-0500
TZOFFSETTO:-0400
TZNAME:EDT
DTSTART:20240310T070000
END:DAYLIGHT
BEGIN:STANDARD
TZOFFSETFROM:-0400
TZOFFSETTO:-0500
TZNAME:EST
DTSTART:20241103T060000
END:STANDARD
BEGIN:DAYLIGHT
TZOFFSETFROM:-0500
TZOFFSETTO:-0400
TZNAME:EDT
DTSTART:20250309T070000
END:DAYLIGHT
BEGIN:STANDARD
TZOFFSETFROM:-0400
TZOFFSETTO:-0500
TZNAME:EST
DTSTART:20251102T060000
END:STANDARD
END:VTIMEZONE
BEGIN:VEVENT
DTSTART;TZID=America/New_York:20241010T150000
DTEND;TZID=America/New_York:20241010T180000
DTSTAMP:20260423T035914
CREATED:20240821T014148Z
LAST-MODIFIED:20240821T014148Z
UID:3418-1728572400-1728583200@thegrwdb.org
SUMMARY:Somerset County Veterans Resource\, Job and Wellness Fair
DESCRIPTION:Veterans\, their families\, and the public are invited to attend the Veterans Resource\, Job and Wellness Fair\, a free event sponsored by the Somerset County Board of County Commissioners. This event offers valuable resources and information about services\, health and wellness\, employment\, networking opportunities and more. County Commissioner Director Shanel Y. Robinson will present a brief keynote on “Transitioning From Military Service to Civilian Workforce.”  Pre-registration is requested. \nThe Veterans Fair takes place from 3 to 6 p.m.\, Thursday\, Oct. 10\, at the Senior Wellness Center at Bridgewater\, 876 E. Main St.\, Bridgewater\, NJ 08807. Following an opening ceremony and the presentation by Robinson\, attendees will be able to network with employers and agency representatives\, participate in health screenings\, and enjoy light refreshments. To pre-register\, click here\, call 908-704-6300\, or visit https://bit.ly/VeteransEventRegistration. \nAt this free event\, Veterans and their families will have access to more than 40 companies and agencies ranging from private to non-profit\, healthcare and behavioral health agencies offering resources\, services\, information\, and employment. \nParticipating agencies include: \n\nAmerican Water (commitment to offering employment to Veterans and their families)\nBridgewater Marriot (jobs for Veterans transitioning into civilian life)\nDrug Enforcement Administration (employment for administrative\, research\, forensic science)\nFederal Air Marshal Service (employment for tech jobs\, security)\nFiserv (tech jobs\, and sales)\nJohnson & Johnson (military connected opportunities and resources for Veterans and their spouses\, military students\, and those currently serving)\nMass Mutual New Jersey (financial advice for unexpected hardships\, planning for the future)\nNew Jersey Department of Military and Veterans Affairs (assistance with taxes\, housing\, employment and skill building)\nRichard Hall Community Health & Wellness Center (access to mental health services)\nRobert Wood Johnson University Somerset (employment\, access to resources\, Veterans Employee Resource Group)\nSomerset County Department of Health (health information\, education materials and free health screenings)\n\nTo see an event map and a list of participating businesses and agencies\, click here. \nFor more information\, agencies and employers may email info@thegrwdb.org or call 908-541-5790.
URL:https://thegrwdb.org/event/somerset-county-veterans-resource-job-and-wellness-fair/
LOCATION:Senior Wellness Center at Bridgewater\, 876 E. Main St.\, Bridgewater\, NJ\, 08876\, United States
CATEGORIES:Career Fair|Community Event
ORGANIZER;CN="Greater Raritan Workforce Development Board":MAILTO:info@thegrwdb.org
END:VEVENT
BEGIN:VEVENT
DTSTART;TZID=America/New_York:20241005T130000
DTEND;TZID=America/New_York:20241005T153000
DTSTAMP:20260423T035914
CREATED:20240821T013801Z
LAST-MODIFIED:20240821T013801Z
UID:3417-1728133200-1728142200@thegrwdb.org
SUMMARY:2024 Somerset County DISABILITY Expo & Job Fair
DESCRIPTION:The Somerset County Office on Aging and Disability Services and the Greater Raritan Workforce Development Board are hosting the 2024 DisABILITY Expo and Job Fair on Saturday\, October 5\, from 1 to 3:30 p.m. at the Senior Wellness Center at Bridgewater\, at 876 E. Main Street and is open to all residents. \nThis in-person event is a unique “one-stop shopping” opportunity that county residents utilize to meet representatives from more than 30 county\, state\, and local agencies\, and businesses. \nSome of the participants include Alternatives\, Inc. Hunterdon County NJ Senior\, Disabilities & Veterans Services\, Kessler Foundation\, New Jersey Division of Disability Services\, Norwescap\, Our House\, Inc. Raritan Valley Habitat for Humanity Somerville\, RWJBarnabas Health Community Health Department\, Rutgers Health – School of Health Professions\, Safe+Sound Somerset\, Somerset County Library System of New Jersey\, Somerset County Park Commission\, StarThrower Group\, Inc\, Your Choice Home Care\, Zufall Health\, CEA- Center for Educational Advancement\, Grace Healthcare Services\, Hackensack Meridian Health\, LifeWave\, Matheny Medical and Educational Center\, United States Government Postal Services\, Valley Wellness NJ and WellCare Nurses & Staffing NJ. \nFor more\, go here to see the event map and list of vendor participants: https://bit.ly/4eoH3Ba. \nThe event focuses on disability-related information and employment opportunities but will be of value to anyone interested in learning about the many services available to Somerset County residents. There also will be two workshops\, on Emergency Preparedness and Personal Assistance Services Program. \nTo register and for more information\, call 909-203-6080.
URL:https://thegrwdb.org/event/2024-somerset-county-disability-expo-job-fair/
LOCATION:Senior Wellness Center at Bridgewater\, 876 E. Main St.\, Bridgewater\, NJ\, 08876\, United States
CATEGORIES:Career Fair|Community Event
ORGANIZER;CN="Greater Raritan Workforce Development Board":MAILTO:info@thegrwdb.org
END:VEVENT
BEGIN:VEVENT
DTSTART;TZID=America/New_York:20240622T113000
DTEND;TZID=America/New_York:20240622T163000
DTSTAMP:20260423T035914
CREATED:20240606T011110Z
LAST-MODIFIED:20240606T011110Z
UID:3374-1719055800-1719073800@thegrwdb.org
SUMMARY:Cannabis Town Hall and Job Fair at RVCC
DESCRIPTION:A Cannabis Town Hall featuring panel discussions with industry leaders and local and state legislators\, a cannabis career fair\, and an expungement clinic will be presented from 12 to 4 p.m.\, Saturday\, June 22\, in the Event Center at Raritan Valley Community College (RVCC) on Lamington Road in Branchburg. \nThis unique gathering combines an educational symposium with a job fair to shed light on the swiftly expanding cannabis landscape. Doors will open at 11:30 a.m. and admission is free. Registration is optional at this link: https://bit.ly/3WTCVDa. \nThis event is sponsored by the Coalition for Medical Marijuana New Jersey (CMMNJ) in partnership with a variety of agencies. These include Canna Coverage Insurance Services\, Project Clean Slate\, Minorites for Medical Marijuana (M4MM)\, The Glory Firm\, NJ Cannabis Consulting\, Valley Wellness\, Aunt Mary’s Cannabis Dispensary\, Future Entheogenic Medicines\, Visions and Pathways\, and the Greater Raritan Workforce Development Board (GRWDB). \nDuring the June 22 Town Hall – the first of its type in Somerset and Hunterdon counties – a panel of experts will cover topics ranging from legalization updates to the impact these updates will have on local communities. These panel discussions present an opportunity to engage with like-minded individuals and get questions answered during four 40- to 45-minute talks. Topics include: \n\nBuilding the Cannabis Ecosystem in Municipalities\nCannabis Tax Revenue: Economic Development\, Workforce Development\, Social Justice\, Tracking and Measuring Accountability\nImproving Health Outcomes through Medical Cannabis\nThe Psychedelics Market\, Research to Retail\n\nThe panel discussions\, running from 12 to 4 p.m.\, will be preceded by vendor networking\, and free pizza and water provided by United Food and Commercial Workers International Union (UFCW 360). The union represents workers from across New Jersey who work in the cannabis industry’s entire supply chain. \nVendor of cannabis-related enterprises will be part of a vendor hall set up in the RVCC Conference Center. Among these will be multiple businesses with available job openings. \nValley Wellness\, located at 407 US 202 in Raritan Borough\, will be conducting impromptu interviews for various positions within their dispensary\, alongside Aunt Mary’s who will be accepting resumes. You can secure your spot for an on-site interview by pre-registering via the QR code in this flyer or by this link: https://bit.ly/450lsej. However\, walk-ins are also warmly welcomed\, so attendees are encouraged to bring their resumes. \nIn addition\, Canna Coverage will be accepting resumes from experienced insurance professionals or college students who are interested in internships. \nBusinesses interested in participating in this event as a one-time vendor or becoming a sponsor of ongoing cannabis-related events sponsored by the Coalition of Medial Marijuana can use the QR code in this flyer or go to this link: https://bit.ly/3WTCVDa. \nThe on-site Expungement Clinic will be led by Glory Law Firm attorney Valisha Desir and other attorneys on site. Those interested in utilizing these services must pre-register\, by using the QR code in this flyer or by using this link https://bit.ly/3wEUgoV. \nAttendees also will have the opportunity to enter a raffle and win one of two $500 scholarships for NJ Cannabis Certified. This is a 15-hour\, five-module certificate course\, conducted live via Zoom in partnership with RVCC and seven other New Jersey community colleges. It is designed for individuals looking to kick-start their career in the cannabis industry or simply expand their knowledge. For details about NJ Cannabis Certified\, visit https://njcannacert.com/.
URL:https://thegrwdb.org/event/cannabis-town-hall-and-job-fair-at-rvcc/
LOCATION:Raritan Valley Community College Event Center\, 118 Lamington Road\, Branchburg\, NJ\, 08876\, United States
CATEGORIES:Career Fair|Community Event
END:VEVENT
END:VCALENDAR