BEGIN:VCALENDAR
VERSION:2.0
PRODID:-//Greater Raritan - ECPv6.15.20//NONSGML v1.0//EN
CALSCALE:GREGORIAN
METHOD:PUBLISH
X-ORIGINAL-URL:https://thegrwdb.org
X-WR-CALDESC:Events for Greater Raritan
REFRESH-INTERVAL;VALUE=DURATION:PT1H
X-Robots-Tag:noindex
X-PUBLISHED-TTL:PT1H
BEGIN:VTIMEZONE
TZID:America/New_York
BEGIN:DAYLIGHT
TZOFFSETFROM:-0500
TZOFFSETTO:-0400
TZNAME:EDT
DTSTART:20250309T070000
END:DAYLIGHT
BEGIN:STANDARD
TZOFFSETFROM:-0400
TZOFFSETTO:-0500
TZNAME:EST
DTSTART:20251102T060000
END:STANDARD
BEGIN:DAYLIGHT
TZOFFSETFROM:-0500
TZOFFSETTO:-0400
TZNAME:EDT
DTSTART:20260308T070000
END:DAYLIGHT
BEGIN:STANDARD
TZOFFSETFROM:-0400
TZOFFSETTO:-0500
TZNAME:EST
DTSTART:20261101T060000
END:STANDARD
BEGIN:DAYLIGHT
TZOFFSETFROM:-0500
TZOFFSETTO:-0400
TZNAME:EDT
DTSTART:20270314T070000
END:DAYLIGHT
BEGIN:STANDARD
TZOFFSETFROM:-0400
TZOFFSETTO:-0500
TZNAME:EST
DTSTART:20271107T060000
END:STANDARD
END:VTIMEZONE
BEGIN:VEVENT
DTSTART;TZID=America/New_York:20260327T100000
DTEND;TZID=America/New_York:20260327T140000
DTSTAMP:20260422T184752
CREATED:20260218T031959Z
LAST-MODIFIED:20260218T031959Z
UID:3934-1774605600-1774620000@thegrwdb.org
SUMMARY:New Jersey Department of Health 2026 Career Fair
DESCRIPTION:The New Jersey Department of Health is conducting its 2026 Career Fair from 10 a.m. to 2 p.m. Friday\, March 27\, at the National Guard Armory\, 151 Eggert Crossing Road\, Lawrenceville. \nParticipants will learn about career opportunities with the state Department of Health and the state’s four psychiatric hospitals. Facilities are located in Hammonton\, Trenton\, and Morris Plains\, serving residents across the state. The department is seeking qualified candidates for a variety of clinical and non-clinical roles and is eager to connect with job seekers from all regions to ensure broad outreach and representation. \nFor more information\, visit nj.gov/health/jobs. \n 
URL:https://thegrwdb.org/event/new-jersey-department-of-health-2026-career-fair/
LOCATION:National Guard Armory\, 151 Eggert Crossing Road\, Lawrenceville\, NJ\, 08648\, United States
CATEGORIES:Career Fair
END:VEVENT
END:VCALENDAR