BEGIN:VCALENDAR
VERSION:2.0
PRODID:-//Greater Raritan - ECPv6.15.20//NONSGML v1.0//EN
CALSCALE:GREGORIAN
METHOD:PUBLISH
X-WR-CALNAME:Greater Raritan
X-ORIGINAL-URL:https://thegrwdb.org
X-WR-CALDESC:Events for Greater Raritan
REFRESH-INTERVAL;VALUE=DURATION:PT1H
X-Robots-Tag:noindex
X-PUBLISHED-TTL:PT1H
BEGIN:VTIMEZONE
TZID:America/New_York
BEGIN:DAYLIGHT
TZOFFSETFROM:-0500
TZOFFSETTO:-0400
TZNAME:EDT
DTSTART:20240310T070000
END:DAYLIGHT
BEGIN:STANDARD
TZOFFSETFROM:-0400
TZOFFSETTO:-0500
TZNAME:EST
DTSTART:20241103T060000
END:STANDARD
BEGIN:DAYLIGHT
TZOFFSETFROM:-0500
TZOFFSETTO:-0400
TZNAME:EDT
DTSTART:20250309T070000
END:DAYLIGHT
BEGIN:STANDARD
TZOFFSETFROM:-0400
TZOFFSETTO:-0500
TZNAME:EST
DTSTART:20251102T060000
END:STANDARD
BEGIN:DAYLIGHT
TZOFFSETFROM:-0500
TZOFFSETTO:-0400
TZNAME:EDT
DTSTART:20260308T070000
END:DAYLIGHT
BEGIN:STANDARD
TZOFFSETFROM:-0400
TZOFFSETTO:-0500
TZNAME:EST
DTSTART:20261101T060000
END:STANDARD
END:VTIMEZONE
BEGIN:VEVENT
DTSTART;TZID=America/New_York:20250304T160000
DTEND;TZID=America/New_York:20250304T180000
DTSTAMP:20260423T181946
CREATED:20250227T030721Z
LAST-MODIFIED:20250227T030721Z
UID:3589-1741104000-1741111200@thegrwdb.org
SUMMARY:Financial Resources FCU Career Fair
DESCRIPTION:Financial Resources FCU is hosting a Career Fair at its Branchburg office at 3040 Route 22\, Building 2\, from 4 to 6 p.m. Tuesday\, March 4\, 2025. \nOpportunities are available in Financial Resources FCU offices in Branchburg\, Green Brook\, the Somerset section of Franklin\, and Flemington. Attendees can meet with current team members to learn about the company’s culture and career opportunities. \nThose interested in attending can learn more by going to https://bit.ly/3uMutHE and can RSVP by emailing a resume to careers@finresc.org. Walk-ins also are welcome.
URL:https://thegrwdb.org/event/financial-resources-fcu-career-fair/
LOCATION:Financial Resources FCU\, 3040 Route 22\, Building 2\, Branchburg\, NJ\, 08876\, United States
CATEGORIES:Career Fair
ATTACH;FMTTYPE=image/jpeg:https://thegrwdb.org/wp-content/uploads/career-fair.jpg
END:VEVENT
END:VCALENDAR