BEGIN:VCALENDAR
VERSION:2.0
PRODID:-//Greater Raritan - ECPv6.15.20//NONSGML v1.0//EN
CALSCALE:GREGORIAN
METHOD:PUBLISH
X-ORIGINAL-URL:https://thegrwdb.org
X-WR-CALDESC:Events for Greater Raritan
REFRESH-INTERVAL;VALUE=DURATION:PT1H
X-Robots-Tag:noindex
X-PUBLISHED-TTL:PT1H
BEGIN:VTIMEZONE
TZID:America/New_York
BEGIN:DAYLIGHT
TZOFFSETFROM:-0500
TZOFFSETTO:-0400
TZNAME:EDT
DTSTART:20230312T070000
END:DAYLIGHT
BEGIN:STANDARD
TZOFFSETFROM:-0400
TZOFFSETTO:-0500
TZNAME:EST
DTSTART:20231105T060000
END:STANDARD
BEGIN:DAYLIGHT
TZOFFSETFROM:-0500
TZOFFSETTO:-0400
TZNAME:EDT
DTSTART:20240310T070000
END:DAYLIGHT
BEGIN:STANDARD
TZOFFSETFROM:-0400
TZOFFSETTO:-0500
TZNAME:EST
DTSTART:20241103T060000
END:STANDARD
BEGIN:DAYLIGHT
TZOFFSETFROM:-0500
TZOFFSETTO:-0400
TZNAME:EDT
DTSTART:20250309T070000
END:DAYLIGHT
BEGIN:STANDARD
TZOFFSETFROM:-0400
TZOFFSETTO:-0500
TZNAME:EST
DTSTART:20251102T060000
END:STANDARD
END:VTIMEZONE
BEGIN:VEVENT
DTSTART;TZID=America/New_York:20240516T090000
DTEND;TZID=America/New_York:20240516T120000
DTSTAMP:20260424T130129
CREATED:20240412T022731Z
LAST-MODIFIED:20240412T022731Z
UID:3325-1715850000-1715860800@thegrwdb.org
SUMMARY:Trident Marine Systems Job Fair
DESCRIPTION:Trident Marine Systems at 3 Washington Ave. in High Bridge is hosting a Job Fair from 9 a.m. to 12 p.m. Thursday\, May 16\, at the facility. \nThe company is looking to fill a number of positions\, including CNC Machinist\, Quality Control\, Quality Assurance\, Tool & Die\, General Laborer\, Maintenance Technicians\, and several others. \nApplicants can learn about the company’s large benefits package\, and on-sight interviews will be done. \nWalk-ins are welcome or scan the QR code in this flyer to reserve an interview time.
URL:https://thegrwdb.org/event/trident-marine-systems-job-fair/
LOCATION:Trident Marine Systems\, 3 Washington Ave.\, High Bridge\, NJ\, 08829\, United States
CATEGORIES:Career Fair
END:VEVENT
END:VCALENDAR