BEGIN:VCALENDAR
VERSION:2.0
PRODID:-//Greater Raritan - ECPv6.15.20//NONSGML v1.0//EN
CALSCALE:GREGORIAN
METHOD:PUBLISH
X-WR-CALNAME:Greater Raritan
X-ORIGINAL-URL:https://thegrwdb.org
X-WR-CALDESC:Events for Greater Raritan
REFRESH-INTERVAL;VALUE=DURATION:PT1H
X-Robots-Tag:noindex
X-PUBLISHED-TTL:PT1H
BEGIN:VTIMEZONE
TZID:America/New_York
BEGIN:DAYLIGHT
TZOFFSETFROM:-0500
TZOFFSETTO:-0400
TZNAME:EDT
DTSTART:20230312T070000
END:DAYLIGHT
BEGIN:STANDARD
TZOFFSETFROM:-0400
TZOFFSETTO:-0500
TZNAME:EST
DTSTART:20231105T060000
END:STANDARD
BEGIN:DAYLIGHT
TZOFFSETFROM:-0500
TZOFFSETTO:-0400
TZNAME:EDT
DTSTART:20240310T070000
END:DAYLIGHT
BEGIN:STANDARD
TZOFFSETFROM:-0400
TZOFFSETTO:-0500
TZNAME:EST
DTSTART:20241103T060000
END:STANDARD
BEGIN:DAYLIGHT
TZOFFSETFROM:-0500
TZOFFSETTO:-0400
TZNAME:EDT
DTSTART:20250309T070000
END:DAYLIGHT
BEGIN:STANDARD
TZOFFSETFROM:-0400
TZOFFSETTO:-0500
TZNAME:EST
DTSTART:20251102T060000
END:STANDARD
END:VTIMEZONE
BEGIN:VEVENT
DTSTART;TZID=America/New_York:20240503T100000
DTEND;TZID=America/New_York:20240503T140000
DTSTAMP:20260424T130836
CREATED:20240430T022656Z
LAST-MODIFIED:20240430T022656Z
UID:3350-1714730400-1714744800@thegrwdb.org
SUMMARY:Paterson Job Fair
DESCRIPTION:The NJ Reentry Corp. is presenting the Paterson Job Fair from 10 a.m. to 2 p.m. Friday\, May 3\, at Paterson City Hall\, 155 Market St.\, Paterson. \nA variety of organizations will be on hand\, including The Funplex\, the U.S. Postal Service\, RISE Dispensary\, the Action Staffing Group\, CarePlus New Jersey and many more. \nFor more information\, contact Sean Drake at sdrake@njreentry.org (call 551-256.9061) or Jennifer Valdivia at jvaldivia@njreentry.org (call 551.256.9055).
URL:https://thegrwdb.org/event/paterson-job-fair/
LOCATION:Paterson City Hall\, 155 Market St.\, Paterson\, NJ\, 07501\, United States
CATEGORIES:Career Fair
END:VEVENT
END:VCALENDAR