BEGIN:VCALENDAR
VERSION:2.0
PRODID:-//Greater Raritan - ECPv6.15.20//NONSGML v1.0//EN
CALSCALE:GREGORIAN
METHOD:PUBLISH
X-ORIGINAL-URL:https://thegrwdb.org
X-WR-CALDESC:Events for Greater Raritan
REFRESH-INTERVAL;VALUE=DURATION:PT1H
X-Robots-Tag:noindex
X-PUBLISHED-TTL:PT1H
BEGIN:VTIMEZONE
TZID:America/New_York
BEGIN:DAYLIGHT
TZOFFSETFROM:-0500
TZOFFSETTO:-0400
TZNAME:EDT
DTSTART:20230312T070000
END:DAYLIGHT
BEGIN:STANDARD
TZOFFSETFROM:-0400
TZOFFSETTO:-0500
TZNAME:EST
DTSTART:20231105T060000
END:STANDARD
BEGIN:DAYLIGHT
TZOFFSETFROM:-0500
TZOFFSETTO:-0400
TZNAME:EDT
DTSTART:20240310T070000
END:DAYLIGHT
BEGIN:STANDARD
TZOFFSETFROM:-0400
TZOFFSETTO:-0500
TZNAME:EST
DTSTART:20241103T060000
END:STANDARD
BEGIN:DAYLIGHT
TZOFFSETFROM:-0500
TZOFFSETTO:-0400
TZNAME:EDT
DTSTART:20250309T070000
END:DAYLIGHT
BEGIN:STANDARD
TZOFFSETFROM:-0400
TZOFFSETTO:-0500
TZNAME:EST
DTSTART:20251102T060000
END:STANDARD
END:VTIMEZONE
BEGIN:VEVENT
DTSTART;TZID=America/New_York:20240424T100000
DTEND;TZID=America/New_York:20240424T140000
DTSTAMP:20260424T145759
CREATED:20240319T024944Z
LAST-MODIFIED:20240319T024944Z
UID:3309-1713952800-1713967200@thegrwdb.org
SUMMARY:Assemblyman Joe Danielsen Job Fair
DESCRIPTION:Assemblyman Joe Danielsen is hosting a Free Job Fair from 10 a.m. to 2 p.m. Wednesday\, April 24\, at The Imperia\, 1714 Easton Ave.\, Somerset section of Franklin. \nThe event is open to all community members. Attendees are reminded to dress for success and bring copies of their resumes. \nJob seeker attendees may RSVP to AsmDanielsen@njleg.org; call 732-247-2999 for more information. \nBusinesses and agencies interested in participating may get more information by emailing that address or by calling 732-247-3999. There is a charge for vendor registration\, which is due by Friday\, April 12.
URL:https://thegrwdb.org/event/assemblyman-joe-danielsen-job-fair/
LOCATION:The Imperia\, 1414 Easton Ave.\, Somerset\, NJ\, 08873\, United States
CATEGORIES:Career Fair
END:VEVENT
END:VCALENDAR