BEGIN:VCALENDAR
VERSION:2.0
PRODID:-//Greater Raritan - ECPv6.15.20//NONSGML v1.0//EN
CALSCALE:GREGORIAN
METHOD:PUBLISH
X-WR-CALNAME:Greater Raritan
X-ORIGINAL-URL:https://thegrwdb.org
X-WR-CALDESC:Events for Greater Raritan
REFRESH-INTERVAL;VALUE=DURATION:PT1H
X-Robots-Tag:noindex
X-PUBLISHED-TTL:PT1H
BEGIN:VTIMEZONE
TZID:America/New_York
BEGIN:DAYLIGHT
TZOFFSETFROM:-0500
TZOFFSETTO:-0400
TZNAME:EDT
DTSTART:20230312T070000
END:DAYLIGHT
BEGIN:STANDARD
TZOFFSETFROM:-0400
TZOFFSETTO:-0500
TZNAME:EST
DTSTART:20231105T060000
END:STANDARD
BEGIN:DAYLIGHT
TZOFFSETFROM:-0500
TZOFFSETTO:-0400
TZNAME:EDT
DTSTART:20240310T070000
END:DAYLIGHT
BEGIN:STANDARD
TZOFFSETFROM:-0400
TZOFFSETTO:-0500
TZNAME:EST
DTSTART:20241103T060000
END:STANDARD
BEGIN:DAYLIGHT
TZOFFSETFROM:-0500
TZOFFSETTO:-0400
TZNAME:EDT
DTSTART:20250309T070000
END:DAYLIGHT
BEGIN:STANDARD
TZOFFSETFROM:-0400
TZOFFSETTO:-0500
TZNAME:EST
DTSTART:20251102T060000
END:STANDARD
END:VTIMEZONE
BEGIN:VEVENT
DTSTART;TZID=America/New_York:20241003T130000
DTEND;TZID=America/New_York:20241003T153000
DTSTAMP:20260424T015320
CREATED:20241003T201502Z
LAST-MODIFIED:20241003T201502Z
UID:3456-1727960400-1727969400@thegrwdb.org
SUMMARY:Hackensack Meridian Carrier Clinic Hiring Event
DESCRIPTION:Carrier Clinic\, a Hackensack Meridian Health Behavioral Health Facility at 252 County Road 601 in the Belle Mead section of Montgomery\, is conducting a Hiring Event from 1 to 3:30 p.m. Thursday\, October 3. \nNumerous roles\, ranging from nursing and clinical care to housekeeping and food services\, are available. Attendees will be able to engage with hiring managers\, learn about the facility’s innovative programs\, and discover how they can make a meaningful impact on the health and well-being of the local communities. \nThis in-person event\, and on-the-spot interviews will be conducted. \nTo register\, go here and click on the “register” button in the top right\, or use the QR code in this flyer.
URL:https://thegrwdb.org/event/hackensack-meridian-carrier-clinic-hiring-event-2/
LOCATION:Hackensack  Meridian Carrier Clinic\, 252 County Road 601\, Belle Mead\, NJ\, 08502\, United States
CATEGORIES:Career Fair
END:VEVENT
BEGIN:VEVENT
DTSTART;TZID=America/New_York:20241012T100000
DTEND;TZID=America/New_York:20241012T140000
DTSTAMP:20260424T015320
CREATED:20241002T213756Z
LAST-MODIFIED:20241002T213756Z
UID:3453-1728727200-1728741600@thegrwdb.org
SUMMARY:Thorlabs Job Fair
DESCRIPTION:ThorLabs at 43 Sparta Ave. in Newton is hosting an in-person Job Fair from 10 a.m. to 2 p.m. Saturday\, October 12. \nAttendees may connect with hiring managers and HR recruiters for the global photonics business and learn about its open positions\, which include CNC Operators and Programmers\, Technicians\, Shipping Clerks\, Assemblers and more. \nView all open positions at www.thorlabs.com/careers. \n 
URL:https://thegrwdb.org/event/thorlabs-job-fair/
LOCATION:Thorlabs\, 43 Sparta Ave.\, Newton\, NJ\, 07860\, United States
CATEGORIES:Career Fair
END:VEVENT
BEGIN:VEVENT
DTSTART;TZID=America/New_York:20241016T153000
DTEND;TZID=America/New_York:20241016T180000
DTSTAMP:20260424T015320
CREATED:20241002T214642Z
LAST-MODIFIED:20241002T214642Z
UID:3454-1729092600-1729101600@thegrwdb.org
SUMMARY:Mercer County Fall Job & Career Fair
DESCRIPTION:The Mercer County Fall Job & Career Fair will be conducted from 3:30 to 6 p.m. Wednesday\, Oct. 16\, at the CURE Insurance Arena\, 81 Hamilton St.\, Trenton. \nDoors will be open promptly at 3:30 p.m. and dozens of employers representing a variety of industries will be in attendance. \nThe event is free for employers and job seekers to attend. Employers interested in taking part may register here. \nJob seekers interested in attending may register by going to https://mercercountynj.seamlessdocs.com/f/1stopjobfairregistration.
URL:https://thegrwdb.org/event/mercer-county-fall-job-career-fair/
LOCATION:CURE Insurance Arena\, 81 Hamilton Ave.\, Trenton\, NJ\, 08628\, United States
CATEGORIES:Career Fair
END:VEVENT
BEGIN:VEVENT
DTSTART;TZID=America/New_York:20241019T110000
DTEND;TZID=America/New_York:20241019T140000
DTSTAMP:20260424T015320
CREATED:20241016T013735Z
LAST-MODIFIED:20241016T013735Z
UID:3462-1729335600-1729346400@thegrwdb.org
SUMMARY:Wakefern Food Coop. Hiring Events at All Stores
DESCRIPTION:Wakefern Food Corp. which operates the ShopRite\, Price Rite Marketplace\, The Fresh Grocer\, Gourmet Garage and Fairway Market supermarkets\, is set to host hiring fairs at its stores on Saturday\, Oct. 19. \nThe walk-up job fairs will be conducted from 11 a.m. to 2 p.m. at store locations throughout New Jersey\, as well as New York\, Pennsylvania\, Connecticut\, Delaware and Maryland. Interested candidates can visit most participating stores to speak with a hiring representative for an immediate interview. Depending on location\, full-time\, part-time and management positions are available. \nAvailable positions\, including general\, perishable\, front end and stocking clerks\, offer flexible hours and a variety of cross training to provide employees with the knowledge\, skills and tools to work as a team throughout the store. Each job offers opportunities for career growth. \nAssociates’ entertainment and tuition discounts and scholarship opportunities are also offered by many of the family-owned supermarkets. \nInterested candidates can find out more about the job fairs and career opportunities by checking with their local stores or online: \nShopRite: www.shoprite.com/sm/pickup/rsid/3000/jobfair\nPrice Rite Marketplace: https://www.priceritemarketplace.com/sm/planning/rsid/1000/jobfair\nThe Fresh Grocer: www.thefreshgrocer.com/sm/pickup/rsid/2000/jobfair\nGourmet Garage: www.gourmetgarage.com/sm/planning/rsid/5000/jobfair\nFairway Market:: www.fairwaymarket.com/sm/planning/rsid/4000/jobfair
URL:https://thegrwdb.org/event/wakefern-food-coop-hiring-events-at-all-stores/
LOCATION:Wakefern Food Corp. stores in New Jersey\, NJ\, United States
CATEGORIES:Career Fair
END:VEVENT
END:VCALENDAR