BEGIN:VCALENDAR
VERSION:2.0
PRODID:-//Greater Raritan - ECPv6.15.20//NONSGML v1.0//EN
CALSCALE:GREGORIAN
METHOD:PUBLISH
X-WR-CALNAME:Greater Raritan
X-ORIGINAL-URL:https://thegrwdb.org
X-WR-CALDESC:Events for Greater Raritan
REFRESH-INTERVAL;VALUE=DURATION:PT1H
X-Robots-Tag:noindex
X-PUBLISHED-TTL:PT1H
BEGIN:VTIMEZONE
TZID:America/New_York
BEGIN:DAYLIGHT
TZOFFSETFROM:-0500
TZOFFSETTO:-0400
TZNAME:EDT
DTSTART:20230312T070000
END:DAYLIGHT
BEGIN:STANDARD
TZOFFSETFROM:-0400
TZOFFSETTO:-0500
TZNAME:EST
DTSTART:20231105T060000
END:STANDARD
BEGIN:DAYLIGHT
TZOFFSETFROM:-0500
TZOFFSETTO:-0400
TZNAME:EDT
DTSTART:20240310T070000
END:DAYLIGHT
BEGIN:STANDARD
TZOFFSETFROM:-0400
TZOFFSETTO:-0500
TZNAME:EST
DTSTART:20241103T060000
END:STANDARD
BEGIN:DAYLIGHT
TZOFFSETFROM:-0500
TZOFFSETTO:-0400
TZNAME:EDT
DTSTART:20250309T070000
END:DAYLIGHT
BEGIN:STANDARD
TZOFFSETFROM:-0400
TZOFFSETTO:-0500
TZNAME:EST
DTSTART:20251102T060000
END:STANDARD
END:VTIMEZONE
BEGIN:VEVENT
DTSTART;TZID=America/New_York:20240531T080000
DTEND;TZID=America/New_York:20240531T170000
DTSTAMP:20260423T073536
CREATED:20240531T220601Z
LAST-MODIFIED:20240531T220601Z
UID:3373-1717142400-1717174800@thegrwdb.org
SUMMARY:Somerset County BizFest
DESCRIPTION:The annual Somerset County BizFest will be presented from 2 to 5 p.m. Thursday\, June 13\, at the Somerset Patriots Ballpark\, 1 Patriots Park\, Bridgewater. \nThe Somerset County Business Community will have an opportunity to promote their business to an array of suppliers\, consultants\, and residents\, while making new business-to-business contacts. During the event\, businesses can introduce residents and other businesspeople to product and service options available in the surrounding areas. More than 75 businesses will be in attendance. \nThis event is free to the business and residential community to attend. \nBusinesses interested in participating as a vendor may register here. Space is limited. \nFor more information\, contact CEdwards@scbp.org.
URL:https://thegrwdb.org/event/somerset-county-bizfest/
LOCATION:Somerset Patriots TD Bank Ballpark\, 1 Patriots Drive\, Bridgewater\, NJ\, 08807\, United States
CATEGORIES:Business Event|Community Event
END:VEVENT
END:VCALENDAR