BEGIN:VCALENDAR
VERSION:2.0
PRODID:-//Greater Raritan - ECPv6.15.20//NONSGML v1.0//EN
CALSCALE:GREGORIAN
METHOD:PUBLISH
X-WR-CALNAME:Greater Raritan
X-ORIGINAL-URL:https://thegrwdb.org
X-WR-CALDESC:Events for Greater Raritan
REFRESH-INTERVAL;VALUE=DURATION:PT1H
X-Robots-Tag:noindex
X-PUBLISHED-TTL:PT1H
BEGIN:VTIMEZONE
TZID:America/New_York
BEGIN:DAYLIGHT
TZOFFSETFROM:-0500
TZOFFSETTO:-0400
TZNAME:EDT
DTSTART:20250309T070000
END:DAYLIGHT
BEGIN:STANDARD
TZOFFSETFROM:-0400
TZOFFSETTO:-0500
TZNAME:EST
DTSTART:20251102T060000
END:STANDARD
BEGIN:DAYLIGHT
TZOFFSETFROM:-0500
TZOFFSETTO:-0400
TZNAME:EDT
DTSTART:20260308T070000
END:DAYLIGHT
BEGIN:STANDARD
TZOFFSETFROM:-0400
TZOFFSETTO:-0500
TZNAME:EST
DTSTART:20261101T060000
END:STANDARD
BEGIN:DAYLIGHT
TZOFFSETFROM:-0500
TZOFFSETTO:-0400
TZNAME:EDT
DTSTART:20270314T070000
END:DAYLIGHT
BEGIN:STANDARD
TZOFFSETFROM:-0400
TZOFFSETTO:-0500
TZNAME:EST
DTSTART:20271107T060000
END:STANDARD
END:VTIMEZONE
BEGIN:VEVENT
DTSTART;TZID=America/New_York:20260313T080000
DTEND;TZID=America/New_York:20260313T120000
DTSTAMP:20260422T191240
CREATED:20260131T033736Z
LAST-MODIFIED:20260131T033736Z
UID:3919-1773388800-1773403200@thegrwdb.org
SUMMARY:HINJ Pulse 2026: Saving Lives Globally\, Driving Our Economy Locally
DESCRIPTION:The HealthCare Institute of New Jersey will present its second annual Summit from 8 a.m. to 12 p.m. Friday March 13\, at Middlesex College\, West Hall\, 2600 Woodbridge Ave.\, Edison. \nPulse 2026: Saving Lives Globally\, Driving Our Economy Locally is a state-of-the-industry event exploring the latest policies\, innovations\, and collaborations shaping the future of pharma and medtech in New Jersey. The event will feature two panels and a fireside chat on “New Jersey’s Role in Global Health.” \nPanelists include: \n\nChrissy Buteas\, president and CEO\, HealthCare Institute of New Jersey\nAli A. Houshmand\, Ph.D.\, president\, Rowan University\nDan Leonard\, executive director\, We Work For Health\nPeter Mesenbrink\, Ph.D.\, executive director biostatistics\, Advanced Quantitative Sciences Development\, Novartis\nEmily Meyers\, executive director\, Arthritis Foundation – NJ Chapter\nChristopher Paladino\, president\, DEVCO\nMichele Siekerka\, president and CEO\, New Jersey Business & Industry Association\nWilliam F. Tate IV\, Ph.D.\, president\, Rutgers University.\n\nTickets to the event are $50. To register\, go here.
URL:https://thegrwdb.org/event/hinj-pulse-2026-saving-lives-globally-driving-our-economy-locally/
LOCATION:Middlesex College\, 2600 Woodbridge Ave.\, Edison\, NJ\, 08818\, United States
CATEGORIES:Business Event
END:VEVENT
END:VCALENDAR