BEGIN:VCALENDAR
VERSION:2.0
PRODID:-//Greater Raritan - ECPv6.15.20//NONSGML v1.0//EN
CALSCALE:GREGORIAN
METHOD:PUBLISH
X-ORIGINAL-URL:https://thegrwdb.org
X-WR-CALDESC:Events for Greater Raritan
REFRESH-INTERVAL;VALUE=DURATION:PT1H
X-Robots-Tag:noindex
X-PUBLISHED-TTL:PT1H
BEGIN:VTIMEZONE
TZID:America/New_York
BEGIN:DAYLIGHT
TZOFFSETFROM:-0500
TZOFFSETTO:-0400
TZNAME:EDT
DTSTART:20230312T070000
END:DAYLIGHT
BEGIN:STANDARD
TZOFFSETFROM:-0400
TZOFFSETTO:-0500
TZNAME:EST
DTSTART:20231105T060000
END:STANDARD
BEGIN:DAYLIGHT
TZOFFSETFROM:-0500
TZOFFSETTO:-0400
TZNAME:EDT
DTSTART:20240310T070000
END:DAYLIGHT
BEGIN:STANDARD
TZOFFSETFROM:-0400
TZOFFSETTO:-0500
TZNAME:EST
DTSTART:20241103T060000
END:STANDARD
BEGIN:DAYLIGHT
TZOFFSETFROM:-0500
TZOFFSETTO:-0400
TZNAME:EDT
DTSTART:20250309T070000
END:DAYLIGHT
BEGIN:STANDARD
TZOFFSETFROM:-0400
TZOFFSETTO:-0500
TZNAME:EST
DTSTART:20251102T060000
END:STANDARD
END:VTIMEZONE
BEGIN:VEVENT
DTSTART;TZID=America/New_York:20240611T123000
DTEND;TZID=America/New_York:20240611T133000
DTSTAMP:20260424T085913
CREATED:20240531T215740Z
LAST-MODIFIED:20240531T215740Z
UID:3372-1718109000-1718112600@thegrwdb.org
SUMMARY:NJEDA Webinar: Resources for Somerset County Entrepreneurs & Start-Ups
DESCRIPTION:During a Somerset County Business Partnership-sponsored webinar from 12:30 to 1:30 p.m. Tuesday\, June 11\, participants will learn about state tax credit and grant programs to support the launch and growth of new business ventures. \n This webinar\, presented by the New Jersey Economic Development Authority (NJEDA)\, is designed for entrepreneurs\, as well as banks\, CPA’s and other financial advisors who work with emerging and start-up businesses.  \nTo register\, go here. The Zoom link is provided on the registration page.
URL:https://thegrwdb.org/event/njeda-webinar-resources-for-somerset-county-entrepreneurs-start-ups/
LOCATION:Zoom
CATEGORIES:Business Event
END:VEVENT
BEGIN:VEVENT
DTSTART;TZID=America/New_York:20240613T110000
DTEND;TZID=America/New_York:20240613T120000
DTSTAMP:20260424T085913
CREATED:20240510T020234Z
LAST-MODIFIED:20240510T020234Z
UID:3360-1718276400-1718280000@thegrwdb.org
SUMMARY:Growing Workplace Charging Opportunities in Somerset County
DESCRIPTION:Growing Workplace Charging Opportunities in Somerset County\, an electrifying webinar\, will be presented at 11 a.m. Thursday\, June 13. \nBusiness participants will learn about workplace electric vehicle charging\, the benefits it can provide to a business and its employees\, and how affordable it can be to install this amenity because of available incentives and resources. \nPresenters include: Sara Catherine Lichon\, Communications & Outreach Manager for Ridewise; Anyesha Sanghani\, Strategic Partnerships & Initiatives Specialist at RideWise; Caroline McCallum\, Co-Director of the New Jersey Clean Cities Coalition; and Brian Kirk\, the lead for commercial electric vehicle incentive programs at PSE&G. \nTo register\, go here.
URL:https://thegrwdb.org/event/growing-workplace-charging-opportunities-in-somerset-county/
LOCATION:Virtual Event
CATEGORIES:Business Event
END:VEVENT
BEGIN:VEVENT
DTSTART;TZID=America/New_York:20240613T110000
DTEND;TZID=America/New_York:20240613T150000
DTSTAMP:20260424T085913
CREATED:20240508T013628Z
LAST-MODIFIED:20240508T013628Z
UID:3355-1718276400-1718290800@thegrwdb.org
SUMMARY:Navy Talent Pipeline Manufacturing Summit
DESCRIPTION:The North Jersey Manufacturing Partnership and TMG will present a Navy Talent Pipeline Manufacturing Summit on Thursday\, June 13\, at Galloping Hill Golf Course\, 3 Golf Drive\, Kenilworth. \nTopics include the Navy Talent Pipeline\, Photonics\, Offshore Wind and Apprenticeships. \nUse the QR code in this flyer to register for this event\, which includes a free lunch buffet. \nFor more information\, email Ronda.Merritt@dol.nj.gov.
URL:https://thegrwdb.org/event/navy-talent-pipeline-manufacturing-summit/
LOCATION:Galloping Hill Golf Course\, 3 Golf Drive\, Kenilworth\, NJ\, 07033\, United States
CATEGORIES:Business Event
END:VEVENT
BEGIN:VEVENT
DTSTART;TZID=America/New_York:20240625T160000
DTEND;TZID=America/New_York:20240625T200000
DTSTAMP:20260424T085913
CREATED:20240411T023945Z
LAST-MODIFIED:20240411T023945Z
UID:3322-1719331200-1719345600@thegrwdb.org
SUMMARY:New Jersey Statewide Multicultural Business Expo
DESCRIPTION:Businesses will have the opportunity to market their services\, display their products and network with local and global business leaders at the Pines coming to Edison in June.  \nHosted by the Middlesex Regional Chamber of Commerce\, the event on June 25 at the Pines Manor will kick off with the New Jersey Immigrant Entrepreneur of the Year Awards followed by a celebration featuring food\, live performances and entertainment from around the world.  \nThere is no admission charge to enjoy the festivities\, network with owners of multicultural businesses and meet potential clients.  \nSponsorship opportunities and exhibitor spaces are available now for businesses\, organizations and nonprofits of all sizes. Go to the MRCC website here for more information. 
URL:https://thegrwdb.org/event/new-jersey-statewide-multicultural-business-expo/
LOCATION:Pines Manor\, 2085 Lincoln Highway\, Edison\, NJ\, 08817\, United States
CATEGORIES:Business Event
END:VEVENT
BEGIN:VEVENT
DTSTART;TZID=America/New_York:20240626T120000
DTEND;TZID=America/New_York:20240626T130000
DTSTAMP:20260424T085913
CREATED:20240619T230424Z
LAST-MODIFIED:20240619T230424Z
UID:3378-1719403200-1719406800@thegrwdb.org
SUMMARY:Resources for Employers to Pay for Training and Degrees
DESCRIPTION:New Jersey Higher Education Student Assistance Authority (HESAA) is hosting a webinar at noon on Wednesday\, June 26\, for employers to learn about resources that can be used to pay for employee training and postsecondary degrees. \nNJ State Higher Education Financial Aid can complement existing benefits packages. \nGo here to register for this webinar.
URL:https://thegrwdb.org/event/resources-for-employers-to-pay-for-training-and-degrees-2/
CATEGORIES:Business Event
END:VEVENT
END:VCALENDAR