BEGIN:VCALENDAR
VERSION:2.0
PRODID:-//Greater Raritan - ECPv6.15.20//NONSGML v1.0//EN
CALSCALE:GREGORIAN
METHOD:PUBLISH
X-WR-CALNAME:Greater Raritan
X-ORIGINAL-URL:https://thegrwdb.org
X-WR-CALDESC:Events for Greater Raritan
REFRESH-INTERVAL;VALUE=DURATION:PT1H
X-Robots-Tag:noindex
X-PUBLISHED-TTL:PT1H
BEGIN:VTIMEZONE
TZID:America/New_York
BEGIN:DAYLIGHT
TZOFFSETFROM:-0500
TZOFFSETTO:-0400
TZNAME:EDT
DTSTART:20230312T070000
END:DAYLIGHT
BEGIN:STANDARD
TZOFFSETFROM:-0400
TZOFFSETTO:-0500
TZNAME:EST
DTSTART:20231105T060000
END:STANDARD
BEGIN:DAYLIGHT
TZOFFSETFROM:-0500
TZOFFSETTO:-0400
TZNAME:EDT
DTSTART:20240310T070000
END:DAYLIGHT
BEGIN:STANDARD
TZOFFSETFROM:-0400
TZOFFSETTO:-0500
TZNAME:EST
DTSTART:20241103T060000
END:STANDARD
BEGIN:DAYLIGHT
TZOFFSETFROM:-0500
TZOFFSETTO:-0400
TZNAME:EDT
DTSTART:20250309T070000
END:DAYLIGHT
BEGIN:STANDARD
TZOFFSETFROM:-0400
TZOFFSETTO:-0500
TZNAME:EST
DTSTART:20251102T060000
END:STANDARD
END:VTIMEZONE
BEGIN:VEVENT
DTSTART;TZID=America/New_York:20240404T120000
DTEND;TZID=America/New_York:20240404T130000
DTSTAMP:20260424T125541
CREATED:20240326T024808Z
LAST-MODIFIED:20240326T024808Z
UID:3317-1712232000-1712235600@thegrwdb.org
SUMMARY:Webinar on Healthcare Registered Apprenticeship Program for Businesses
DESCRIPTION:The Hunterdon County-based Hand in Hand Healthcare Solutions\, LLC is the recipient of the GAINS Grant from New Jersey’s Department of Labor to support Registered Apprenticeships in Healthcare. These include CHW\, CNA and CMA positions. The company can help New Jersey healthcare businesses develop and register a customized program with the U.S. Department of Labor.  Funding up to $11\,000 per Apprentice is available to support training and salary\, allowing businesses to source talents locally and impact the local community. \nTo learn more\, representatives of healthcare businesses are invited to take part in a webinar at 12 p.m. Thursday\, April 4\, presented by the Greater Raritan Workforce Development Board. Use the link in this flyer to join\, or go to https://meet.goto.com/592003301. \nVisit www.handinhandhealthcaresolutions.com.
URL:https://thegrwdb.org/event/webinar-on-healthcare-registered-apprenticeship-program-for-businesses/
LOCATION:Virtual Event
CATEGORIES:Business Event
END:VEVENT
BEGIN:VEVENT
DTSTART;TZID=America/New_York:20240424T120000
DTEND;TZID=America/New_York:20240424T130000
DTSTAMP:20260424T125541
CREATED:20240417T224954Z
LAST-MODIFIED:20240417T224954Z
UID:3338-1713960000-1713963600@thegrwdb.org
SUMMARY:Resources for Employers to Pay for Training and Degrees
DESCRIPTION:New Jersey Higher Education Student Assistance Authority (HESAA) is hosting a webinar at noon on Wednesday\, April 24\, for employers to learn about resources that can be used to pay for employee training and postsecondary degrees. \nNJ State Higher Education Financial Aid can complement existing benefits packages. \nGo here to register for this webinar.
URL:https://thegrwdb.org/event/resources-for-employers-to-pay-for-training-and-degrees/
LOCATION:Virtual Event
CATEGORIES:Business Event
END:VEVENT
END:VCALENDAR