BEGIN:VCALENDAR
VERSION:2.0
PRODID:-//Greater Raritan - ECPv6.15.20//NONSGML v1.0//EN
CALSCALE:GREGORIAN
METHOD:PUBLISH
X-WR-CALNAME:Greater Raritan
X-ORIGINAL-URL:https://thegrwdb.org
X-WR-CALDESC:Events for Greater Raritan
REFRESH-INTERVAL;VALUE=DURATION:PT1H
X-Robots-Tag:noindex
X-PUBLISHED-TTL:PT1H
BEGIN:VTIMEZONE
TZID:America/New_York
BEGIN:DAYLIGHT
TZOFFSETFROM:-0500
TZOFFSETTO:-0400
TZNAME:EDT
DTSTART:20230312T070000
END:DAYLIGHT
BEGIN:STANDARD
TZOFFSETFROM:-0400
TZOFFSETTO:-0500
TZNAME:EST
DTSTART:20231105T060000
END:STANDARD
BEGIN:DAYLIGHT
TZOFFSETFROM:-0500
TZOFFSETTO:-0400
TZNAME:EDT
DTSTART:20240310T070000
END:DAYLIGHT
BEGIN:STANDARD
TZOFFSETFROM:-0400
TZOFFSETTO:-0500
TZNAME:EST
DTSTART:20241103T060000
END:STANDARD
BEGIN:DAYLIGHT
TZOFFSETFROM:-0500
TZOFFSETTO:-0400
TZNAME:EDT
DTSTART:20250309T070000
END:DAYLIGHT
BEGIN:STANDARD
TZOFFSETFROM:-0400
TZOFFSETTO:-0500
TZNAME:EST
DTSTART:20251102T060000
END:STANDARD
END:VTIMEZONE
BEGIN:VEVENT
DTSTART;TZID=America/New_York:20240307T080000
DTEND;TZID=America/New_York:20240307T100000
DTSTAMP:20260424T145612
CREATED:20240217T022504Z
LAST-MODIFIED:20240217T022504Z
UID:3283-1709798400-1709805600@thegrwdb.org
SUMMARY:Hunterdon County Business Awards
DESCRIPTION:The Hunterdon County Chamber of Commerce is presenting its Hunterdon Business Awards event at 8 a.m. Thursday\, March 7\, at the Copper Hill Golf and Country Club in Ringoes. \nThis annual event\, hosted by the Hunterdon County Chamber of Commerce\, honors the Hunterdon County Business of the Year\, Entrepreneur of the Year\, Good Neighbor\, Woman Business & Community Leader\, Governmental Service Award\, Tourism Award\, Special Recognitions\, and the Amazing Kids in Business. \n“The Annual Awards Breakfast is a chance to acknowledge the best of the best here in Hunterdon County.  The winners exemplify the ideal in business practices and achievement\,” said Chris Phelan\, chamber president. \nFor more information and to register\, go here. \n  \n 
URL:https://thegrwdb.org/event/hunterdon-county-business-awards/
LOCATION:Copper Hill Golf and Country Club\, 100 Copper Hill Road\, Ringoes\, NJ\, 08551\, United States
CATEGORIES:Business Event
END:VEVENT
BEGIN:VEVENT
DTSTART;TZID=America/New_York:20240320T100000
DTEND;TZID=America/New_York:20240320T120000
DTSTAMP:20260424T145612
CREATED:20240221T034621Z
LAST-MODIFIED:20240221T034621Z
UID:3286-1710928800-1710936000@thegrwdb.org
SUMMARY:WIC/Senior Farmers Market Nutrition Program Webinar
DESCRIPTION:Are you a grower with less than five acres? And are you interested in accepted WIC and Senior Farmers Market Nutrition Program (FMNP) vouchers? \nGet information for the 2024 season by joining an online webinar from 10 a.m. to 12 p.m. Wednesday\, March 20. \nRegister by using the QR code in this flyer or by going to https://go.rutgers.edu/aowkwyOw.
URL:https://thegrwdb.org/event/wic-senior-farmers-market-nutrition-program-webinar/
LOCATION:Virtual Event
CATEGORIES:Business Event
END:VEVENT
END:VCALENDAR