BEGIN:VCALENDAR
VERSION:2.0
PRODID:-//Greater Raritan - ECPv6.15.20//NONSGML v1.0//EN
CALSCALE:GREGORIAN
METHOD:PUBLISH
X-ORIGINAL-URL:https://thegrwdb.org
X-WR-CALDESC:Events for Greater Raritan
REFRESH-INTERVAL;VALUE=DURATION:PT1H
X-Robots-Tag:noindex
X-PUBLISHED-TTL:PT1H
BEGIN:VTIMEZONE
TZID:America/New_York
BEGIN:DAYLIGHT
TZOFFSETFROM:-0500
TZOFFSETTO:-0400
TZNAME:EDT
DTSTART:20250309T070000
END:DAYLIGHT
BEGIN:STANDARD
TZOFFSETFROM:-0400
TZOFFSETTO:-0500
TZNAME:EST
DTSTART:20251102T060000
END:STANDARD
BEGIN:DAYLIGHT
TZOFFSETFROM:-0500
TZOFFSETTO:-0400
TZNAME:EDT
DTSTART:20260308T070000
END:DAYLIGHT
BEGIN:STANDARD
TZOFFSETFROM:-0400
TZOFFSETTO:-0500
TZNAME:EST
DTSTART:20261101T060000
END:STANDARD
BEGIN:DAYLIGHT
TZOFFSETFROM:-0500
TZOFFSETTO:-0400
TZNAME:EDT
DTSTART:20270314T070000
END:DAYLIGHT
BEGIN:STANDARD
TZOFFSETFROM:-0400
TZOFFSETTO:-0500
TZNAME:EST
DTSTART:20271107T060000
END:STANDARD
END:VTIMEZONE
BEGIN:VEVENT
DTSTART;TZID=America/New_York:20260409T120000
DTEND;TZID=America/New_York:20260409T133000
DTSTAMP:20260422T162819
CREATED:20260403T011209Z
LAST-MODIFIED:20260403T011209Z
UID:3253-1775736000-1775741400@thegrwdb.org
SUMMARY:GRWDB Board meeting – virtually and in-person
DESCRIPTION:A quarterly GRWDB Board Meeting will be conducted from 12 to 1:30 p.m. Thursday\, April 9\, 2026; attendees may join via GoToMeeting or in person in the third-floor conference room at 27 Warren St.\, Somerville.\n\n\n\n\n\n\n\n\n\n\nThe meeting will include a presentation about the United for Alice At Work program\, a presentation about a new youth outreach initiative\, and presentations on policy updates\, finances and upcoming programs\, including information from the One-Stop Operator\, a discussion about youth services and more. \n\n\n\n\n\n\n\nAll GRWDB Board and Committee meetings are open to the public. For questions\, contact GRWDB Director Paul Grzella at 908-541-5790\, or at info@thegrwdb.org.\n\n\n\n\n\n\n\n\nPlease join the meeting from your computer\, tablet or smartphone.\nhttps://meet.goto.com/676884773 \nYou can also dial in using your phone.\nUnited States: +1 (872) 240-3212; Access Code: 676-884-773 \nMeeting agendas can be found here on the GRWDB website. All are welcomed.
URL:https://thegrwdb.org/event/grwdb-board-meeting-virtually-and-in-person/
LOCATION:Virtual Meeting
CATEGORIES:Board Meeting
END:VEVENT
END:VCALENDAR