BEGIN:VCALENDAR
VERSION:2.0
PRODID:-//Greater Raritan - ECPv6.15.20//NONSGML v1.0//EN
CALSCALE:GREGORIAN
METHOD:PUBLISH
X-WR-CALNAME:Greater Raritan
X-ORIGINAL-URL:https://thegrwdb.org
X-WR-CALDESC:Events for Greater Raritan
REFRESH-INTERVAL;VALUE=DURATION:PT1H
X-Robots-Tag:noindex
X-PUBLISHED-TTL:PT1H
BEGIN:VTIMEZONE
TZID:America/New_York
BEGIN:DAYLIGHT
TZOFFSETFROM:-0500
TZOFFSETTO:-0400
TZNAME:EDT
DTSTART:20240310T070000
END:DAYLIGHT
BEGIN:STANDARD
TZOFFSETFROM:-0400
TZOFFSETTO:-0500
TZNAME:EST
DTSTART:20241103T060000
END:STANDARD
BEGIN:DAYLIGHT
TZOFFSETFROM:-0500
TZOFFSETTO:-0400
TZNAME:EDT
DTSTART:20250309T070000
END:DAYLIGHT
BEGIN:STANDARD
TZOFFSETFROM:-0400
TZOFFSETTO:-0500
TZNAME:EST
DTSTART:20251102T060000
END:STANDARD
BEGIN:DAYLIGHT
TZOFFSETFROM:-0500
TZOFFSETTO:-0400
TZNAME:EDT
DTSTART:20260308T070000
END:DAYLIGHT
BEGIN:STANDARD
TZOFFSETFROM:-0400
TZOFFSETTO:-0500
TZNAME:EST
DTSTART:20261101T060000
END:STANDARD
END:VTIMEZONE
BEGIN:VEVENT
DTSTART;TZID=America/New_York:20250626T120000
DTEND;TZID=America/New_York:20250626T133000
DTSTAMP:20260423T080311
CREATED:20250621T003732Z
LAST-MODIFIED:20250621T003732Z
UID:3696-1750939200-1750944600@thegrwdb.org
SUMMARY:GRWDB Board Meeting – virtually and in person
DESCRIPTION:A quarterly GRWDB Board Meeting will be conducted from 12 to 1:30 p.m. Thursday\, June 26\, 2025; attendees may join via GoToMeeting or in person in the second-floor conference room at 27 Warren St.\, Somerville.\n\n\n\n\n\n\nThe meeting will include presentations on the 2025 Program Year budget\, updates on several state reports about GRWDB programs\, an update by One-Stop Operator on a new initiative and updates on GRWDB programs.\n\n\n\nAll GRWDB Board and Committee meetings are open to the public. For questions\, contact GRWDB Director Paul Grzella at 908-541-5790\, or at grzella@co.somerset.nj.us.\n\n\n\n\n\n\n\n\nPlease join the meeting from your computer\, tablet or smartphone.\nhttps://meet.goto.com/746553157 \nYou can also dial in using your phone.\nUnited States: +1 (571) 317-3122; Access Code: 746-553-157 \nMeeting agendas can be found here on the GRWDB website. All are welcomed.
URL:https://thegrwdb.org/event/grwdb-board-meeting-virtually-and-in-person-2/
LOCATION:In-person at Somerset County Human Services building or via GoToMeeting\, 27 Warren St.\, second-floor conference room\, Somerville\, NJ\, 08876\, United States
CATEGORIES:Board Meeting
END:VEVENT
END:VCALENDAR