BEGIN:VCALENDAR
VERSION:2.0
PRODID:-//Greater Raritan - ECPv6.15.20//NONSGML v1.0//EN
CALSCALE:GREGORIAN
METHOD:PUBLISH
X-ORIGINAL-URL:https://thegrwdb.org
X-WR-CALDESC:Events for Greater Raritan
REFRESH-INTERVAL;VALUE=DURATION:PT1H
X-Robots-Tag:noindex
X-PUBLISHED-TTL:PT1H
BEGIN:VTIMEZONE
TZID:America/New_York
BEGIN:DAYLIGHT
TZOFFSETFROM:-0500
TZOFFSETTO:-0400
TZNAME:EDT
DTSTART:20240310T070000
END:DAYLIGHT
BEGIN:STANDARD
TZOFFSETFROM:-0400
TZOFFSETTO:-0500
TZNAME:EST
DTSTART:20241103T060000
END:STANDARD
BEGIN:DAYLIGHT
TZOFFSETFROM:-0500
TZOFFSETTO:-0400
TZNAME:EDT
DTSTART:20250309T070000
END:DAYLIGHT
BEGIN:STANDARD
TZOFFSETFROM:-0400
TZOFFSETTO:-0500
TZNAME:EST
DTSTART:20251102T060000
END:STANDARD
BEGIN:DAYLIGHT
TZOFFSETFROM:-0500
TZOFFSETTO:-0400
TZNAME:EDT
DTSTART:20260308T070000
END:DAYLIGHT
BEGIN:STANDARD
TZOFFSETFROM:-0400
TZOFFSETTO:-0500
TZNAME:EST
DTSTART:20261101T060000
END:STANDARD
END:VTIMEZONE
BEGIN:VEVENT
DTSTART;TZID=America/New_York:20250403T113000
DTEND;TZID=America/New_York:20250403T123000
DTSTAMP:20260423T112722
CREATED:20250329T024424Z
LAST-MODIFIED:20250329T024424Z
UID:3625-1743679800-1743683400@thegrwdb.org
SUMMARY:GRWDB Board meeting followed by Board Retreat
DESCRIPTION:A quarterly GRWDB Board Meeting will be conducted at 11:30 a.m. Thursday\, April 3\, 2025\, in the second-floor conference room at 27 Warren St.\, Somerville.\n\n\n\n\n\nThe meeting will include a presentation by a HESAA representative; review and discussion of GRWDB local monitoring reports; a review of state meetings\, monitoring and audit efforts; and presentations by the One-Stop Operator GRWDB staff about ongoing programs.  \n\n\nAll GRWDB Board and Committee meetings are open to the public\, and the agenda can be found on the Events – Meeting Package tab of the website.\n\nUpon adjournment at 12:30 p.m.\, board members and staff will participate in a Board Retreat focusing on a number of topics\, including an overview of labor market statistics; a review of the Local Area’s organization chart; a review of roles and responsibilities of board staff and staff contingency plans and protocols; succession planning for board staff and board members; training for board members; and funding. The retreat\, for board members only\, will be a time for discussion and no votes will be taken\, and the retreat will end at 2 p.m.\n\nFor questions\, contact GRWDB Director Paul Grzella at 908-541-5790\, or at grzella@co.somerset.nj.us.
URL:https://thegrwdb.org/event/grwdb-board-meeting-followed-by-board-retreat/
LOCATION:27 Warren St\, Somerville\, NJ 08876\, 27 Warren St.\, Somerville\, NJ\, 08876\, United States
CATEGORIES:Board Meeting
END:VEVENT
END:VCALENDAR