BEGIN:VCALENDAR
VERSION:2.0
PRODID:-//Greater Raritan - ECPv6.15.20//NONSGML v1.0//EN
CALSCALE:GREGORIAN
METHOD:PUBLISH
X-WR-CALNAME:Greater Raritan
X-ORIGINAL-URL:https://thegrwdb.org
X-WR-CALDESC:Events for Greater Raritan
REFRESH-INTERVAL;VALUE=DURATION:PT1H
X-Robots-Tag:noindex
X-PUBLISHED-TTL:PT1H
BEGIN:VTIMEZONE
TZID:America/New_York
BEGIN:DAYLIGHT
TZOFFSETFROM:-0500
TZOFFSETTO:-0400
TZNAME:EDT
DTSTART:20230312T070000
END:DAYLIGHT
BEGIN:STANDARD
TZOFFSETFROM:-0400
TZOFFSETTO:-0500
TZNAME:EST
DTSTART:20231105T060000
END:STANDARD
BEGIN:DAYLIGHT
TZOFFSETFROM:-0500
TZOFFSETTO:-0400
TZNAME:EDT
DTSTART:20240310T070000
END:DAYLIGHT
BEGIN:STANDARD
TZOFFSETFROM:-0400
TZOFFSETTO:-0500
TZNAME:EST
DTSTART:20241103T060000
END:STANDARD
BEGIN:DAYLIGHT
TZOFFSETFROM:-0500
TZOFFSETTO:-0400
TZNAME:EDT
DTSTART:20250309T070000
END:DAYLIGHT
BEGIN:STANDARD
TZOFFSETFROM:-0400
TZOFFSETTO:-0500
TZNAME:EST
DTSTART:20251102T060000
END:STANDARD
END:VTIMEZONE
BEGIN:VEVENT
DTSTART;TZID=America/New_York:20240627T120000
DTEND;TZID=America/New_York:20240627T133000
DTSTAMP:20260424T045501
CREATED:20240620T001408Z
LAST-MODIFIED:20240620T001408Z
UID:3379-1719489600-1719495000@thegrwdb.org
SUMMARY:GRWDB Board meeting – in-person and GoToMeeting
DESCRIPTION:A quarterly GRWDB Board Meeting will be conducted at 12 p.m. Thursday\, June 27\, 2024; attendees may join in person in the first-floor conference room at 27 Warren St.\, Somerville\, or via GoToMeeting.\n\nThe meeting will include presentations by the One-Stop Operator and by a state labor market information specialist on local data and job trends; a review of the new program year budget beginning July 1\, 2024; a review of several board policies; updates on ongoing and new GRWDB programs; and a look at other state-mandated policy and program changes.\n\nFor questions\, contact GRWDB Director Paul Grzella at 908-541-5790\, or at grzella@co.somerset.nj.us.\n\n\n\n\n\nGRWDB quarterly Board meeting\nJun 27\, 2024\, 12:00 – 1:30 PM \nPlease join the meeting from your computer\, tablet or smartphone by going to https://meet.goto.com/554914141. \nYou can also dial in using your phone: +1 (872) 240-3412; Access Code: 554-914-141. \nMeeting agendas can be found here on the GRWDB website. All are welcomed. \n 
URL:https://thegrwdb.org/event/grwdb-board-meeting-in-person-and-gotomeeting/
LOCATION:27 Warren St\, first floor\, Somerville\, NJ 08876\, 27 Warren St.\, first floor\, Somerville\, NJ\, 08876\, United States
CATEGORIES:Board Meeting
END:VEVENT
END:VCALENDAR