BEGIN:VCALENDAR
VERSION:2.0
PRODID:-//Greater Raritan - ECPv6.15.20//NONSGML v1.0//EN
CALSCALE:GREGORIAN
METHOD:PUBLISH
X-ORIGINAL-URL:https://thegrwdb.org
X-WR-CALDESC:Events for Greater Raritan
REFRESH-INTERVAL;VALUE=DURATION:PT1H
X-Robots-Tag:noindex
X-PUBLISHED-TTL:PT1H
BEGIN:VTIMEZONE
TZID:America/New_York
BEGIN:DAYLIGHT
TZOFFSETFROM:-0500
TZOFFSETTO:-0400
TZNAME:EDT
DTSTART:20230312T070000
END:DAYLIGHT
BEGIN:STANDARD
TZOFFSETFROM:-0400
TZOFFSETTO:-0500
TZNAME:EST
DTSTART:20231105T060000
END:STANDARD
BEGIN:DAYLIGHT
TZOFFSETFROM:-0500
TZOFFSETTO:-0400
TZNAME:EDT
DTSTART:20240310T070000
END:DAYLIGHT
BEGIN:STANDARD
TZOFFSETFROM:-0400
TZOFFSETTO:-0500
TZNAME:EST
DTSTART:20241103T060000
END:STANDARD
BEGIN:DAYLIGHT
TZOFFSETFROM:-0500
TZOFFSETTO:-0400
TZNAME:EDT
DTSTART:20250309T070000
END:DAYLIGHT
BEGIN:STANDARD
TZOFFSETFROM:-0400
TZOFFSETTO:-0500
TZNAME:EST
DTSTART:20251102T060000
END:STANDARD
END:VTIMEZONE
BEGIN:VEVENT
DTSTART;TZID=America/New_York:20240508T090000
DTEND;TZID=America/New_York:20240508T150000
DTSTAMP:20260424T095408
CREATED:20240420T000100Z
LAST-MODIFIED:20240420T000100Z
UID:3341-1715158800-1715180400@thegrwdb.org
SUMMARY:Edison Job Corps Open House
DESCRIPTION:Join Edison Job Corps and its apprenticeship sponsors are hosting an Open House on Wednesday\, May 8\, from 9 a.m. to 3 p.m. at the Edison Job Corps Center\, 500 Plainfield Ave.\, Edison. \nThis event highlighting Youth Registered Apprenticeship programs will include a special tour of the facility\, interactive workshops\, and presentations from industry\, workforce development experts\, and government officials. This event is part of the inaugural nationwide Youth Apprenticeship Week celebration. \nEmployer and community partners will be on hand to meet with students and representatives from local high schools and vocational training schools to  learn more about the opportunities in apprenticeships for youth. \nThe event will include trade fair with information on training and opportunities in different unions for apprenticeships. Participating Trades include carpentry\, Bricklaying\, HVAC\, Auto\, and Electrical Wiring and Building Construction Technology. Culinary trades will prepare and serve lunch. \nRegistration is available at https://forms.gle/GeHjnUGuULCZZpnC9. \n 
URL:https://thegrwdb.org/event/edison-job-corps-open-house/
LOCATION:Edison Job Corps Center\, 500 Plainfield Ave.\, Edison\, NJ\, 08817\, United States
CATEGORIES:Apprenticeship Event
END:VEVENT
BEGIN:VEVENT
DTSTART;TZID=America/New_York:20240530T080000
DTEND;TZID=America/New_York:20240530T160000
DTSTAMP:20260424T095408
CREATED:20240508T011647Z
LAST-MODIFIED:20240508T011647Z
UID:3354-1717056000-1717084800@thegrwdb.org
SUMMARY:Eastern Atlantic States Carpenters Technical Center Annual Open House
DESCRIPTION:The Easter Atlantic States Carpenters Technical Center Annual Open House and Skills Competition will be conducted from 8 a.m. to 4 p.m. Thursday\, May 30\, at the EAS’ Technical Center\, 75 Fieldcrest Ave.\, Edison. \nThis free event\, open to all\, includes carpenter apprentices in a skills showdown\, activities\, vendor exhibits\, and food\, while allowing attendees the opportunity to explore the Eastern Atlantic States Regional Council of Carpenters’ apprenticeship program. Attendees will connect with industry professionals\, workforce development partners\, elected officials and more. \nGo here to RSVP
URL:https://thegrwdb.org/event/eastern-atlantic-states-carpenters-technical-center-annual-open-house/
LOCATION:Eastern Atlantic States Carpenters Technical Center\, 75 Fieldcrest Ave.\, Edison\, NJ\, 08837\, United States
CATEGORIES:Apprenticeship Event
END:VEVENT
END:VCALENDAR