BEGIN:VCALENDAR
VERSION:2.0
PRODID:-//Greater Raritan - ECPv6.15.20//NONSGML v1.0//EN
CALSCALE:GREGORIAN
METHOD:PUBLISH
X-ORIGINAL-URL:https://thegrwdb.org
X-WR-CALDESC:Events for Greater Raritan
REFRESH-INTERVAL;VALUE=DURATION:PT1H
X-Robots-Tag:noindex
X-PUBLISHED-TTL:PT1H
BEGIN:VTIMEZONE
TZID:America/New_York
BEGIN:DAYLIGHT
TZOFFSETFROM:-0500
TZOFFSETTO:-0400
TZNAME:EDT
DTSTART:20250309T070000
END:DAYLIGHT
BEGIN:STANDARD
TZOFFSETFROM:-0400
TZOFFSETTO:-0500
TZNAME:EST
DTSTART:20251102T060000
END:STANDARD
BEGIN:DAYLIGHT
TZOFFSETFROM:-0500
TZOFFSETTO:-0400
TZNAME:EDT
DTSTART:20260308T070000
END:DAYLIGHT
BEGIN:STANDARD
TZOFFSETFROM:-0400
TZOFFSETTO:-0500
TZNAME:EST
DTSTART:20261101T060000
END:STANDARD
BEGIN:DAYLIGHT
TZOFFSETFROM:-0500
TZOFFSETTO:-0400
TZNAME:EDT
DTSTART:20270314T070000
END:DAYLIGHT
BEGIN:STANDARD
TZOFFSETFROM:-0400
TZOFFSETTO:-0500
TZNAME:EST
DTSTART:20271107T060000
END:STANDARD
END:VTIMEZONE
BEGIN:VEVENT
DTSTART;TZID=America/New_York:20260218T100000
DTEND;TZID=America/New_York:20260218T113000
DTSTAMP:20260422T162039
CREATED:20251209T202734Z
LAST-MODIFIED:20251209T202734Z
UID:3878-1771408800-1771414200@thegrwdb.org
SUMMARY:Jersey Job Club Workshop: Acing the Interview 2
DESCRIPTION:The Greater Raritan One-Stop Career Center in Somerville is hosting a series of Jersey Job Club Workshops in January and February. These workshops will be virtual\, through Zoom\, but a limited number of seats are available for in-person attendance at the One-Stop Career Center\, 75 Veterans Memorial Drive\, Somerville. \nThe partners in the Greater Raritan One-Stop Career Center have the expertise and knowledge to help job seekers have success. In Jersey Job Club workshops\, a Greater Raritan One-Stop Career Coach leads hour- to 90-minute-long discussions on topics aimed at assisting job seekers in Hunterdon and Somerset Counties. There is no charge to attend. \nDates and topics are: \n\nMonday\, January 5\, 10 to 11:30 a.m.: Resume Writing Workshop 1 – Top Notch Resume\nWednesday\, January 7\, 10 to 11:30 a.m.: Resume Writing Workshop 2 – Cover Letters and More\nFriday\, January 9\, 10 to 11:30 a.m.: Planning Your Job Search – Path to Employment\nMonday\, January 12\, 10 to 11:30 a.m.: Networking – Best (fastest) way to find a job\nWednesday\, January 14\, 10 to 11:30 a.m.: Acing the Interview 1 – Preparing for the Interview\nFriday\, January 16\, 10 to 11:30 a.m.: Acing the Interview 2 – Answering Interview Questions\nWednesday\, January 21\, 10 to 11:30 a.m.: Resume Writing Workshop 1 – Top Notch Resume\nFriday\, January 23\, 10 to 11:30 a.m.: Resume Writing Workshop 2 – Cover Letters and More\nMonday\, January 26\, 10 to 11:30 a.m.: Planning Your Job Search – Path to Employment\nWednesday\, January 28\, 10 to 11:30 a.m.: Networking – Best (fastest) way to find a job\nFriday\, January 30\, 10 to 11:30 a.m.: Acing the Interview 1 – Preparing for the Interview\nMonday\, February 2\, 10 to 11:30 a.m.: Acing the Interview 2 – Answering Interview Questions\nWednesday\, February 4\, 10 to 11:30 a.m.: Resume Writing Workshop 1 – Top Notch Resume\nFriday\, February 6\, 10 to 11:30 a.m.: Resume Writing Workshop 2 – Cover Letters and More\nMonday\, February 9\, 10 to 11:30 a.m.: Planning Your Job Search – Path to Employment\nWednesday\, February 11\, 10 to 11:30 a.m.: Networking – Best (fastest) way to find a job\nFriday\, February 13\, 10 to 11:30 a.m.: Acing the Interview 1 – Preparing for the Interview\nWednesday\, February 18\, 10 to 11:30 a.m.: Acing the Interview 2 – Answering Interview Questions\nFriday\, February 20\, 10 to 11:30 a.m.: Resume Writing Workshop 1 – Top Notch Resume\nMonday\, February 23\, 10 to 11:30 a.m.: Resume Writing Workshop 2 – Cover Letters and More\nWednesday\, February 25\, 10 to 11:30 a.m.: Planning Your Job Search – Path to Employment\nFriday\, February 27\, 10 to 11:30 a.m.: Networking – Best (fastest) way to find a job\n\nTo attend virtually or in person\, fill out an information/registration form. Once completed\, email it to shiela.gaa@dol.nj.gov by the Wednesday before the scheduled workshop\, or for more information or assistance\, call 908-704-3000.
URL:https://thegrwdb.org/event/jersey-job-club-workshop-acing-the-interview-2-3/
LOCATION:Greater Raritan One-Stop Career Center\, Somerville\, and virtual (hybrid event)\, 75 Veterans Memorial Drive\, Somerville\, NJ\, 08876\, United States
CATEGORIES:Workshops
END:VEVENT
BEGIN:VEVENT
DTSTART;TZID=America/New_York:20260218T110000
DTEND;TZID=America/New_York:20260218T120000
DTSTAMP:20260422T162039
CREATED:20260101T024657Z
LAST-MODIFIED:20260101T024657Z
UID:3892-1771412400-1771416000@thegrwdb.org
SUMMARY:Build Your Next Career Series with the Bernards Library: Introduction to GRWDB services
DESCRIPTION:The Greater Raritan Workforce Development Board\, serving Hunterdon and Somerset counties\, connects community members to a host of free local and national services designed to support job seekers and get them on a lifelong successful career pathway. \nLearn more during three\, one-hour virtual workshops for a Build Your Next Career: Job Resource Series. The days and topics are: \n\nFebruary 18\, 11 a.m.: Introduction to the GRWDB services and local programming.\nMarch 18\, 7 p.m.: National career services that can be used for any job search\nApril 22\, 11 a.m.: What your job search strategy is telling you!\n\nThis series is co-hosted by the Bernards Township Library and registration is required. To register\, go to the Events Calendar of www.bernardslibrary.org and click on any of the dates for the three-part series or call 908-204-3031\, Ext. 4. \nFor more information about the series and the GRWDB\, visit www.thegrwdb.org.
URL:https://thegrwdb.org/event/build-your-next-career-series-with-the-bernards-library-introduction-to-grwdb-services/
LOCATION:Virtual Event
CATEGORIES:Workshops
END:VEVENT
BEGIN:VEVENT
DTSTART;TZID=America/New_York:20260218T180000
DTEND;TZID=America/New_York:20260218T200000
DTSTAMP:20260422T162039
CREATED:20260129T031036Z
LAST-MODIFIED:20260129T031036Z
UID:3914-1771437600-1771444800@thegrwdb.org
SUMMARY:RVCC Adult Learners Information Sessions
DESCRIPTION:Adult learners ages 25 and older who are interested in starting college for the first time\, returning to finish a degree\, exploring a new career path\, seeking professional development\, or improving their English are invited to attend one of Raritan Valley Community College’s upcoming Adult Learning Information Sessions\, being conducted at the Branchburg-based college on the following upcoming Wednesdays: February 18 and March 18. \nEach date’s session\, running from 6 to 8 p.m.\, will be in the Atrium at the college. \nThe events will include information about academic and certificate programs\, applying to RVCC\, learning options and support services tailored for non-traditional students\, paying for college\, and navigating financial aid. \nVeterans also are encouraged to attend an Information Session to learn about how they can use their education benefits to enroll at RVCC. The Manager of International and Veteran Services will be available to answer prospective students’ questions. \nTo assist students juggling work\, family\, and other responsibilities\, RVCC offers 14-week (full-term)\, 12-week\, 10-week\, and 7-week (for some programs) semesters to provide learners of all ages with a more convenient academic schedule. Adult students may enroll in career training\, certificate\, or degree programs at RVCC. \nSome programs that may be of special interest to adult students include: \n\nAdvanced Manufacturing (includes OSHA 10 and NIMS certification)\nBusiness Administration – Associate of Science\nBusiness Management – Associate of Applied Science\nElectrocardiograph (ECG) Technician – Certificate\nEnglish as a Second Language\nFitness Specialist – Certificate\nMedical Assistant – Certificate\nNursing/RN – Associate of Applied Science\nOccupational Therapy Assistant – Associated of Applied Science\nParalegal Studies – Associate of Applied Science or Certificate\nSupply Chain Management – Associate of Science\, Associate of Applied Science\, or Certificate\nWelding – Certificate\n\nIn addition\, RVCC offers a number of online degrees and certificate programs. To learn more about online programs\, visit https://www.raritanval.edu/career-training/career-training-programs. \nTo register for an Information Session\, go to https://www.raritanval.edu/visit. For additional information\, email adultlearning@raritanval.edu or contact Michelle Amparbin\, Coordinator of the Adult Learning Experience\, at 908-526-1200\, ext. 8338. \nTo learn more\, visit https://www.raritanval.edu/admissions-information/adult-learners. \n 
URL:https://thegrwdb.org/event/rvcc-adult-learners-information-sessions/
LOCATION:Raritan Valley Community College Atrium\, Lamington Road\, Branchburg\, NJ\, 08876\, United States
CATEGORIES:College Event
END:VEVENT
END:VCALENDAR