BEGIN:VCALENDAR
VERSION:2.0
PRODID:-//Greater Raritan - ECPv6.15.20//NONSGML v1.0//EN
CALSCALE:GREGORIAN
METHOD:PUBLISH
X-ORIGINAL-URL:https://thegrwdb.org
X-WR-CALDESC:Events for Greater Raritan
REFRESH-INTERVAL;VALUE=DURATION:PT1H
X-Robots-Tag:noindex
X-PUBLISHED-TTL:PT1H
BEGIN:VTIMEZONE
TZID:America/New_York
BEGIN:DAYLIGHT
TZOFFSETFROM:-0500
TZOFFSETTO:-0400
TZNAME:EDT
DTSTART:20240310T070000
END:DAYLIGHT
BEGIN:STANDARD
TZOFFSETFROM:-0400
TZOFFSETTO:-0500
TZNAME:EST
DTSTART:20241103T060000
END:STANDARD
BEGIN:DAYLIGHT
TZOFFSETFROM:-0500
TZOFFSETTO:-0400
TZNAME:EDT
DTSTART:20250309T070000
END:DAYLIGHT
BEGIN:STANDARD
TZOFFSETFROM:-0400
TZOFFSETTO:-0500
TZNAME:EST
DTSTART:20251102T060000
END:STANDARD
BEGIN:DAYLIGHT
TZOFFSETFROM:-0500
TZOFFSETTO:-0400
TZNAME:EDT
DTSTART:20260308T070000
END:DAYLIGHT
BEGIN:STANDARD
TZOFFSETFROM:-0400
TZOFFSETTO:-0500
TZNAME:EST
DTSTART:20261101T060000
END:STANDARD
END:VTIMEZONE
BEGIN:VEVENT
DTSTART;TZID=America/New_York:20251204T090000
DTEND;TZID=America/New_York:20251204T130000
DTSTAMP:20260422T200420
CREATED:20250323T023445Z
LAST-MODIFIED:20250323T023445Z
UID:3621-1764838800-1764853200@thegrwdb.org
SUMMARY:Free Forklift Certificate Class at Greater Raritan One-Stop Career Center\, Somerville
DESCRIPTION:The Greater Raritan One-Stop Career Employment Services office at 75 Veterans Memorial Drive in Somerville offers a free forklift certificate class on the first Thursday of each month from 9 a.m. to 1 p.m. throughout the year. \nThe Powered Industrial Trucks (PIT) Certificate Class will enable successful participants to receive an operator’s permit from their employer upon passing a practical skills evaluation at their workplace. To take the course\, participants must have an office government ID (driver’s license\, passport\, etc.) The Greater Raritan One-Stop Career Center services residents of Hunterdon and Somerset counties. \nClasses in 2025 are on April 3\, May 1\, June 5\, July 3\, August 7\, September 4\, October 2\, November 6 and December 4. Participants are asked to arrive at 8:30 a.m. on the day of the class. \nClasses may fill up quickly. To register\, go to the One-Stop Career Center walk-in window and ring the bell\, or call 908-704-3000. \n 
URL:https://thegrwdb.org/event/free-forklift-certificate-class-at-greater-raritan-one-stop-career-center-somerville-9/
LOCATION:Somerville One-Stop Career Center\, 75 Veterans Memorial Drive East\, Somerville\, NJ\, 08876\, United States
CATEGORIES:Class
END:VEVENT
BEGIN:VEVENT
DTSTART;TZID=America/New_York:20251204T143000
DTEND;TZID=America/New_York:20251204T151500
DTSTAMP:20260422T200420
CREATED:20251126T015337Z
LAST-MODIFIED:20251126T015337Z
UID:3847-1764858600-1764861300@thegrwdb.org
SUMMARY:GRWDB Youth Committee meeting
DESCRIPTION:Through policy\, oversight\, and planning\, the GRWDB ensures that workforce training and education investments are responsive to and meet the needs of employers and jobseekers. As part of this work\, the GRWDB is responsible for maintaining committees to help inform decision-making around services and priorities for targeted populations. \nOne of those is the GRWDB’s Youth Committee\, which works to coordinate and integrate local youth services with current partners while seeking ways to expand and develop local youth services. \nMeetings are open to the public. This general-topic meeting will be virtual; interested individuals also may go to the GRWDB office on the third floor of 27 Warren St.\, Somerville. \nGRWDB Youth Committee\nDecember 4\, 2025\, 2:30 – 3:15 PM \nPlease join the meeting from your computer\, tablet or smartphone.\nhttps://meet.goto.com/314540173 \nYou can also dial in using your phone: +1 (408) 650-3123; Access Code: 314-540-173. \nNewcomers\, please RSVP to info@thegrwdb.org for details.
URL:https://thegrwdb.org/event/grwdb-youth-committee-meeting-5/
LOCATION:Virtual Meeting
CATEGORIES:Committee Meeting
END:VEVENT
BEGIN:VEVENT
DTSTART;TZID=America/New_York:20251204T170000
DTEND;TZID=America/New_York:20251204T183000
DTSTAMP:20260422T200420
CREATED:20251031T024027Z
LAST-MODIFIED:20251031T024027Z
UID:3807-1764867600-1764873000@thegrwdb.org
SUMMARY:Project Search Information Session for Parents\, at RWJUH Somerset
DESCRIPTION:Project Search\, which offers an immersion-based program at Robert Wood Johnson University Hospital Somerset for students with disabilities\, is hosting two open houses in December. Both sessions will be conducted at the hospital\, 120 Rehill Ave.\, Somerville. \nThe Thursday\, December 4\, session at 5:30 p.m. is for parents. \nThe Thursday\, December 11\, session from 10 to 11 a.m. is for school staff\, including CST\, Transition staff and administrators. \nRegistration is required to attend either event. To register\, email Sarah Cosenza at scosenza@center.school or call 908-704-2731. Cosenza also can provide more information about the Project Search program. \nThis program is supported by Easterseals NJ\, the New Jersey Division of Vocational Rehabilitation Services and New Jersey Human Services Division of Developmental Disabilities. \n 
URL:https://thegrwdb.org/event/project-search-information-session-for-parents-at-rwjuh-somerset/
LOCATION:Robert Wood Johnson University Hospital Somerset\, 110 Rehill Ave\, Somerville\, 08876\, United States
CATEGORIES:Community Event
END:VEVENT
END:VCALENDAR